BEGIN:VCALENDAR
VERSION:2.0
PRODID:www.kmvv.be
BEGIN:VEVENT
UID:69e9e0ba3e4e5
DTSTART:20250901T170000Z
SEQUENCE:0
TRANSP:OPAQUE
LOCATION:Rollegem
SUMMARY:Wedstrijd 7 KMVV
CLASS:PUBLIC
DESCRIPTION:Comp wedstrijd 7: De Labberleute - Café Astor
X-ALT-DESC;FMTTYPE=text/html:Comp wedstrijd 7: <b>De Labberleute - Café As
 tor</b> te Rollegem
X-MICROSOFT-CDO-BUSYSTATUS:FREE
X-MICROSOFT-CDO-INTENDEDSTATUS:FREE
DTSTAMP:20260423T090458Z
BEGIN:VALARM
TRIGGER:-P1D
ACTION:DISPLAY
DESCRIPTION:Comp wedstrijd 7: De Labberleute - Café Astor
END:VALARM
END:VEVENT
BEGIN:VEVENT
UID:69e9e0ba3e84f
DTSTART:20250908T180000Z
SEQUENCE:0
TRANSP:OPAQUE
LOCATION:Rollegem
SUMMARY:Wedstrijd 27 KMVV
CLASS:PUBLIC
DESCRIPTION:Comp wedstrijd 27: De Labberleute - La galaxie
X-ALT-DESC;FMTTYPE=text/html:Comp wedstrijd 27: <b>De Labberleute - La gala
 xie</b> te Rollegem
X-MICROSOFT-CDO-BUSYSTATUS:FREE
X-MICROSOFT-CDO-INTENDEDSTATUS:FREE
DTSTAMP:20260423T090458Z
BEGIN:VALARM
TRIGGER:-P1D
ACTION:DISPLAY
DESCRIPTION:Comp wedstrijd 27: De Labberleute - La galaxie
END:VALARM
END:VEVENT
BEGIN:VEVENT
UID:69e9e0ba3e872
DTSTART:20250922T190000Z
SEQUENCE:0
TRANSP:OPAQUE
LOCATION:Rollegem
SUMMARY:Wedstrijd 68 KMVV
CLASS:PUBLIC
DESCRIPTION:Comp wedstrijd 68: MVC De Max - De Labberleute
X-ALT-DESC;FMTTYPE=text/html:Comp wedstrijd 68: <b>MVC De Max - De Labberle
 ute</b> te Rollegem
X-MICROSOFT-CDO-BUSYSTATUS:FREE
X-MICROSOFT-CDO-INTENDEDSTATUS:FREE
DTSTAMP:20260423T090458Z
BEGIN:VALARM
TRIGGER:-P1D
ACTION:DISPLAY
DESCRIPTION:Comp wedstrijd 68: MVC De Max - De Labberleute
END:VALARM
END:VEVENT
BEGIN:VEVENT
UID:69e9e0ba3e889
DTSTART:20250929T170000Z
SEQUENCE:0
TRANSP:OPAQUE
LOCATION:Lagae
SUMMARY:Wedstrijd 83 KMVV
CLASS:PUBLIC
DESCRIPTION:Comp wedstrijd 83: De Labberleute - Mex United
X-ALT-DESC;FMTTYPE=text/html:Comp wedstrijd 83: <b>De Labberleute - Mex Uni
 ted</b> te Lagae
X-MICROSOFT-CDO-BUSYSTATUS:FREE
X-MICROSOFT-CDO-INTENDEDSTATUS:FREE
DTSTAMP:20260423T090458Z
BEGIN:VALARM
TRIGGER:-P1D
ACTION:DISPLAY
DESCRIPTION:Comp wedstrijd 83: De Labberleute - Mex United
END:VALARM
END:VEVENT
BEGIN:VEVENT
UID:69e9e0ba3e8a7
DTSTART:20251006T180000Z
SEQUENCE:0
TRANSP:OPAQUE
LOCATION:Rollegem
SUMMARY:Wedstrijd 107 KMVV
CLASS:PUBLIC
DESCRIPTION:Comp wedstrijd 107: Versa Vervacke - De Labberleute
X-ALT-DESC;FMTTYPE=text/html:Comp wedstrijd 107: <b>Versa Vervacke - De Lab
 berleute</b> te Rollegem
X-MICROSOFT-CDO-BUSYSTATUS:FREE
X-MICROSOFT-CDO-INTENDEDSTATUS:FREE
DTSTAMP:20260423T090458Z
BEGIN:VALARM
TRIGGER:-P1D
ACTION:DISPLAY
DESCRIPTION:Comp wedstrijd 107: Versa Vervacke - De Labberleute
END:VALARM
END:VEVENT
BEGIN:VEVENT
UID:69e9e0ba3e8c2
DTSTART:20251024T160000Z
SEQUENCE:0
TRANSP:OPAQUE
LOCATION:Rollegem
SUMMARY:Wedstrijd 159 KMVV
CLASS:PUBLIC
DESCRIPTION:Comp wedstrijd 159: De Labberleute - Dumo's coppes
X-ALT-DESC;FMTTYPE=text/html:Comp wedstrijd 159: <b>De Labberleute - Dumo's
  coppes</b> te Rollegem
X-MICROSOFT-CDO-BUSYSTATUS:FREE
X-MICROSOFT-CDO-INTENDEDSTATUS:FREE
DTSTAMP:20260423T090458Z
BEGIN:VALARM
TRIGGER:-P1D
ACTION:DISPLAY
DESCRIPTION:Comp wedstrijd 159: De Labberleute - Dumo's coppes
END:VALARM
END:VEVENT
BEGIN:VEVENT
UID:69e9e0ba3e8d7
DTSTART:20251103T190000Z
SEQUENCE:0
TRANSP:OPAQUE
LOCATION:Rollegem
SUMMARY:Wedstrijd 187 KMVV
CLASS:PUBLIC
DESCRIPTION:Comp wedstrijd 187: Davabo-Smooth Surface - De Labberleute
X-ALT-DESC;FMTTYPE=text/html:Comp wedstrijd 187: <b>Davabo-Smooth Surface -
  De Labberleute</b> te Rollegem
X-MICROSOFT-CDO-BUSYSTATUS:FREE
X-MICROSOFT-CDO-INTENDEDSTATUS:FREE
DTSTAMP:20260423T090458Z
BEGIN:VALARM
TRIGGER:-P1D
ACTION:DISPLAY
DESCRIPTION:Comp wedstrijd 187: Davabo-Smooth Surface - De Labberleute
END:VALARM
END:VEVENT
BEGIN:VEVENT
UID:69e9e0ba3e8eb
DTSTART:20251117T200000Z
SEQUENCE:0
TRANSP:OPAQUE
LOCATION:Rollegem
SUMMARY:Wedstrijd 228 KMVV
CLASS:PUBLIC
DESCRIPTION:Comp wedstrijd 228: De Labberleute - Cafe 1917
X-ALT-DESC;FMTTYPE=text/html:Comp wedstrijd 228: <b>De Labberleute - Cafe 1
 917</b> te Rollegem
X-MICROSOFT-CDO-BUSYSTATUS:FREE
X-MICROSOFT-CDO-INTENDEDSTATUS:FREE
DTSTAMP:20260423T090458Z
BEGIN:VALARM
TRIGGER:-P1D
ACTION:DISPLAY
DESCRIPTION:Comp wedstrijd 228: De Labberleute - Cafe 1917
END:VALARM
END:VEVENT
BEGIN:VEVENT
UID:69e9e0ba3e8fe
DTSTART:20251124T180000Z
SEQUENCE:0
TRANSP:OPAQUE
LOCATION:Rollegem
SUMMARY:Wedstrijd 247 KMVV
CLASS:PUBLIC
DESCRIPTION:Comp wedstrijd 247: Westerstrand - De Labberleute
X-ALT-DESC;FMTTYPE=text/html:Comp wedstrijd 247: <b>Westerstrand - De Labbe
 rleute</b> te Rollegem
X-MICROSOFT-CDO-BUSYSTATUS:FREE
X-MICROSOFT-CDO-INTENDEDSTATUS:FREE
DTSTAMP:20260423T090458Z
BEGIN:VALARM
TRIGGER:-P1D
ACTION:DISPLAY
DESCRIPTION:Comp wedstrijd 247: Westerstrand - De Labberleute
END:VALARM
END:VEVENT
BEGIN:VEVENT
UID:69e9e0ba3e912
DTSTART:20251210T200000Z
SEQUENCE:0
TRANSP:OPAQUE
LOCATION:Rollegem
SUMMARY:Wedstrijd 292 KMVV
CLASS:PUBLIC
DESCRIPTION:Comp wedstrijd 292: De Labberleute - BB FC
X-ALT-DESC;FMTTYPE=text/html:Comp wedstrijd 292: <b>De Labberleute - BB FC<
 /b> te Rollegem
X-MICROSOFT-CDO-BUSYSTATUS:FREE
X-MICROSOFT-CDO-INTENDEDSTATUS:FREE
DTSTAMP:20260423T090458Z
BEGIN:VALARM
TRIGGER:-P1D
ACTION:DISPLAY
DESCRIPTION:Comp wedstrijd 292: De Labberleute - BB FC
END:VALARM
END:VEVENT
BEGIN:VEVENT
UID:69e9e0ba3e94f
DTSTART:20251222T200000Z
SEQUENCE:0
TRANSP:OPAQUE
LOCATION:Lagae
SUMMARY:Wedstrijd 325 KMVV
CLASS:PUBLIC
DESCRIPTION:Comp wedstrijd 325: De Labberleute - T-Team
X-ALT-DESC;FMTTYPE=text/html:Comp wedstrijd 325: <b>De Labberleute - T-Team
 </b> te Lagae
X-MICROSOFT-CDO-BUSYSTATUS:FREE
X-MICROSOFT-CDO-INTENDEDSTATUS:FREE
DTSTAMP:20260423T090458Z
BEGIN:VALARM
TRIGGER:-P1D
ACTION:DISPLAY
DESCRIPTION:Comp wedstrijd 325: De Labberleute - T-Team
END:VALARM
END:VEVENT
BEGIN:VEVENT
UID:69e9e0ba3e964
DTSTART:20251229T200000Z
SEQUENCE:0
TRANSP:OPAQUE
LOCATION:Lagae
SUMMARY:Wedstrijd 334 KMVV
CLASS:PUBLIC
DESCRIPTION:Comp wedstrijd 334: Santy Pils Marke - De Labberleute
X-ALT-DESC;FMTTYPE=text/html:Comp wedstrijd 334: <b>Santy Pils Marke - De L
 abberleute</b> te Lagae
X-MICROSOFT-CDO-BUSYSTATUS:FREE
X-MICROSOFT-CDO-INTENDEDSTATUS:FREE
DTSTAMP:20260423T090458Z
BEGIN:VALARM
TRIGGER:-P1D
ACTION:DISPLAY
DESCRIPTION:Comp wedstrijd 334: Santy Pils Marke - De Labberleute
END:VALARM
END:VEVENT
BEGIN:VEVENT
UID:69e9e0ba3e979
DTSTART:20260119T193000Z
SEQUENCE:0
TRANSP:OPAQUE
LOCATION:Bissegem
SUMMARY:Wedstrijd 379 KMVV
CLASS:PUBLIC
DESCRIPTION:Comp wedstrijd 379: FuTurAc - De Labberleute
X-ALT-DESC;FMTTYPE=text/html:Comp wedstrijd 379: <b>FuTurAc - De Labberleut
 e</b> te Bissegem
X-MICROSOFT-CDO-BUSYSTATUS:FREE
X-MICROSOFT-CDO-INTENDEDSTATUS:FREE
DTSTAMP:20260423T090458Z
BEGIN:VALARM
TRIGGER:-P1D
ACTION:DISPLAY
DESCRIPTION:Comp wedstrijd 379: FuTurAc - De Labberleute
END:VALARM
END:VEVENT
BEGIN:VEVENT
UID:69e9e0ba3e98c
DTSTART:20260223T170000Z
SEQUENCE:0
TRANSP:OPAQUE
LOCATION:Rollegem
SUMMARY:Wedstrijd 431 KMVV
CLASS:PUBLIC
DESCRIPTION:Comp wedstrijd 431: Café Astor - De Labberleute
X-ALT-DESC;FMTTYPE=text/html:Comp wedstrijd 431: <b>Café Astor - De Labber
 leute</b> te Rollegem
X-MICROSOFT-CDO-BUSYSTATUS:FREE
X-MICROSOFT-CDO-INTENDEDSTATUS:FREE
DTSTAMP:20260423T090458Z
BEGIN:VALARM
TRIGGER:-P1D
ACTION:DISPLAY
DESCRIPTION:Comp wedstrijd 431: Café Astor - De Labberleute
END:VALARM
END:VEVENT
BEGIN:VEVENT
UID:69e9e0ba3e9a0
DTSTART:20260304T200000Z
SEQUENCE:0
TRANSP:OPAQUE
LOCATION:Rollegem
SUMMARY:Wedstrijd 458 KMVV
CLASS:PUBLIC
DESCRIPTION:Comp wedstrijd 458: La galaxie - De Labberleute
X-ALT-DESC;FMTTYPE=text/html:Comp wedstrijd 458: <b>La galaxie - De Labberl
 eute</b> te Rollegem
X-MICROSOFT-CDO-BUSYSTATUS:FREE
X-MICROSOFT-CDO-INTENDEDSTATUS:FREE
DTSTAMP:20260423T090458Z
BEGIN:VALARM
TRIGGER:-P1D
ACTION:DISPLAY
DESCRIPTION:Comp wedstrijd 458: La galaxie - De Labberleute
END:VALARM
END:VEVENT
BEGIN:VEVENT
UID:69e9e0ba3e9b2
DTSTART:20260309T190000Z
SEQUENCE:0
TRANSP:OPAQUE
LOCATION:Lagae
SUMMARY:Wedstrijd 469 KMVV
CLASS:PUBLIC
DESCRIPTION:Comp wedstrijd 469: De Labberleute - MVC De Max
X-ALT-DESC;FMTTYPE=text/html:Comp wedstrijd 469: <b>De Labberleute - MVC De
  Max</b> te Lagae
X-MICROSOFT-CDO-BUSYSTATUS:FREE
X-MICROSOFT-CDO-INTENDEDSTATUS:FREE
DTSTAMP:20260423T090458Z
BEGIN:VALARM
TRIGGER:-P1D
ACTION:DISPLAY
DESCRIPTION:Comp wedstrijd 469: De Labberleute - MVC De Max
END:VALARM
END:VEVENT
BEGIN:VEVENT
UID:69e9e0ba3e9c5
DTSTART:20260318T190000Z
SEQUENCE:0
TRANSP:OPAQUE
LOCATION:Rollegem
SUMMARY:Wedstrijd 497 KMVV
CLASS:PUBLIC
DESCRIPTION:Comp wedstrijd 497: Mex United - De Labberleute
X-ALT-DESC;FMTTYPE=text/html:Comp wedstrijd 497: <b>Mex United - De Labberl
 eute</b> te Rollegem
X-MICROSOFT-CDO-BUSYSTATUS:FREE
X-MICROSOFT-CDO-INTENDEDSTATUS:FREE
DTSTAMP:20260423T090458Z
BEGIN:VALARM
TRIGGER:-P1D
ACTION:DISPLAY
DESCRIPTION:Comp wedstrijd 497: Mex United - De Labberleute
END:VALARM
END:VEVENT
BEGIN:VEVENT
UID:69e9e0ba3e9d8
DTSTART:20260330T183000Z
SEQUENCE:0
TRANSP:OPAQUE
LOCATION:Bissegem
SUMMARY:Wedstrijd 520 KMVV
CLASS:PUBLIC
DESCRIPTION:Comp wedstrijd 520: De Labberleute - Y.B.Speelplaneet
X-ALT-DESC;FMTTYPE=text/html:Comp wedstrijd 520: <b>De Labberleute - Y.B.Sp
 eelplaneet</b> te Bissegem
X-MICROSOFT-CDO-BUSYSTATUS:FREE
X-MICROSOFT-CDO-INTENDEDSTATUS:FREE
DTSTAMP:20260423T090458Z
BEGIN:VALARM
TRIGGER:-P1D
ACTION:DISPLAY
DESCRIPTION:Comp wedstrijd 520: De Labberleute - Y.B.Speelplaneet
END:VALARM
END:VEVENT
BEGIN:VEVENT
UID:69e9e0ba3e9ea
DTSTART:20260413T190000Z
SEQUENCE:0
TRANSP:OPAQUE
LOCATION:Rollegem
SUMMARY:Wedstrijd 557 KMVV
CLASS:PUBLIC
DESCRIPTION:Comp wedstrijd 557: Dumo's coppes - De Labberleute
X-ALT-DESC;FMTTYPE=text/html:Comp wedstrijd 557: <b>Dumo's coppes - De Labb
 erleute</b> te Rollegem
X-MICROSOFT-CDO-BUSYSTATUS:FREE
X-MICROSOFT-CDO-INTENDEDSTATUS:FREE
DTSTAMP:20260423T090458Z
BEGIN:VALARM
TRIGGER:-P1D
ACTION:DISPLAY
DESCRIPTION:Comp wedstrijd 557: Dumo's coppes - De Labberleute
END:VALARM
END:VEVENT
BEGIN:VEVENT
UID:69e9e0ba3e9fc
DTSTART:20260427T170000Z
SEQUENCE:0
TRANSP:OPAQUE
LOCATION:Rollegem
SUMMARY:Wedstrijd 595 KMVV
CLASS:PUBLIC
DESCRIPTION:Comp wedstrijd 595: De Labberleute - Davabo-Smooth Surface
X-ALT-DESC;FMTTYPE=text/html:Comp wedstrijd 595: <b>De Labberleute - Davabo
 -Smooth Surface</b> te Rollegem
X-MICROSOFT-CDO-BUSYSTATUS:FREE
X-MICROSOFT-CDO-INTENDEDSTATUS:FREE
DTSTAMP:20260423T090458Z
BEGIN:VALARM
TRIGGER:-P1D
ACTION:DISPLAY
DESCRIPTION:Comp wedstrijd 595: De Labberleute - Davabo-Smooth Surface
END:VALARM
END:VEVENT
BEGIN:VEVENT
UID:69e9e0ba3ea0e
DTSTART:20260513T173000Z
SEQUENCE:0
TRANSP:OPAQUE
LOCATION:Rollegem
SUMMARY:Wedstrijd 640 KMVV
CLASS:PUBLIC
DESCRIPTION:Comp wedstrijd 640: Blacks - De Labberleute
X-ALT-DESC;FMTTYPE=text/html:Comp wedstrijd 640: <b>Blacks - De Labberleute
 </b> te Rollegem
X-MICROSOFT-CDO-BUSYSTATUS:FREE
X-MICROSOFT-CDO-INTENDEDSTATUS:FREE
DTSTAMP:20260423T090458Z
BEGIN:VALARM
TRIGGER:-P1D
ACTION:DISPLAY
DESCRIPTION:Comp wedstrijd 640: Blacks - De Labberleute
END:VALARM
END:VEVENT
BEGIN:VEVENT
UID:69e9e0ba3ea20
DTSTART:20260518T190000Z
SEQUENCE:0
TRANSP:OPAQUE
LOCATION:Rollegem
SUMMARY:Wedstrijd 649 KMVV
CLASS:PUBLIC
DESCRIPTION:Comp wedstrijd 649: De Labberleute - De Rooftoppers
X-ALT-DESC;FMTTYPE=text/html:Comp wedstrijd 649: <b>De Labberleute - De Roo
 ftoppers</b> te Rollegem
X-MICROSOFT-CDO-BUSYSTATUS:FREE
X-MICROSOFT-CDO-INTENDEDSTATUS:FREE
DTSTAMP:20260423T090458Z
BEGIN:VALARM
TRIGGER:-P1D
ACTION:DISPLAY
DESCRIPTION:Comp wedstrijd 649: De Labberleute - De Rooftoppers
END:VALARM
END:VEVENT
BEGIN:VEVENT
UID:69e9e0ba3ea31
DTSTART:20260603T160000Z
SEQUENCE:0
TRANSP:OPAQUE
LOCATION:Rollegem
SUMMARY:Wedstrijd 697 KMVV
CLASS:PUBLIC
DESCRIPTION:Comp wedstrijd 697: BB FC - De Labberleute
X-ALT-DESC;FMTTYPE=text/html:Comp wedstrijd 697: <b>BB FC - De Labberleute<
 /b> te Rollegem
X-MICROSOFT-CDO-BUSYSTATUS:FREE
X-MICROSOFT-CDO-INTENDEDSTATUS:FREE
DTSTAMP:20260423T090458Z
BEGIN:VALARM
TRIGGER:-P1D
ACTION:DISPLAY
DESCRIPTION:Comp wedstrijd 697: BB FC - De Labberleute
END:VALARM
END:VEVENT
BEGIN:VEVENT
UID:69e9e0ba3ea43
DTSTART:20260608T170000Z
SEQUENCE:0
TRANSP:OPAQUE
LOCATION:Rollegem
SUMMARY:Wedstrijd 720 KMVV
CLASS:PUBLIC
DESCRIPTION:Comp wedstrijd 720: T-Team - De Labberleute
X-ALT-DESC;FMTTYPE=text/html:Comp wedstrijd 720: <b>T-Team - De Labberleute
 </b> te Rollegem
X-MICROSOFT-CDO-BUSYSTATUS:FREE
X-MICROSOFT-CDO-INTENDEDSTATUS:FREE
DTSTAMP:20260423T090458Z
BEGIN:VALARM
TRIGGER:-P1D
ACTION:DISPLAY
DESCRIPTION:Comp wedstrijd 720: T-Team - De Labberleute
END:VALARM
END:VEVENT
BEGIN:VEVENT
UID:69e9e0ba3ea54
DTSTART:20260617T190000Z
SEQUENCE:0
TRANSP:OPAQUE
LOCATION:Rollegem
SUMMARY:Wedstrijd 750 KMVV
CLASS:PUBLIC
DESCRIPTION:Comp wedstrijd 750: De Labberleute - Santy Pils Marke
X-ALT-DESC;FMTTYPE=text/html:Comp wedstrijd 750: <b>De Labberleute - Santy 
 Pils Marke</b> te Rollegem
X-MICROSOFT-CDO-BUSYSTATUS:FREE
X-MICROSOFT-CDO-INTENDEDSTATUS:FREE
DTSTAMP:20260423T090458Z
BEGIN:VALARM
TRIGGER:-P1D
ACTION:DISPLAY
DESCRIPTION:Comp wedstrijd 750: De Labberleute - Santy Pils Marke
END:VALARM
END:VEVENT
BEGIN:VEVENT
UID:69e9e0ba3ea66
DTSTART:20260626T160000Z
SEQUENCE:0
TRANSP:OPAQUE
LOCATION:Rollegem
SUMMARY:Wedstrijd 798 KMVV
CLASS:PUBLIC
DESCRIPTION:Comp wedstrijd 798: De Labberleute - Bakkerij Bekaert
X-ALT-DESC;FMTTYPE=text/html:Comp wedstrijd 798: <b>De Labberleute - Bakker
 ij Bekaert</b> te Rollegem
X-MICROSOFT-CDO-BUSYSTATUS:FREE
X-MICROSOFT-CDO-INTENDEDSTATUS:FREE
DTSTAMP:20260423T090458Z
BEGIN:VALARM
TRIGGER:-P1D
ACTION:DISPLAY
DESCRIPTION:Comp wedstrijd 798: De Labberleute - Bakkerij Bekaert
END:VALARM
END:VEVENT
END:VCALENDAR