BEGIN:VCALENDAR
VERSION:2.0
PRODID:www.kmvv.be
BEGIN:VEVENT
UID:69e9e7a19e034
DTSTART:20250904T173000Z
SEQUENCE:0
TRANSP:OPAQUE
LOCATION:Bissegem
SUMMARY:Wedstrijd 13 KMVV
CLASS:PUBLIC
DESCRIPTION:Comp wedstrijd 13: De Rooftoppers - MVC Beauty & More
X-ALT-DESC;FMTTYPE=text/html:Comp wedstrijd 13: <b>De Rooftoppers - MVC Bea
 uty & More</b> te Bissegem
X-MICROSOFT-CDO-BUSYSTATUS:FREE
X-MICROSOFT-CDO-INTENDEDSTATUS:FREE
DTSTAMP:20260423T093425Z
BEGIN:VALARM
TRIGGER:-P1D
ACTION:DISPLAY
DESCRIPTION:Comp wedstrijd 13: De Rooftoppers - MVC Beauty & More
END:VALARM
END:VEVENT
BEGIN:VEVENT
UID:69e9e7a19e34e
DTSTART:20250911T160000Z
SEQUENCE:0
TRANSP:OPAQUE
LOCATION:Lagae
SUMMARY:Wedstrijd 35 KMVV
CLASS:PUBLIC
DESCRIPTION:Comp wedstrijd 35: De Rooftoppers - St Antonius/Den Hert
X-ALT-DESC;FMTTYPE=text/html:Comp wedstrijd 35: <b>De Rooftoppers - St Anto
 nius/Den Hert</b> te Lagae
X-MICROSOFT-CDO-BUSYSTATUS:FREE
X-MICROSOFT-CDO-INTENDEDSTATUS:FREE
DTSTAMP:20260423T093425Z
BEGIN:VALARM
TRIGGER:-P1D
ACTION:DISPLAY
DESCRIPTION:Comp wedstrijd 35: De Rooftoppers - St Antonius/Den Hert
END:VALARM
END:VEVENT
BEGIN:VEVENT
UID:69e9e7a19e371
DTSTART:20250922T180000Z
SEQUENCE:0
TRANSP:OPAQUE
LOCATION:Lagae
SUMMARY:Wedstrijd 63 KMVV
CLASS:PUBLIC
DESCRIPTION:Comp wedstrijd 63: Lokomotiv Popo - De Rooftoppers
X-ALT-DESC;FMTTYPE=text/html:Comp wedstrijd 63: <b>Lokomotiv Popo - De Roof
 toppers</b> te Lagae
X-MICROSOFT-CDO-BUSYSTATUS:FREE
X-MICROSOFT-CDO-INTENDEDSTATUS:FREE
DTSTAMP:20260423T093425Z
BEGIN:VALARM
TRIGGER:-P1D
ACTION:DISPLAY
DESCRIPTION:Comp wedstrijd 63: Lokomotiv Popo - De Rooftoppers
END:VALARM
END:VEVENT
BEGIN:VEVENT
UID:69e9e7a19e388
DTSTART:20250929T193000Z
SEQUENCE:0
TRANSP:OPAQUE
LOCATION:Bissegem
SUMMARY:Wedstrijd 161 KMVV
CLASS:PUBLIC
DESCRIPTION:Comp wedstrijd 161: Bakkerij Bekaert - De Rooftoppers
X-ALT-DESC;FMTTYPE=text/html:Comp wedstrijd 161: <b>Bakkerij Bekaert - De R
 ooftoppers</b> te Bissegem
X-MICROSOFT-CDO-BUSYSTATUS:FREE
X-MICROSOFT-CDO-INTENDEDSTATUS:FREE
DTSTAMP:20260423T093425Z
BEGIN:VALARM
TRIGGER:-P1D
ACTION:DISPLAY
DESCRIPTION:Comp wedstrijd 161: Bakkerij Bekaert - De Rooftoppers
END:VALARM
END:VEVENT
BEGIN:VEVENT
UID:69e9e7a19e39e
DTSTART:20251009T183000Z
SEQUENCE:0
TRANSP:OPAQUE
LOCATION:Rollegem
SUMMARY:Wedstrijd 117 KMVV
CLASS:PUBLIC
DESCRIPTION:Comp wedstrijd 117: De Rooftoppers - Zakouzkys
X-ALT-DESC;FMTTYPE=text/html:Comp wedstrijd 117: <b>De Rooftoppers - Zakouz
 kys</b> te Rollegem
X-MICROSOFT-CDO-BUSYSTATUS:FREE
X-MICROSOFT-CDO-INTENDEDSTATUS:FREE
DTSTAMP:20260423T093425Z
BEGIN:VALARM
TRIGGER:-P1D
ACTION:DISPLAY
DESCRIPTION:Comp wedstrijd 117: De Rooftoppers - Zakouzkys
END:VALARM
END:VEVENT
BEGIN:VEVENT
UID:69e9e7a19e3b3
DTSTART:20251023T160000Z
SEQUENCE:0
TRANSP:OPAQUE
LOCATION:Lagae
SUMMARY:Wedstrijd 155 KMVV
CLASS:PUBLIC
DESCRIPTION:Comp wedstrijd 155: De Rooftoppers - Moterwalen '09
X-ALT-DESC;FMTTYPE=text/html:Comp wedstrijd 155: <b>De Rooftoppers - Moterw
 alen '09</b> te Lagae
X-MICROSOFT-CDO-BUSYSTATUS:FREE
X-MICROSOFT-CDO-INTENDEDSTATUS:FREE
DTSTAMP:20260423T093425Z
BEGIN:VALARM
TRIGGER:-P1D
ACTION:DISPLAY
DESCRIPTION:Comp wedstrijd 155: De Rooftoppers - Moterwalen '09
END:VALARM
END:VEVENT
BEGIN:VEVENT
UID:69e9e7a19e3c7
DTSTART:20251106T193000Z
SEQUENCE:0
TRANSP:OPAQUE
LOCATION:Bissegem
SUMMARY:Wedstrijd 193 KMVV
CLASS:PUBLIC
DESCRIPTION:Comp wedstrijd 193: De Rooftoppers - FC White Star
X-ALT-DESC;FMTTYPE=text/html:Comp wedstrijd 193: <b>De Rooftoppers - FC Whi
 te Star</b> te Bissegem
X-MICROSOFT-CDO-BUSYSTATUS:FREE
X-MICROSOFT-CDO-INTENDEDSTATUS:FREE
DTSTAMP:20260423T093425Z
BEGIN:VALARM
TRIGGER:-P1D
ACTION:DISPLAY
DESCRIPTION:Comp wedstrijd 193: De Rooftoppers - FC White Star
END:VALARM
END:VEVENT
BEGIN:VEVENT
UID:69e9e7a19e3db
DTSTART:20251120T180000Z
SEQUENCE:0
TRANSP:OPAQUE
LOCATION:Lagae
SUMMARY:Wedstrijd 257 KMVV
CLASS:PUBLIC
DESCRIPTION:Comp wedstrijd 257: Blacks - De Rooftoppers
X-ALT-DESC;FMTTYPE=text/html:Comp wedstrijd 257: <b>Blacks - De Rooftoppers
 </b> te Lagae
X-MICROSOFT-CDO-BUSYSTATUS:FREE
X-MICROSOFT-CDO-INTENDEDSTATUS:FREE
DTSTAMP:20260423T093425Z
BEGIN:VALARM
TRIGGER:-P1D
ACTION:DISPLAY
DESCRIPTION:Comp wedstrijd 257: Blacks - De Rooftoppers
END:VALARM
END:VEVENT
BEGIN:VEVENT
UID:69e9e7a19e3ff
DTSTART:20251205T170000Z
SEQUENCE:0
TRANSP:OPAQUE
LOCATION:Rollegem
SUMMARY:Wedstrijd 279 KMVV
CLASS:PUBLIC
DESCRIPTION:Comp wedstrijd 279: De Rooftoppers - TD Decor
X-ALT-DESC;FMTTYPE=text/html:Comp wedstrijd 279: <b>De Rooftoppers - TD Dec
 or</b> te Rollegem
X-MICROSOFT-CDO-BUSYSTATUS:FREE
X-MICROSOFT-CDO-INTENDEDSTATUS:FREE
DTSTAMP:20260423T093425Z
BEGIN:VALARM
TRIGGER:-P1D
ACTION:DISPLAY
DESCRIPTION:Comp wedstrijd 279: De Rooftoppers - TD Decor
END:VALARM
END:VEVENT
BEGIN:VEVENT
UID:69e9e7a19e413
DTSTART:20251222T180000Z
SEQUENCE:0
TRANSP:OPAQUE
LOCATION:Lagae
SUMMARY:Wedstrijd 327 KMVV
CLASS:PUBLIC
DESCRIPTION:Comp wedstrijd 327: De Rooftoppers - De vagant
X-ALT-DESC;FMTTYPE=text/html:Comp wedstrijd 327: <b>De Rooftoppers - De vag
 ant</b> te Lagae
X-MICROSOFT-CDO-BUSYSTATUS:FREE
X-MICROSOFT-CDO-INTENDEDSTATUS:FREE
DTSTAMP:20260423T093425Z
BEGIN:VALARM
TRIGGER:-P1D
ACTION:DISPLAY
DESCRIPTION:Comp wedstrijd 327: De Rooftoppers - De vagant
END:VALARM
END:VEVENT
BEGIN:VEVENT
UID:69e9e7a19e455
DTSTART:20260115T180000Z
SEQUENCE:0
TRANSP:OPAQUE
LOCATION:Lagae
SUMMARY:Wedstrijd 374 KMVV
CLASS:PUBLIC
DESCRIPTION:Comp wedstrijd 374: Maba - De Rooftoppers
X-ALT-DESC;FMTTYPE=text/html:Comp wedstrijd 374: <b>Maba - De Rooftoppers</
 b> te Lagae
X-MICROSOFT-CDO-BUSYSTATUS:FREE
X-MICROSOFT-CDO-INTENDEDSTATUS:FREE
DTSTAMP:20260423T093425Z
BEGIN:VALARM
TRIGGER:-P1D
ACTION:DISPLAY
DESCRIPTION:Comp wedstrijd 374: Maba - De Rooftoppers
END:VALARM
END:VEVENT
BEGIN:VEVENT
UID:69e9e7a19e46f
DTSTART:20260122T170000Z
SEQUENCE:0
TRANSP:OPAQUE
LOCATION:Lagae
SUMMARY:Wedstrijd 394 KMVV
CLASS:PUBLIC
DESCRIPTION:Comp wedstrijd 394: Y.B.Speelplaneet - De Rooftoppers
X-ALT-DESC;FMTTYPE=text/html:Comp wedstrijd 394: <b>Y.B.Speelplaneet - De R
 ooftoppers</b> te Lagae
X-MICROSOFT-CDO-BUSYSTATUS:FREE
X-MICROSOFT-CDO-INTENDEDSTATUS:FREE
DTSTAMP:20260423T093425Z
BEGIN:VALARM
TRIGGER:-P1D
ACTION:DISPLAY
DESCRIPTION:Comp wedstrijd 394: Y.B.Speelplaneet - De Rooftoppers
END:VALARM
END:VEVENT
BEGIN:VEVENT
UID:69e9e7a19e489
DTSTART:20260129T203000Z
SEQUENCE:0
TRANSP:OPAQUE
LOCATION:Bissegem
SUMMARY:Wedstrijd 298 KMVV
CLASS:PUBLIC
DESCRIPTION:Comp wedstrijd 298: Omer Oliever - De Rooftoppers
X-ALT-DESC;FMTTYPE=text/html:Comp wedstrijd 298: <b>Omer Oliever - De Rooft
 oppers</b> te Bissegem
X-MICROSOFT-CDO-BUSYSTATUS:FREE
X-MICROSOFT-CDO-INTENDEDSTATUS:FREE
DTSTAMP:20260423T093425Z
BEGIN:VALARM
TRIGGER:-P1D
ACTION:DISPLAY
DESCRIPTION:Comp wedstrijd 298: Omer Oliever - De Rooftoppers
END:VALARM
END:VEVENT
BEGIN:VEVENT
UID:69e9e7a19e49c
DTSTART:20260223T190000Z
SEQUENCE:0
TRANSP:OPAQUE
LOCATION:Lagae
SUMMARY:Wedstrijd 429 KMVV
CLASS:PUBLIC
DESCRIPTION:Comp wedstrijd 429: Bakkerij Bekaert - De Rooftoppers
X-ALT-DESC;FMTTYPE=text/html:Comp wedstrijd 429: <b>Bakkerij Bekaert - De R
 ooftoppers</b> te Lagae
X-MICROSOFT-CDO-BUSYSTATUS:FREE
X-MICROSOFT-CDO-INTENDEDSTATUS:FREE
DTSTAMP:20260423T093425Z
BEGIN:VALARM
TRIGGER:-P1D
ACTION:DISPLAY
DESCRIPTION:Comp wedstrijd 429: Bakkerij Bekaert - De Rooftoppers
END:VALARM
END:VEVENT
BEGIN:VEVENT
UID:69e9e7a19e4af
DTSTART:20260306T170000Z
SEQUENCE:0
TRANSP:OPAQUE
LOCATION:Rollegem
SUMMARY:Wedstrijd 464 KMVV
CLASS:PUBLIC
DESCRIPTION:Comp wedstrijd 464: MVC De Max - De Rooftoppers
X-ALT-DESC;FMTTYPE=text/html:Comp wedstrijd 464: <b>MVC De Max - De Rooftop
 pers</b> te Rollegem
X-MICROSOFT-CDO-BUSYSTATUS:FREE
X-MICROSOFT-CDO-INTENDEDSTATUS:FREE
DTSTAMP:20260423T093425Z
BEGIN:VALARM
TRIGGER:-P1D
ACTION:DISPLAY
DESCRIPTION:Comp wedstrijd 464: MVC De Max - De Rooftoppers
END:VALARM
END:VEVENT
BEGIN:VEVENT
UID:69e9e7a19e4c9
DTSTART:20260312T180000Z
SEQUENCE:0
TRANSP:OPAQUE
LOCATION:Lagae
SUMMARY:Wedstrijd 482 KMVV
CLASS:PUBLIC
DESCRIPTION:Comp wedstrijd 482: De Rooftoppers - Mex United
X-ALT-DESC;FMTTYPE=text/html:Comp wedstrijd 482: <b>De Rooftoppers - Mex Un
 ited</b> te Lagae
X-MICROSOFT-CDO-BUSYSTATUS:FREE
X-MICROSOFT-CDO-INTENDEDSTATUS:FREE
DTSTAMP:20260423T093425Z
BEGIN:VALARM
TRIGGER:-P1D
ACTION:DISPLAY
DESCRIPTION:Comp wedstrijd 482: De Rooftoppers - Mex United
END:VALARM
END:VEVENT
BEGIN:VEVENT
UID:69e9e7a19e4dd
DTSTART:20260319T180000Z
SEQUENCE:0
TRANSP:OPAQUE
LOCATION:Lagae
SUMMARY:Wedstrijd 503 KMVV
CLASS:PUBLIC
DESCRIPTION:Comp wedstrijd 503: Y.B.Speelplaneet - De Rooftoppers
X-ALT-DESC;FMTTYPE=text/html:Comp wedstrijd 503: <b>Y.B.Speelplaneet - De R
 ooftoppers</b> te Lagae
X-MICROSOFT-CDO-BUSYSTATUS:FREE
X-MICROSOFT-CDO-INTENDEDSTATUS:FREE
DTSTAMP:20260423T093425Z
BEGIN:VALARM
TRIGGER:-P1D
ACTION:DISPLAY
DESCRIPTION:Comp wedstrijd 503: Y.B.Speelplaneet - De Rooftoppers
END:VALARM
END:VEVENT
BEGIN:VEVENT
UID:69e9e7a19e4f0
DTSTART:20260330T170000Z
SEQUENCE:0
TRANSP:OPAQUE
LOCATION:Lagae
SUMMARY:Wedstrijd 522 KMVV
CLASS:PUBLIC
DESCRIPTION:Comp wedstrijd 522: De Rooftoppers - Dumo's coppes
X-ALT-DESC;FMTTYPE=text/html:Comp wedstrijd 522: <b>De Rooftoppers - Dumo's
  coppes</b> te Lagae
X-MICROSOFT-CDO-BUSYSTATUS:FREE
X-MICROSOFT-CDO-INTENDEDSTATUS:FREE
DTSTAMP:20260423T093425Z
BEGIN:VALARM
TRIGGER:-P1D
ACTION:DISPLAY
DESCRIPTION:Comp wedstrijd 522: De Rooftoppers - Dumo's coppes
END:VALARM
END:VEVENT
BEGIN:VEVENT
UID:69e9e7a19e502
DTSTART:20260413T193000Z
SEQUENCE:0
TRANSP:OPAQUE
LOCATION:Bissegem
SUMMARY:Wedstrijd 550 KMVV
CLASS:PUBLIC
DESCRIPTION:Comp wedstrijd 550: Davabo-Smooth Surface - De Rooftoppers
X-ALT-DESC;FMTTYPE=text/html:Comp wedstrijd 550: <b>Davabo-Smooth Surface -
  De Rooftoppers</b> te Bissegem
X-MICROSOFT-CDO-BUSYSTATUS:FREE
X-MICROSOFT-CDO-INTENDEDSTATUS:FREE
DTSTAMP:20260423T093425Z
BEGIN:VALARM
TRIGGER:-P1D
ACTION:DISPLAY
DESCRIPTION:Comp wedstrijd 550: Davabo-Smooth Surface - De Rooftoppers
END:VALARM
END:VEVENT
BEGIN:VEVENT
UID:69e9e7a19e51d
DTSTART:20260430T193000Z
SEQUENCE:0
TRANSP:OPAQUE
LOCATION:Bissegem
SUMMARY:Wedstrijd 603 KMVV
CLASS:PUBLIC
DESCRIPTION:Comp wedstrijd 603: De Rooftoppers - Blacks
X-ALT-DESC;FMTTYPE=text/html:Comp wedstrijd 603: <b>De Rooftoppers - Blacks
 </b> te Bissegem
X-MICROSOFT-CDO-BUSYSTATUS:FREE
X-MICROSOFT-CDO-INTENDEDSTATUS:FREE
DTSTAMP:20260423T093425Z
BEGIN:VALARM
TRIGGER:-P1D
ACTION:DISPLAY
DESCRIPTION:Comp wedstrijd 603: De Rooftoppers - Blacks
END:VALARM
END:VEVENT
BEGIN:VEVENT
UID:69e9e7a19e531
DTSTART:20260506T163000Z
SEQUENCE:0
TRANSP:OPAQUE
LOCATION:Rollegem
SUMMARY:Wedstrijd 616 KMVV
CLASS:PUBLIC
DESCRIPTION:Comp wedstrijd 616: BB FC - De Rooftoppers
X-ALT-DESC;FMTTYPE=text/html:Comp wedstrijd 616: <b>BB FC - De Rooftoppers<
 /b> te Rollegem
X-MICROSOFT-CDO-BUSYSTATUS:FREE
X-MICROSOFT-CDO-INTENDEDSTATUS:FREE
DTSTAMP:20260423T093425Z
BEGIN:VALARM
TRIGGER:-P1D
ACTION:DISPLAY
DESCRIPTION:Comp wedstrijd 616: BB FC - De Rooftoppers
END:VALARM
END:VEVENT
BEGIN:VEVENT
UID:69e9e7a19e543
DTSTART:20260518T190000Z
SEQUENCE:0
TRANSP:OPAQUE
LOCATION:Rollegem
SUMMARY:Wedstrijd 649 KMVV
CLASS:PUBLIC
DESCRIPTION:Comp wedstrijd 649: De Labberleute - De Rooftoppers
X-ALT-DESC;FMTTYPE=text/html:Comp wedstrijd 649: <b>De Labberleute - De Roo
 ftoppers</b> te Rollegem
X-MICROSOFT-CDO-BUSYSTATUS:FREE
X-MICROSOFT-CDO-INTENDEDSTATUS:FREE
DTSTAMP:20260423T093425Z
BEGIN:VALARM
TRIGGER:-P1D
ACTION:DISPLAY
DESCRIPTION:Comp wedstrijd 649: De Labberleute - De Rooftoppers
END:VALARM
END:VEVENT
BEGIN:VEVENT
UID:69e9e7a19e559
DTSTART:20260603T180000Z
SEQUENCE:0
TRANSP:OPAQUE
LOCATION:Bissegem
SUMMARY:Wedstrijd 695 KMVV
CLASS:PUBLIC
DESCRIPTION:Comp wedstrijd 695: De Rooftoppers - T-Team
X-ALT-DESC;FMTTYPE=text/html:Comp wedstrijd 695: <b>De Rooftoppers - T-Team
 </b> te Bissegem
X-MICROSOFT-CDO-BUSYSTATUS:FREE
X-MICROSOFT-CDO-INTENDEDSTATUS:FREE
DTSTAMP:20260423T093425Z
BEGIN:VALARM
TRIGGER:-P1D
ACTION:DISPLAY
DESCRIPTION:Comp wedstrijd 695: De Rooftoppers - T-Team
END:VALARM
END:VEVENT
BEGIN:VEVENT
UID:69e9e7a19e56f
DTSTART:20260610T180000Z
SEQUENCE:0
TRANSP:OPAQUE
LOCATION:Bissegem
SUMMARY:Wedstrijd 727 KMVV
CLASS:PUBLIC
DESCRIPTION:Comp wedstrijd 727: Santy Pils Marke - De Rooftoppers
X-ALT-DESC;FMTTYPE=text/html:Comp wedstrijd 727: <b>Santy Pils Marke - De R
 ooftoppers</b> te Bissegem
X-MICROSOFT-CDO-BUSYSTATUS:FREE
X-MICROSOFT-CDO-INTENDEDSTATUS:FREE
DTSTAMP:20260423T093425Z
BEGIN:VALARM
TRIGGER:-P1D
ACTION:DISPLAY
DESCRIPTION:Comp wedstrijd 727: Santy Pils Marke - De Rooftoppers
END:VALARM
END:VEVENT
BEGIN:VEVENT
UID:69e9e7a19e582
DTSTART:20260615T183000Z
SEQUENCE:0
TRANSP:OPAQUE
LOCATION:Bissegem
SUMMARY:Wedstrijd 745 KMVV
CLASS:PUBLIC
DESCRIPTION:Comp wedstrijd 745: De Rooftoppers - Café Astor
X-ALT-DESC;FMTTYPE=text/html:Comp wedstrijd 745: <b>De Rooftoppers - Café 
 Astor</b> te Bissegem
X-MICROSOFT-CDO-BUSYSTATUS:FREE
X-MICROSOFT-CDO-INTENDEDSTATUS:FREE
DTSTAMP:20260423T093425Z
BEGIN:VALARM
TRIGGER:-P1D
ACTION:DISPLAY
DESCRIPTION:Comp wedstrijd 745: De Rooftoppers - Café Astor
END:VALARM
END:VEVENT
BEGIN:VEVENT
UID:69e9e7a19e594
DTSTART:20260625T170000Z
SEQUENCE:0
TRANSP:OPAQUE
LOCATION:Bissegem
SUMMARY:Wedstrijd 788 KMVV
CLASS:PUBLIC
DESCRIPTION:Comp wedstrijd 788: De Rooftoppers - La galaxie
X-ALT-DESC;FMTTYPE=text/html:Comp wedstrijd 788: <b>De Rooftoppers - La gal
 axie</b> te Bissegem
X-MICROSOFT-CDO-BUSYSTATUS:FREE
X-MICROSOFT-CDO-INTENDEDSTATUS:FREE
DTSTAMP:20260423T093425Z
BEGIN:VALARM
TRIGGER:-P1D
ACTION:DISPLAY
DESCRIPTION:Comp wedstrijd 788: De Rooftoppers - La galaxie
END:VALARM
END:VEVENT
END:VCALENDAR