BEGIN:VCALENDAR
VERSION:2.0
PRODID:www.kmvv.be
BEGIN:VEVENT
UID:69e9e39edd780
DTSTART:20250901T170000Z
SEQUENCE:0
TRANSP:OPAQUE
LOCATION:Lagae
SUMMARY:Wedstrijd 3 KMVV
CLASS:PUBLIC
DESCRIPTION:Comp wedstrijd 3: Dumo's coppes - Mex United
X-ALT-DESC;FMTTYPE=text/html:Comp wedstrijd 3: <b>Dumo's coppes - Mex Unite
 d</b> te Lagae
X-MICROSOFT-CDO-BUSYSTATUS:FREE
X-MICROSOFT-CDO-INTENDEDSTATUS:FREE
DTSTAMP:20260423T091718Z
BEGIN:VALARM
TRIGGER:-P1D
ACTION:DISPLAY
DESCRIPTION:Comp wedstrijd 3: Dumo's coppes - Mex United
END:VALARM
END:VEVENT
BEGIN:VEVENT
UID:69e9e39eddc29
DTSTART:20250915T190000Z
SEQUENCE:0
TRANSP:OPAQUE
LOCATION:Rollegem
SUMMARY:Wedstrijd 49 KMVV
CLASS:PUBLIC
DESCRIPTION:Comp wedstrijd 49: Dumo's coppes - BB FC
X-ALT-DESC;FMTTYPE=text/html:Comp wedstrijd 49: <b>Dumo's coppes - BB FC</b
 > te Rollegem
X-MICROSOFT-CDO-BUSYSTATUS:FREE
X-MICROSOFT-CDO-INTENDEDSTATUS:FREE
DTSTAMP:20260423T091718Z
BEGIN:VALARM
TRIGGER:-P1D
ACTION:DISPLAY
DESCRIPTION:Comp wedstrijd 49: Dumo's coppes - BB FC
END:VALARM
END:VEVENT
BEGIN:VEVENT
UID:69e9e39eddc4f
DTSTART:20250922T170000Z
SEQUENCE:0
TRANSP:OPAQUE
LOCATION:Lagae
SUMMARY:Wedstrijd 62 KMVV
CLASS:PUBLIC
DESCRIPTION:Comp wedstrijd 62: Dumo's coppes - Davabo-Smooth Surface
X-ALT-DESC;FMTTYPE=text/html:Comp wedstrijd 62: <b>Dumo's coppes - Davabo-S
 mooth Surface</b> te Lagae
X-MICROSOFT-CDO-BUSYSTATUS:FREE
X-MICROSOFT-CDO-INTENDEDSTATUS:FREE
DTSTAMP:20260423T091718Z
BEGIN:VALARM
TRIGGER:-P1D
ACTION:DISPLAY
DESCRIPTION:Comp wedstrijd 62: Dumo's coppes - Davabo-Smooth Surface
END:VALARM
END:VEVENT
BEGIN:VEVENT
UID:69e9e39eddc66
DTSTART:20251006T180000Z
SEQUENCE:0
TRANSP:OPAQUE
LOCATION:Lagae
SUMMARY:Wedstrijd 103 KMVV
CLASS:PUBLIC
DESCRIPTION:Comp wedstrijd 103: Cafe 1917 - Dumo's coppes
X-ALT-DESC;FMTTYPE=text/html:Comp wedstrijd 103: <b>Cafe 1917 - Dumo's copp
 es</b> te Lagae
X-MICROSOFT-CDO-BUSYSTATUS:FREE
X-MICROSOFT-CDO-INTENDEDSTATUS:FREE
DTSTAMP:20260423T091718Z
BEGIN:VALARM
TRIGGER:-P1D
ACTION:DISPLAY
DESCRIPTION:Comp wedstrijd 103: Cafe 1917 - Dumo's coppes
END:VALARM
END:VEVENT
BEGIN:VEVENT
UID:69e9e39eddc7c
DTSTART:20251013T170000Z
SEQUENCE:0
TRANSP:OPAQUE
LOCATION:Rollegem
SUMMARY:Wedstrijd 127 KMVV
CLASS:PUBLIC
DESCRIPTION:Comp wedstrijd 127: Dumo's coppes - Westerstrand
X-ALT-DESC;FMTTYPE=text/html:Comp wedstrijd 127: <b>Dumo's coppes - Westers
 trand</b> te Rollegem
X-MICROSOFT-CDO-BUSYSTATUS:FREE
X-MICROSOFT-CDO-INTENDEDSTATUS:FREE
DTSTAMP:20260423T091718Z
BEGIN:VALARM
TRIGGER:-P1D
ACTION:DISPLAY
DESCRIPTION:Comp wedstrijd 127: Dumo's coppes - Westerstrand
END:VALARM
END:VEVENT
BEGIN:VEVENT
UID:69e9e39eddc91
DTSTART:20251024T160000Z
SEQUENCE:0
TRANSP:OPAQUE
LOCATION:Rollegem
SUMMARY:Wedstrijd 159 KMVV
CLASS:PUBLIC
DESCRIPTION:Comp wedstrijd 159: De Labberleute - Dumo's coppes
X-ALT-DESC;FMTTYPE=text/html:Comp wedstrijd 159: <b>De Labberleute - Dumo's
  coppes</b> te Rollegem
X-MICROSOFT-CDO-BUSYSTATUS:FREE
X-MICROSOFT-CDO-INTENDEDSTATUS:FREE
DTSTAMP:20260423T091718Z
BEGIN:VALARM
TRIGGER:-P1D
ACTION:DISPLAY
DESCRIPTION:Comp wedstrijd 159: De Labberleute - Dumo's coppes
END:VALARM
END:VEVENT
BEGIN:VEVENT
UID:69e9e39eddca5
DTSTART:20251103T193000Z
SEQUENCE:0
TRANSP:OPAQUE
LOCATION:Bissegem
SUMMARY:Wedstrijd 180 KMVV
CLASS:PUBLIC
DESCRIPTION:Comp wedstrijd 180: Dumo's coppes - T-Team
X-ALT-DESC;FMTTYPE=text/html:Comp wedstrijd 180: <b>Dumo's coppes - T-Team<
 /b> te Bissegem
X-MICROSOFT-CDO-BUSYSTATUS:FREE
X-MICROSOFT-CDO-INTENDEDSTATUS:FREE
DTSTAMP:20260423T091718Z
BEGIN:VALARM
TRIGGER:-P1D
ACTION:DISPLAY
DESCRIPTION:Comp wedstrijd 180: Dumo's coppes - T-Team
END:VALARM
END:VEVENT
BEGIN:VEVENT
UID:69e9e39eddcb8
DTSTART:20251117T193000Z
SEQUENCE:0
TRANSP:OPAQUE
LOCATION:Bissegem
SUMMARY:Wedstrijd 220 KMVV
CLASS:PUBLIC
DESCRIPTION:Comp wedstrijd 220: Santy Pils Marke - Dumo's coppes
X-ALT-DESC;FMTTYPE=text/html:Comp wedstrijd 220: <b>Santy Pils Marke - Dumo
 's coppes</b> te Bissegem
X-MICROSOFT-CDO-BUSYSTATUS:FREE
X-MICROSOFT-CDO-INTENDEDSTATUS:FREE
DTSTAMP:20260423T091718Z
BEGIN:VALARM
TRIGGER:-P1D
ACTION:DISPLAY
DESCRIPTION:Comp wedstrijd 220: Santy Pils Marke - Dumo's coppes
END:VALARM
END:VEVENT
BEGIN:VEVENT
UID:69e9e39eddccc
DTSTART:20251124T170000Z
SEQUENCE:0
TRANSP:OPAQUE
LOCATION:Rollegem
SUMMARY:Wedstrijd 246 KMVV
CLASS:PUBLIC
DESCRIPTION:Comp wedstrijd 246: Dumo's coppes - Café Astor
X-ALT-DESC;FMTTYPE=text/html:Comp wedstrijd 246: <b>Dumo's coppes - Café A
 stor</b> te Rollegem
X-MICROSOFT-CDO-BUSYSTATUS:FREE
X-MICROSOFT-CDO-INTENDEDSTATUS:FREE
DTSTAMP:20260423T091718Z
BEGIN:VALARM
TRIGGER:-P1D
ACTION:DISPLAY
DESCRIPTION:Comp wedstrijd 246: Dumo's coppes - Café Astor
END:VALARM
END:VEVENT
BEGIN:VEVENT
UID:69e9e39eddce1
DTSTART:20251215T170000Z
SEQUENCE:0
TRANSP:OPAQUE
LOCATION:Rollegem
SUMMARY:Wedstrijd 305 KMVV
CLASS:PUBLIC
DESCRIPTION:Comp wedstrijd 305: Dumo's coppes - La galaxie
X-ALT-DESC;FMTTYPE=text/html:Comp wedstrijd 305: <b>Dumo's coppes - La gala
 xie</b> te Rollegem
X-MICROSOFT-CDO-BUSYSTATUS:FREE
X-MICROSOFT-CDO-INTENDEDSTATUS:FREE
DTSTAMP:20260423T091718Z
BEGIN:VALARM
TRIGGER:-P1D
ACTION:DISPLAY
DESCRIPTION:Comp wedstrijd 305: Dumo's coppes - La galaxie
END:VALARM
END:VEVENT
BEGIN:VEVENT
UID:69e9e39eddd19
DTSTART:20260105T190000Z
SEQUENCE:0
TRANSP:OPAQUE
LOCATION:Rollegem
SUMMARY:Wedstrijd 346 KMVV
CLASS:PUBLIC
DESCRIPTION:Comp wedstrijd 346: MVC De Max - Dumo's coppes
X-ALT-DESC;FMTTYPE=text/html:Comp wedstrijd 346: <b>MVC De Max - Dumo's cop
 pes</b> te Rollegem
X-MICROSOFT-CDO-BUSYSTATUS:FREE
X-MICROSOFT-CDO-INTENDEDSTATUS:FREE
DTSTAMP:20260423T091718Z
BEGIN:VALARM
TRIGGER:-P1D
ACTION:DISPLAY
DESCRIPTION:Comp wedstrijd 346: MVC De Max - Dumo's coppes
END:VALARM
END:VEVENT
BEGIN:VEVENT
UID:69e9e39eddd2e
DTSTART:20260119T170000Z
SEQUENCE:0
TRANSP:OPAQUE
LOCATION:Rollegem
SUMMARY:Wedstrijd 384 KMVV
CLASS:PUBLIC
DESCRIPTION:Comp wedstrijd 384: Versa Vervacke - Dumo's coppes
X-ALT-DESC;FMTTYPE=text/html:Comp wedstrijd 384: <b>Versa Vervacke - Dumo's
  coppes</b> te Rollegem
X-MICROSOFT-CDO-BUSYSTATUS:FREE
X-MICROSOFT-CDO-INTENDEDSTATUS:FREE
DTSTAMP:20260423T091718Z
BEGIN:VALARM
TRIGGER:-P1D
ACTION:DISPLAY
DESCRIPTION:Comp wedstrijd 384: Versa Vervacke - Dumo's coppes
END:VALARM
END:VEVENT
BEGIN:VEVENT
UID:69e9e39eddd42
DTSTART:20260205T183000Z
SEQUENCE:0
TRANSP:OPAQUE
LOCATION:Bissegem
SUMMARY:Wedstrijd 290 KMVV
CLASS:PUBLIC
DESCRIPTION:Comp wedstrijd 290: FuTurAc - Dumo's coppes
X-ALT-DESC;FMTTYPE=text/html:Comp wedstrijd 290: <b>FuTurAc - Dumo's coppes
 </b> te Bissegem
X-MICROSOFT-CDO-BUSYSTATUS:FREE
X-MICROSOFT-CDO-INTENDEDSTATUS:FREE
DTSTAMP:20260423T091718Z
BEGIN:VALARM
TRIGGER:-P1D
ACTION:DISPLAY
DESCRIPTION:Comp wedstrijd 290: FuTurAc - Dumo's coppes
END:VALARM
END:VEVENT
BEGIN:VEVENT
UID:69e9e39eddd56
DTSTART:20260302T190000Z
SEQUENCE:0
TRANSP:OPAQUE
LOCATION:Lagae
SUMMARY:Wedstrijd 450 KMVV
CLASS:PUBLIC
DESCRIPTION:Comp wedstrijd 450: BB FC - Dumo's coppes
X-ALT-DESC;FMTTYPE=text/html:Comp wedstrijd 450: <b>BB FC - Dumo's coppes</
 b> te Lagae
X-MICROSOFT-CDO-BUSYSTATUS:FREE
X-MICROSOFT-CDO-INTENDEDSTATUS:FREE
DTSTAMP:20260423T091718Z
BEGIN:VALARM
TRIGGER:-P1D
ACTION:DISPLAY
DESCRIPTION:Comp wedstrijd 450: BB FC - Dumo's coppes
END:VALARM
END:VEVENT
BEGIN:VEVENT
UID:69e9e39eddd69
DTSTART:20260309T180000Z
SEQUENCE:0
TRANSP:OPAQUE
LOCATION:Lagae
SUMMARY:Wedstrijd 468 KMVV
CLASS:PUBLIC
DESCRIPTION:Comp wedstrijd 468: Davabo-Smooth Surface - Dumo's coppes
X-ALT-DESC;FMTTYPE=text/html:Comp wedstrijd 468: <b>Davabo-Smooth Surface -
  Dumo's coppes</b> te Lagae
X-MICROSOFT-CDO-BUSYSTATUS:FREE
X-MICROSOFT-CDO-INTENDEDSTATUS:FREE
DTSTAMP:20260423T091718Z
BEGIN:VALARM
TRIGGER:-P1D
ACTION:DISPLAY
DESCRIPTION:Comp wedstrijd 468: Davabo-Smooth Surface - Dumo's coppes
END:VALARM
END:VEVENT
BEGIN:VEVENT
UID:69e9e39eddd7c
DTSTART:20260316T180000Z
SEQUENCE:0
TRANSP:OPAQUE
LOCATION:Lagae
SUMMARY:Wedstrijd 489 KMVV
CLASS:PUBLIC
DESCRIPTION:Comp wedstrijd 489: Dumo's coppes - Blacks
X-ALT-DESC;FMTTYPE=text/html:Comp wedstrijd 489: <b>Dumo's coppes - Blacks<
 /b> te Lagae
X-MICROSOFT-CDO-BUSYSTATUS:FREE
X-MICROSOFT-CDO-INTENDEDSTATUS:FREE
DTSTAMP:20260423T091718Z
BEGIN:VALARM
TRIGGER:-P1D
ACTION:DISPLAY
DESCRIPTION:Comp wedstrijd 489: Dumo's coppes - Blacks
END:VALARM
END:VEVENT
BEGIN:VEVENT
UID:69e9e39eddd8e
DTSTART:20260330T170000Z
SEQUENCE:0
TRANSP:OPAQUE
LOCATION:Lagae
SUMMARY:Wedstrijd 522 KMVV
CLASS:PUBLIC
DESCRIPTION:Comp wedstrijd 522: De Rooftoppers - Dumo's coppes
X-ALT-DESC;FMTTYPE=text/html:Comp wedstrijd 522: <b>De Rooftoppers - Dumo's
  coppes</b> te Lagae
X-MICROSOFT-CDO-BUSYSTATUS:FREE
X-MICROSOFT-CDO-INTENDEDSTATUS:FREE
DTSTAMP:20260423T091718Z
BEGIN:VALARM
TRIGGER:-P1D
ACTION:DISPLAY
DESCRIPTION:Comp wedstrijd 522: De Rooftoppers - Dumo's coppes
END:VALARM
END:VEVENT
BEGIN:VEVENT
UID:69e9e39eddda1
DTSTART:20260413T190000Z
SEQUENCE:0
TRANSP:OPAQUE
LOCATION:Rollegem
SUMMARY:Wedstrijd 557 KMVV
CLASS:PUBLIC
DESCRIPTION:Comp wedstrijd 557: Dumo's coppes - De Labberleute
X-ALT-DESC;FMTTYPE=text/html:Comp wedstrijd 557: <b>Dumo's coppes - De Labb
 erleute</b> te Rollegem
X-MICROSOFT-CDO-BUSYSTATUS:FREE
X-MICROSOFT-CDO-INTENDEDSTATUS:FREE
DTSTAMP:20260423T091718Z
BEGIN:VALARM
TRIGGER:-P1D
ACTION:DISPLAY
DESCRIPTION:Comp wedstrijd 557: Dumo's coppes - De Labberleute
END:VALARM
END:VEVENT
BEGIN:VEVENT
UID:69e9e39edddb3
DTSTART:20260427T190000Z
SEQUENCE:0
TRANSP:OPAQUE
LOCATION:Rollegem
SUMMARY:Wedstrijd 597 KMVV
CLASS:PUBLIC
DESCRIPTION:Comp wedstrijd 597: T-Team - Dumo's coppes
X-ALT-DESC;FMTTYPE=text/html:Comp wedstrijd 597: <b>T-Team - Dumo's coppes<
 /b> te Rollegem
X-MICROSOFT-CDO-BUSYSTATUS:FREE
X-MICROSOFT-CDO-INTENDEDSTATUS:FREE
DTSTAMP:20260423T091718Z
BEGIN:VALARM
TRIGGER:-P1D
ACTION:DISPLAY
DESCRIPTION:Comp wedstrijd 597: T-Team - Dumo's coppes
END:VALARM
END:VEVENT
BEGIN:VEVENT
UID:69e9e39edddc6
DTSTART:20260504T170000Z
SEQUENCE:0
TRANSP:OPAQUE
LOCATION:Rollegem
SUMMARY:Wedstrijd 612 KMVV
CLASS:PUBLIC
DESCRIPTION:Comp wedstrijd 612: Dumo's coppes - Santy Pils Marke
X-ALT-DESC;FMTTYPE=text/html:Comp wedstrijd 612: <b>Dumo's coppes - Santy P
 ils Marke</b> te Rollegem
X-MICROSOFT-CDO-BUSYSTATUS:FREE
X-MICROSOFT-CDO-INTENDEDSTATUS:FREE
DTSTAMP:20260423T091718Z
BEGIN:VALARM
TRIGGER:-P1D
ACTION:DISPLAY
DESCRIPTION:Comp wedstrijd 612: Dumo's coppes - Santy Pils Marke
END:VALARM
END:VEVENT
BEGIN:VEVENT
UID:69e9e39edddd8
DTSTART:20260518T160000Z
SEQUENCE:0
TRANSP:OPAQUE
LOCATION:Rollegem
SUMMARY:Wedstrijd 646 KMVV
CLASS:PUBLIC
DESCRIPTION:Comp wedstrijd 646: Café Astor - Dumo's coppes
X-ALT-DESC;FMTTYPE=text/html:Comp wedstrijd 646: <b>Café Astor - Dumo's co
 ppes</b> te Rollegem
X-MICROSOFT-CDO-BUSYSTATUS:FREE
X-MICROSOFT-CDO-INTENDEDSTATUS:FREE
DTSTAMP:20260423T091718Z
BEGIN:VALARM
TRIGGER:-P1D
ACTION:DISPLAY
DESCRIPTION:Comp wedstrijd 646: Café Astor - Dumo's coppes
END:VALARM
END:VEVENT
BEGIN:VEVENT
UID:69e9e39edddea
DTSTART:20260601T160000Z
SEQUENCE:0
TRANSP:OPAQUE
LOCATION:Rollegem
SUMMARY:Wedstrijd 687 KMVV
CLASS:PUBLIC
DESCRIPTION:Comp wedstrijd 687: Dumo's coppes - Bakkerij Bekaert
X-ALT-DESC;FMTTYPE=text/html:Comp wedstrijd 687: <b>Dumo's coppes - Bakkeri
 j Bekaert</b> te Rollegem
X-MICROSOFT-CDO-BUSYSTATUS:FREE
X-MICROSOFT-CDO-INTENDEDSTATUS:FREE
DTSTAMP:20260423T091718Z
BEGIN:VALARM
TRIGGER:-P1D
ACTION:DISPLAY
DESCRIPTION:Comp wedstrijd 687: Dumo's coppes - Bakkerij Bekaert
END:VALARM
END:VEVENT
BEGIN:VEVENT
UID:69e9e39edddfc
DTSTART:20260608T160000Z
SEQUENCE:0
TRANSP:OPAQUE
LOCATION:Rollegem
SUMMARY:Wedstrijd 719 KMVV
CLASS:PUBLIC
DESCRIPTION:Comp wedstrijd 719: La galaxie - Dumo's coppes
X-ALT-DESC;FMTTYPE=text/html:Comp wedstrijd 719: <b>La galaxie - Dumo's cop
 pes</b> te Rollegem
X-MICROSOFT-CDO-BUSYSTATUS:FREE
X-MICROSOFT-CDO-INTENDEDSTATUS:FREE
DTSTAMP:20260423T091718Z
BEGIN:VALARM
TRIGGER:-P1D
ACTION:DISPLAY
DESCRIPTION:Comp wedstrijd 719: La galaxie - Dumo's coppes
END:VALARM
END:VEVENT
BEGIN:VEVENT
UID:69e9e39edde0e
DTSTART:20260617T160000Z
SEQUENCE:0
TRANSP:OPAQUE
LOCATION:Rollegem
SUMMARY:Wedstrijd 760 KMVV
CLASS:PUBLIC
DESCRIPTION:Comp wedstrijd 760: Dumo's coppes - MVC De Max
X-ALT-DESC;FMTTYPE=text/html:Comp wedstrijd 760: <b>Dumo's coppes - MVC De 
 Max</b> te Rollegem
X-MICROSOFT-CDO-BUSYSTATUS:FREE
X-MICROSOFT-CDO-INTENDEDSTATUS:FREE
DTSTAMP:20260423T091718Z
BEGIN:VALARM
TRIGGER:-P1D
ACTION:DISPLAY
DESCRIPTION:Comp wedstrijd 760: Dumo's coppes - MVC De Max
END:VALARM
END:VEVENT
BEGIN:VEVENT
UID:69e9e39edde20
DTSTART:20260617T180000Z
SEQUENCE:0
TRANSP:OPAQUE
LOCATION:Rollegem
SUMMARY:Wedstrijd 445 KMVV
CLASS:PUBLIC
DESCRIPTION:Comp wedstrijd 445: Mex United - Dumo's coppes
X-ALT-DESC;FMTTYPE=text/html:Comp wedstrijd 445: <b>Mex United - Dumo's cop
 pes</b> te Rollegem
X-MICROSOFT-CDO-BUSYSTATUS:FREE
X-MICROSOFT-CDO-INTENDEDSTATUS:FREE
DTSTAMP:20260423T091718Z
BEGIN:VALARM
TRIGGER:-P1D
ACTION:DISPLAY
DESCRIPTION:Comp wedstrijd 445: Mex United - Dumo's coppes
END:VALARM
END:VEVENT
BEGIN:VEVENT
UID:69e9e39edde41
DTSTART:20260626T190000Z
SEQUENCE:0
TRANSP:OPAQUE
LOCATION:Rollegem
SUMMARY:Wedstrijd 801 KMVV
CLASS:PUBLIC
DESCRIPTION:Comp wedstrijd 801: Dumo's coppes - Y.B.Speelplaneet
X-ALT-DESC;FMTTYPE=text/html:Comp wedstrijd 801: <b>Dumo's coppes - Y.B.Spe
 elplaneet</b> te Rollegem
X-MICROSOFT-CDO-BUSYSTATUS:FREE
X-MICROSOFT-CDO-INTENDEDSTATUS:FREE
DTSTAMP:20260423T091718Z
BEGIN:VALARM
TRIGGER:-P1D
ACTION:DISPLAY
DESCRIPTION:Comp wedstrijd 801: Dumo's coppes - Y.B.Speelplaneet
END:VALARM
END:VEVENT
END:VCALENDAR