BEGIN:VCALENDAR
VERSION:2.0
PRODID:www.kmvv.be
BEGIN:VEVENT
UID:69e9e3da9df37
DTSTART:20250901T190000Z
SEQUENCE:0
TRANSP:OPAQUE
LOCATION:Rollegem
SUMMARY:Wedstrijd 9 KMVV
CLASS:PUBLIC
DESCRIPTION:Comp wedstrijd 9: Cafe 1917 - La galaxie
X-ALT-DESC;FMTTYPE=text/html:Comp wedstrijd 9: <b>Cafe 1917 - La galaxie</b
 > te Rollegem
X-MICROSOFT-CDO-BUSYSTATUS:FREE
X-MICROSOFT-CDO-INTENDEDSTATUS:FREE
DTSTAMP:20260423T091818Z
BEGIN:VALARM
TRIGGER:-P1D
ACTION:DISPLAY
DESCRIPTION:Comp wedstrijd 9: Cafe 1917 - La galaxie
END:VALARM
END:VEVENT
BEGIN:VEVENT
UID:69e9e3da9e487
DTSTART:20250908T180000Z
SEQUENCE:0
TRANSP:OPAQUE
LOCATION:Rollegem
SUMMARY:Wedstrijd 27 KMVV
CLASS:PUBLIC
DESCRIPTION:Comp wedstrijd 27: De Labberleute - La galaxie
X-ALT-DESC;FMTTYPE=text/html:Comp wedstrijd 27: <b>De Labberleute - La gala
 xie</b> te Rollegem
X-MICROSOFT-CDO-BUSYSTATUS:FREE
X-MICROSOFT-CDO-INTENDEDSTATUS:FREE
DTSTAMP:20260423T091818Z
BEGIN:VALARM
TRIGGER:-P1D
ACTION:DISPLAY
DESCRIPTION:Comp wedstrijd 27: De Labberleute - La galaxie
END:VALARM
END:VEVENT
BEGIN:VEVENT
UID:69e9e3da9e4c3
DTSTART:20250922T170000Z
SEQUENCE:0
TRANSP:OPAQUE
LOCATION:Rollegem
SUMMARY:Wedstrijd 66 KMVV
CLASS:PUBLIC
DESCRIPTION:Comp wedstrijd 66: La galaxie - T-Team
X-ALT-DESC;FMTTYPE=text/html:Comp wedstrijd 66: <b>La galaxie - T-Team</b> 
 te Rollegem
X-MICROSOFT-CDO-BUSYSTATUS:FREE
X-MICROSOFT-CDO-INTENDEDSTATUS:FREE
DTSTAMP:20260423T091818Z
BEGIN:VALARM
TRIGGER:-P1D
ACTION:DISPLAY
DESCRIPTION:Comp wedstrijd 66: La galaxie - T-Team
END:VALARM
END:VEVENT
BEGIN:VEVENT
UID:69e9e3da9e4ec
DTSTART:20251002T170000Z
SEQUENCE:0
TRANSP:OPAQUE
LOCATION:Lagae
SUMMARY:Wedstrijd 97 KMVV
CLASS:PUBLIC
DESCRIPTION:Comp wedstrijd 97: Santy Pils Marke - La galaxie
X-ALT-DESC;FMTTYPE=text/html:Comp wedstrijd 97: <b>Santy Pils Marke - La ga
 laxie</b> te Lagae
X-MICROSOFT-CDO-BUSYSTATUS:FREE
X-MICROSOFT-CDO-INTENDEDSTATUS:FREE
DTSTAMP:20260423T091818Z
BEGIN:VALARM
TRIGGER:-P1D
ACTION:DISPLAY
DESCRIPTION:Comp wedstrijd 97: Santy Pils Marke - La galaxie
END:VALARM
END:VEVENT
BEGIN:VEVENT
UID:69e9e3da9e512
DTSTART:20251013T160000Z
SEQUENCE:0
TRANSP:OPAQUE
LOCATION:Rollegem
SUMMARY:Wedstrijd 126 KMVV
CLASS:PUBLIC
DESCRIPTION:Comp wedstrijd 126: La galaxie - Café Astor
X-ALT-DESC;FMTTYPE=text/html:Comp wedstrijd 126: <b>La galaxie - Café Asto
 r</b> te Rollegem
X-MICROSOFT-CDO-BUSYSTATUS:FREE
X-MICROSOFT-CDO-INTENDEDSTATUS:FREE
DTSTAMP:20260423T091818Z
BEGIN:VALARM
TRIGGER:-P1D
ACTION:DISPLAY
DESCRIPTION:Comp wedstrijd 126: La galaxie - Café Astor
END:VALARM
END:VEVENT
BEGIN:VEVENT
UID:69e9e3da9e536
DTSTART:20251030T203000Z
SEQUENCE:0
TRANSP:OPAQUE
LOCATION:Bissegem
SUMMARY:Wedstrijd 175 KMVV
CLASS:PUBLIC
DESCRIPTION:Comp wedstrijd 175: FuTurAc - La galaxie
X-ALT-DESC;FMTTYPE=text/html:Comp wedstrijd 175: <b>FuTurAc - La galaxie</b
 > te Bissegem
X-MICROSOFT-CDO-BUSYSTATUS:FREE
X-MICROSOFT-CDO-INTENDEDSTATUS:FREE
DTSTAMP:20260423T091818Z
BEGIN:VALARM
TRIGGER:-P1D
ACTION:DISPLAY
DESCRIPTION:Comp wedstrijd 175: FuTurAc - La galaxie
END:VALARM
END:VEVENT
BEGIN:VEVENT
UID:69e9e3da9e557
DTSTART:20251105T190000Z
SEQUENCE:0
TRANSP:OPAQUE
LOCATION:Rollegem
SUMMARY:Wedstrijd 190 KMVV
CLASS:PUBLIC
DESCRIPTION:Comp wedstrijd 190: BB FC - La galaxie
X-ALT-DESC;FMTTYPE=text/html:Comp wedstrijd 190: <b>BB FC - La galaxie</b> 
 te Rollegem
X-MICROSOFT-CDO-BUSYSTATUS:FREE
X-MICROSOFT-CDO-INTENDEDSTATUS:FREE
DTSTAMP:20260423T091818Z
BEGIN:VALARM
TRIGGER:-P1D
ACTION:DISPLAY
DESCRIPTION:Comp wedstrijd 190: BB FC - La galaxie
END:VALARM
END:VEVENT
BEGIN:VEVENT
UID:69e9e3da9e57a
DTSTART:20251119T203000Z
SEQUENCE:0
TRANSP:OPAQUE
LOCATION:Bissegem
SUMMARY:Wedstrijd 229 KMVV
CLASS:PUBLIC
DESCRIPTION:Comp wedstrijd 229: La galaxie - MVC De Max
X-ALT-DESC;FMTTYPE=text/html:Comp wedstrijd 229: <b>La galaxie - MVC De Max
 </b> te Bissegem
X-MICROSOFT-CDO-BUSYSTATUS:FREE
X-MICROSOFT-CDO-INTENDEDSTATUS:FREE
DTSTAMP:20260423T091818Z
BEGIN:VALARM
TRIGGER:-P1D
ACTION:DISPLAY
DESCRIPTION:Comp wedstrijd 229: La galaxie - MVC De Max
END:VALARM
END:VEVENT
BEGIN:VEVENT
UID:69e9e3da9e59c
DTSTART:20251124T180000Z
SEQUENCE:0
TRANSP:OPAQUE
LOCATION:Lagae
SUMMARY:Wedstrijd 243 KMVV
CLASS:PUBLIC
DESCRIPTION:Comp wedstrijd 243: Mex United - La galaxie
X-ALT-DESC;FMTTYPE=text/html:Comp wedstrijd 243: <b>Mex United - La galaxie
 </b> te Lagae
X-MICROSOFT-CDO-BUSYSTATUS:FREE
X-MICROSOFT-CDO-INTENDEDSTATUS:FREE
DTSTAMP:20260423T091818Z
BEGIN:VALARM
TRIGGER:-P1D
ACTION:DISPLAY
DESCRIPTION:Comp wedstrijd 243: Mex United - La galaxie
END:VALARM
END:VEVENT
BEGIN:VEVENT
UID:69e9e3da9e5c3
DTSTART:20251208T170000Z
SEQUENCE:0
TRANSP:OPAQUE
LOCATION:Rollegem
SUMMARY:Wedstrijd 286 KMVV
CLASS:PUBLIC
DESCRIPTION:Comp wedstrijd 286: La galaxie - Versa Vervacke
X-ALT-DESC;FMTTYPE=text/html:Comp wedstrijd 286: <b>La galaxie - Versa Verv
 acke</b> te Rollegem
X-MICROSOFT-CDO-BUSYSTATUS:FREE
X-MICROSOFT-CDO-INTENDEDSTATUS:FREE
DTSTAMP:20260423T091818Z
BEGIN:VALARM
TRIGGER:-P1D
ACTION:DISPLAY
DESCRIPTION:Comp wedstrijd 286: La galaxie - Versa Vervacke
END:VALARM
END:VEVENT
BEGIN:VEVENT
UID:69e9e3da9e5ee
DTSTART:20251215T170000Z
SEQUENCE:0
TRANSP:OPAQUE
LOCATION:Rollegem
SUMMARY:Wedstrijd 305 KMVV
CLASS:PUBLIC
DESCRIPTION:Comp wedstrijd 305: Dumo's coppes - La galaxie
X-ALT-DESC;FMTTYPE=text/html:Comp wedstrijd 305: <b>Dumo's coppes - La gala
 xie</b> te Rollegem
X-MICROSOFT-CDO-BUSYSTATUS:FREE
X-MICROSOFT-CDO-INTENDEDSTATUS:FREE
DTSTAMP:20260423T091818Z
BEGIN:VALARM
TRIGGER:-P1D
ACTION:DISPLAY
DESCRIPTION:Comp wedstrijd 305: Dumo's coppes - La galaxie
END:VALARM
END:VEVENT
BEGIN:VEVENT
UID:69e9e3da9e610
DTSTART:20260108T180000Z
SEQUENCE:0
TRANSP:OPAQUE
LOCATION:Lagae
SUMMARY:Wedstrijd 355 KMVV
CLASS:PUBLIC
DESCRIPTION:Comp wedstrijd 355: La galaxie - Davabo-Smooth Surface
X-ALT-DESC;FMTTYPE=text/html:Comp wedstrijd 355: <b>La galaxie - Davabo-Smo
 oth Surface</b> te Lagae
X-MICROSOFT-CDO-BUSYSTATUS:FREE
X-MICROSOFT-CDO-INTENDEDSTATUS:FREE
DTSTAMP:20260423T091818Z
BEGIN:VALARM
TRIGGER:-P1D
ACTION:DISPLAY
DESCRIPTION:Comp wedstrijd 355: La galaxie - Davabo-Smooth Surface
END:VALARM
END:VEVENT
BEGIN:VEVENT
UID:69e9e3da9e632
DTSTART:20260122T180000Z
SEQUENCE:0
TRANSP:OPAQUE
LOCATION:Lagae
SUMMARY:Wedstrijd 395 KMVV
CLASS:PUBLIC
DESCRIPTION:Comp wedstrijd 395: La galaxie - Westerstrand
X-ALT-DESC;FMTTYPE=text/html:Comp wedstrijd 395: <b>La galaxie - Westerstra
 nd</b> te Lagae
X-MICROSOFT-CDO-BUSYSTATUS:FREE
X-MICROSOFT-CDO-INTENDEDSTATUS:FREE
DTSTAMP:20260423T091818Z
BEGIN:VALARM
TRIGGER:-P1D
ACTION:DISPLAY
DESCRIPTION:Comp wedstrijd 395: La galaxie - Westerstrand
END:VALARM
END:VEVENT
BEGIN:VEVENT
UID:69e9e3da9e653
DTSTART:20260216T190000Z
SEQUENCE:0
TRANSP:OPAQUE
LOCATION:Rollegem
SUMMARY:Wedstrijd 414 KMVV
CLASS:PUBLIC
DESCRIPTION:Comp wedstrijd 414: La galaxie - Blacks
X-ALT-DESC;FMTTYPE=text/html:Comp wedstrijd 414: <b>La galaxie - Blacks</b>
  te Rollegem
X-MICROSOFT-CDO-BUSYSTATUS:FREE
X-MICROSOFT-CDO-INTENDEDSTATUS:FREE
DTSTAMP:20260423T091818Z
BEGIN:VALARM
TRIGGER:-P1D
ACTION:DISPLAY
DESCRIPTION:Comp wedstrijd 414: La galaxie - Blacks
END:VALARM
END:VEVENT
BEGIN:VEVENT
UID:69e9e3da9e677
DTSTART:20260304T200000Z
SEQUENCE:0
TRANSP:OPAQUE
LOCATION:Rollegem
SUMMARY:Wedstrijd 458 KMVV
CLASS:PUBLIC
DESCRIPTION:Comp wedstrijd 458: La galaxie - De Labberleute
X-ALT-DESC;FMTTYPE=text/html:Comp wedstrijd 458: <b>La galaxie - De Labberl
 eute</b> te Rollegem
X-MICROSOFT-CDO-BUSYSTATUS:FREE
X-MICROSOFT-CDO-INTENDEDSTATUS:FREE
DTSTAMP:20260423T091818Z
BEGIN:VALARM
TRIGGER:-P1D
ACTION:DISPLAY
DESCRIPTION:Comp wedstrijd 458: La galaxie - De Labberleute
END:VALARM
END:VEVENT
BEGIN:VEVENT
UID:69e9e3da9e69b
DTSTART:20260309T180000Z
SEQUENCE:0
TRANSP:OPAQUE
LOCATION:Rollegem
SUMMARY:Wedstrijd 472 KMVV
CLASS:PUBLIC
DESCRIPTION:Comp wedstrijd 472: T-Team - La galaxie
X-ALT-DESC;FMTTYPE=text/html:Comp wedstrijd 472: <b>T-Team - La galaxie</b>
  te Rollegem
X-MICROSOFT-CDO-BUSYSTATUS:FREE
X-MICROSOFT-CDO-INTENDEDSTATUS:FREE
DTSTAMP:20260423T091818Z
BEGIN:VALARM
TRIGGER:-P1D
ACTION:DISPLAY
DESCRIPTION:Comp wedstrijd 472: T-Team - La galaxie
END:VALARM
END:VEVENT
BEGIN:VEVENT
UID:69e9e3da9e6b0
DTSTART:20260316T180000Z
SEQUENCE:0
TRANSP:OPAQUE
LOCATION:Rollegem
SUMMARY:Wedstrijd 493 KMVV
CLASS:PUBLIC
DESCRIPTION:Comp wedstrijd 493: La galaxie - Santy Pils Marke
X-ALT-DESC;FMTTYPE=text/html:Comp wedstrijd 493: <b>La galaxie - Santy Pils
  Marke</b> te Rollegem
X-MICROSOFT-CDO-BUSYSTATUS:FREE
X-MICROSOFT-CDO-INTENDEDSTATUS:FREE
DTSTAMP:20260423T091818Z
BEGIN:VALARM
TRIGGER:-P1D
ACTION:DISPLAY
DESCRIPTION:Comp wedstrijd 493: La galaxie - Santy Pils Marke
END:VALARM
END:VEVENT
BEGIN:VEVENT
UID:69e9e3da9e6d0
DTSTART:20260330T190000Z
SEQUENCE:0
TRANSP:OPAQUE
LOCATION:Rollegem
SUMMARY:Wedstrijd 525 KMVV
CLASS:PUBLIC
DESCRIPTION:Comp wedstrijd 525: Café Astor - La galaxie
X-ALT-DESC;FMTTYPE=text/html:Comp wedstrijd 525: <b>Café Astor - La galaxi
 e</b> te Rollegem
X-MICROSOFT-CDO-BUSYSTATUS:FREE
X-MICROSOFT-CDO-INTENDEDSTATUS:FREE
DTSTAMP:20260423T091818Z
BEGIN:VALARM
TRIGGER:-P1D
ACTION:DISPLAY
DESCRIPTION:Comp wedstrijd 525: Café Astor - La galaxie
END:VALARM
END:VEVENT
BEGIN:VEVENT
UID:69e9e3da9e6ef
DTSTART:20260413T160000Z
SEQUENCE:0
TRANSP:OPAQUE
LOCATION:Rollegem
SUMMARY:Wedstrijd 554 KMVV
CLASS:PUBLIC
DESCRIPTION:Comp wedstrijd 554: La galaxie - Bakkerij Bekaert
X-ALT-DESC;FMTTYPE=text/html:Comp wedstrijd 554: <b>La galaxie - Bakkerij B
 ekaert</b> te Rollegem
X-MICROSOFT-CDO-BUSYSTATUS:FREE
X-MICROSOFT-CDO-INTENDEDSTATUS:FREE
DTSTAMP:20260423T091818Z
BEGIN:VALARM
TRIGGER:-P1D
ACTION:DISPLAY
DESCRIPTION:Comp wedstrijd 554: La galaxie - Bakkerij Bekaert
END:VALARM
END:VEVENT
BEGIN:VEVENT
UID:69e9e3da9e70a
DTSTART:20260427T170000Z
SEQUENCE:0
TRANSP:OPAQUE
LOCATION:Lagae
SUMMARY:Wedstrijd 591 KMVV
CLASS:PUBLIC
DESCRIPTION:Comp wedstrijd 591: La galaxie - BB FC
X-ALT-DESC;FMTTYPE=text/html:Comp wedstrijd 591: <b>La galaxie - BB FC</b> 
 te Lagae
X-MICROSOFT-CDO-BUSYSTATUS:FREE
X-MICROSOFT-CDO-INTENDEDSTATUS:FREE
DTSTAMP:20260423T091818Z
BEGIN:VALARM
TRIGGER:-P1D
ACTION:DISPLAY
DESCRIPTION:Comp wedstrijd 591: La galaxie - BB FC
END:VALARM
END:VEVENT
BEGIN:VEVENT
UID:69e9e3da9e729
DTSTART:20260511T160000Z
SEQUENCE:0
TRANSP:OPAQUE
LOCATION:Rollegem
SUMMARY:Wedstrijd 634 KMVV
CLASS:PUBLIC
DESCRIPTION:Comp wedstrijd 634: MVC De Max - La galaxie
X-ALT-DESC;FMTTYPE=text/html:Comp wedstrijd 634: <b>MVC De Max - La galaxie
 </b> te Rollegem
X-MICROSOFT-CDO-BUSYSTATUS:FREE
X-MICROSOFT-CDO-INTENDEDSTATUS:FREE
DTSTAMP:20260423T091818Z
BEGIN:VALARM
TRIGGER:-P1D
ACTION:DISPLAY
DESCRIPTION:Comp wedstrijd 634: MVC De Max - La galaxie
END:VALARM
END:VEVENT
BEGIN:VEVENT
UID:69e9e3da9e74a
DTSTART:20260529T190000Z
SEQUENCE:0
TRANSP:OPAQUE
LOCATION:Rollegem
SUMMARY:Wedstrijd 683 KMVV
CLASS:PUBLIC
DESCRIPTION:Comp wedstrijd 683: La galaxie - Mex United
X-ALT-DESC;FMTTYPE=text/html:Comp wedstrijd 683: <b>La galaxie - Mex United
 </b> te Rollegem
X-MICROSOFT-CDO-BUSYSTATUS:FREE
X-MICROSOFT-CDO-INTENDEDSTATUS:FREE
DTSTAMP:20260423T091818Z
BEGIN:VALARM
TRIGGER:-P1D
ACTION:DISPLAY
DESCRIPTION:Comp wedstrijd 683: La galaxie - Mex United
END:VALARM
END:VEVENT
BEGIN:VEVENT
UID:69e9e3da9e76b
DTSTART:20260605T180000Z
SEQUENCE:0
TRANSP:OPAQUE
LOCATION:Bissegem
SUMMARY:Wedstrijd 709 KMVV
CLASS:PUBLIC
DESCRIPTION:Comp wedstrijd 709: Y.B.Speelplaneet - La galaxie
X-ALT-DESC;FMTTYPE=text/html:Comp wedstrijd 709: <b>Y.B.Speelplaneet - La g
 alaxie</b> te Bissegem
X-MICROSOFT-CDO-BUSYSTATUS:FREE
X-MICROSOFT-CDO-INTENDEDSTATUS:FREE
DTSTAMP:20260423T091818Z
BEGIN:VALARM
TRIGGER:-P1D
ACTION:DISPLAY
DESCRIPTION:Comp wedstrijd 709: Y.B.Speelplaneet - La galaxie
END:VALARM
END:VEVENT
BEGIN:VEVENT
UID:69e9e3da9e78c
DTSTART:20260608T160000Z
SEQUENCE:0
TRANSP:OPAQUE
LOCATION:Rollegem
SUMMARY:Wedstrijd 719 KMVV
CLASS:PUBLIC
DESCRIPTION:Comp wedstrijd 719: La galaxie - Dumo's coppes
X-ALT-DESC;FMTTYPE=text/html:Comp wedstrijd 719: <b>La galaxie - Dumo's cop
 pes</b> te Rollegem
X-MICROSOFT-CDO-BUSYSTATUS:FREE
X-MICROSOFT-CDO-INTENDEDSTATUS:FREE
DTSTAMP:20260423T091818Z
BEGIN:VALARM
TRIGGER:-P1D
ACTION:DISPLAY
DESCRIPTION:Comp wedstrijd 719: La galaxie - Dumo's coppes
END:VALARM
END:VEVENT
BEGIN:VEVENT
UID:69e9e3da9e7ad
DTSTART:20260618T160000Z
SEQUENCE:0
TRANSP:OPAQUE
LOCATION:Lagae
SUMMARY:Wedstrijd 764 KMVV
CLASS:PUBLIC
DESCRIPTION:Comp wedstrijd 764: Davabo-Smooth Surface - La galaxie
X-ALT-DESC;FMTTYPE=text/html:Comp wedstrijd 764: <b>Davabo-Smooth Surface -
  La galaxie</b> te Lagae
X-MICROSOFT-CDO-BUSYSTATUS:FREE
X-MICROSOFT-CDO-INTENDEDSTATUS:FREE
DTSTAMP:20260423T091818Z
BEGIN:VALARM
TRIGGER:-P1D
ACTION:DISPLAY
DESCRIPTION:Comp wedstrijd 764: Davabo-Smooth Surface - La galaxie
END:VALARM
END:VEVENT
BEGIN:VEVENT
UID:69e9e3da9e7d3
DTSTART:20260625T170000Z
SEQUENCE:0
TRANSP:OPAQUE
LOCATION:Bissegem
SUMMARY:Wedstrijd 788 KMVV
CLASS:PUBLIC
DESCRIPTION:Comp wedstrijd 788: De Rooftoppers - La galaxie
X-ALT-DESC;FMTTYPE=text/html:Comp wedstrijd 788: <b>De Rooftoppers - La gal
 axie</b> te Bissegem
X-MICROSOFT-CDO-BUSYSTATUS:FREE
X-MICROSOFT-CDO-INTENDEDSTATUS:FREE
DTSTAMP:20260423T091818Z
BEGIN:VALARM
TRIGGER:-P1D
ACTION:DISPLAY
DESCRIPTION:Comp wedstrijd 788: De Rooftoppers - La galaxie
END:VALARM
END:VEVENT
END:VCALENDAR