BEGIN:VCALENDAR
VERSION:2.0
PRODID:www.kmvv.be
BEGIN:VEVENT
UID:69e9e13d016cc
DTSTART:20250901T170000Z
SEQUENCE:0
TRANSP:OPAQUE
LOCATION:Lagae
SUMMARY:Wedstrijd 3 KMVV
CLASS:PUBLIC
DESCRIPTION:Comp wedstrijd 3: Dumo's coppes - Mex United
X-ALT-DESC;FMTTYPE=text/html:Comp wedstrijd 3: <b>Dumo's coppes - Mex Unite
 d</b> te Lagae
X-MICROSOFT-CDO-BUSYSTATUS:FREE
X-MICROSOFT-CDO-INTENDEDSTATUS:FREE
DTSTAMP:20260423T090709Z
BEGIN:VALARM
TRIGGER:-P1D
ACTION:DISPLAY
DESCRIPTION:Comp wedstrijd 3: Dumo's coppes - Mex United
END:VALARM
END:VEVENT
BEGIN:VEVENT
UID:69e9e13d019da
DTSTART:20250910T180000Z
SEQUENCE:0
TRANSP:OPAQUE
LOCATION:Rollegem
SUMMARY:Wedstrijd 30 KMVV
CLASS:PUBLIC
DESCRIPTION:Comp wedstrijd 30: Cafe 1917 - Mex United
X-ALT-DESC;FMTTYPE=text/html:Comp wedstrijd 30: <b>Cafe 1917 - Mex United</
 b> te Rollegem
X-MICROSOFT-CDO-BUSYSTATUS:FREE
X-MICROSOFT-CDO-INTENDEDSTATUS:FREE
DTSTAMP:20260423T090709Z
BEGIN:VALARM
TRIGGER:-P1D
ACTION:DISPLAY
DESCRIPTION:Comp wedstrijd 30: Cafe 1917 - Mex United
END:VALARM
END:VEVENT
BEGIN:VEVENT
UID:69e9e13d019fc
DTSTART:20250922T193000Z
SEQUENCE:0
TRANSP:OPAQUE
LOCATION:Bissegem
SUMMARY:Wedstrijd 61 KMVV
CLASS:PUBLIC
DESCRIPTION:Comp wedstrijd 61: Mex United - Westerstrand
X-ALT-DESC;FMTTYPE=text/html:Comp wedstrijd 61: <b>Mex United - Westerstran
 d</b> te Bissegem
X-MICROSOFT-CDO-BUSYSTATUS:FREE
X-MICROSOFT-CDO-INTENDEDSTATUS:FREE
DTSTAMP:20260423T090709Z
BEGIN:VALARM
TRIGGER:-P1D
ACTION:DISPLAY
DESCRIPTION:Comp wedstrijd 61: Mex United - Westerstrand
END:VALARM
END:VEVENT
BEGIN:VEVENT
UID:69e9e13d01a13
DTSTART:20250929T170000Z
SEQUENCE:0
TRANSP:OPAQUE
LOCATION:Lagae
SUMMARY:Wedstrijd 83 KMVV
CLASS:PUBLIC
DESCRIPTION:Comp wedstrijd 83: De Labberleute - Mex United
X-ALT-DESC;FMTTYPE=text/html:Comp wedstrijd 83: <b>De Labberleute - Mex Uni
 ted</b> te Lagae
X-MICROSOFT-CDO-BUSYSTATUS:FREE
X-MICROSOFT-CDO-INTENDEDSTATUS:FREE
DTSTAMP:20260423T090709Z
BEGIN:VALARM
TRIGGER:-P1D
ACTION:DISPLAY
DESCRIPTION:Comp wedstrijd 83: De Labberleute - Mex United
END:VALARM
END:VEVENT
BEGIN:VEVENT
UID:69e9e13d01a28
DTSTART:20251015T193000Z
SEQUENCE:0
TRANSP:OPAQUE
LOCATION:Bissegem
SUMMARY:Wedstrijd 130 KMVV
CLASS:PUBLIC
DESCRIPTION:Comp wedstrijd 130: Mex United - T-Team
X-ALT-DESC;FMTTYPE=text/html:Comp wedstrijd 130: <b>Mex United - T-Team</b>
  te Bissegem
X-MICROSOFT-CDO-BUSYSTATUS:FREE
X-MICROSOFT-CDO-INTENDEDSTATUS:FREE
DTSTAMP:20260423T090709Z
BEGIN:VALARM
TRIGGER:-P1D
ACTION:DISPLAY
DESCRIPTION:Comp wedstrijd 130: Mex United - T-Team
END:VALARM
END:VEVENT
BEGIN:VEVENT
UID:69e9e13d01a3c
DTSTART:20251027T170000Z
SEQUENCE:0
TRANSP:OPAQUE
LOCATION:Rollegem
SUMMARY:Wedstrijd 166 KMVV
CLASS:PUBLIC
DESCRIPTION:Comp wedstrijd 166: Santy Pils Marke - Mex United
X-ALT-DESC;FMTTYPE=text/html:Comp wedstrijd 166: <b>Santy Pils Marke - Mex 
 United</b> te Rollegem
X-MICROSOFT-CDO-BUSYSTATUS:FREE
X-MICROSOFT-CDO-INTENDEDSTATUS:FREE
DTSTAMP:20260423T090709Z
BEGIN:VALARM
TRIGGER:-P1D
ACTION:DISPLAY
DESCRIPTION:Comp wedstrijd 166: Santy Pils Marke - Mex United
END:VALARM
END:VEVENT
BEGIN:VEVENT
UID:69e9e13d01a51
DTSTART:20251103T180000Z
SEQUENCE:0
TRANSP:OPAQUE
LOCATION:Rollegem
SUMMARY:Wedstrijd 186 KMVV
CLASS:PUBLIC
DESCRIPTION:Comp wedstrijd 186: Mex United - Café Astor
X-ALT-DESC;FMTTYPE=text/html:Comp wedstrijd 186: <b>Mex United - Café Asto
 r</b> te Rollegem
X-MICROSOFT-CDO-BUSYSTATUS:FREE
X-MICROSOFT-CDO-INTENDEDSTATUS:FREE
DTSTAMP:20260423T090709Z
BEGIN:VALARM
TRIGGER:-P1D
ACTION:DISPLAY
DESCRIPTION:Comp wedstrijd 186: Mex United - Café Astor
END:VALARM
END:VEVENT
BEGIN:VEVENT
UID:69e9e13d01a64
DTSTART:20251117T203000Z
SEQUENCE:0
TRANSP:OPAQUE
LOCATION:Bissegem
SUMMARY:Wedstrijd 221 KMVV
CLASS:PUBLIC
DESCRIPTION:Comp wedstrijd 221: FuTurAc - Mex United
X-ALT-DESC;FMTTYPE=text/html:Comp wedstrijd 221: <b>FuTurAc - Mex United</b
 > te Bissegem
X-MICROSOFT-CDO-BUSYSTATUS:FREE
X-MICROSOFT-CDO-INTENDEDSTATUS:FREE
DTSTAMP:20260423T090709Z
BEGIN:VALARM
TRIGGER:-P1D
ACTION:DISPLAY
DESCRIPTION:Comp wedstrijd 221: FuTurAc - Mex United
END:VALARM
END:VEVENT
BEGIN:VEVENT
UID:69e9e13d01a77
DTSTART:20251124T180000Z
SEQUENCE:0
TRANSP:OPAQUE
LOCATION:Lagae
SUMMARY:Wedstrijd 243 KMVV
CLASS:PUBLIC
DESCRIPTION:Comp wedstrijd 243: Mex United - La galaxie
X-ALT-DESC;FMTTYPE=text/html:Comp wedstrijd 243: <b>Mex United - La galaxie
 </b> te Lagae
X-MICROSOFT-CDO-BUSYSTATUS:FREE
X-MICROSOFT-CDO-INTENDEDSTATUS:FREE
DTSTAMP:20260423T090709Z
BEGIN:VALARM
TRIGGER:-P1D
ACTION:DISPLAY
DESCRIPTION:Comp wedstrijd 243: Mex United - La galaxie
END:VALARM
END:VEVENT
BEGIN:VEVENT
UID:69e9e13d01a8a
DTSTART:20251208T180000Z
SEQUENCE:0
TRANSP:OPAQUE
LOCATION:Rollegem
SUMMARY:Wedstrijd 287 KMVV
CLASS:PUBLIC
DESCRIPTION:Comp wedstrijd 287: MVC De Max - Mex United
X-ALT-DESC;FMTTYPE=text/html:Comp wedstrijd 287: <b>MVC De Max - Mex United
 </b> te Rollegem
X-MICROSOFT-CDO-BUSYSTATUS:FREE
X-MICROSOFT-CDO-INTENDEDSTATUS:FREE
DTSTAMP:20260423T090709Z
BEGIN:VALARM
TRIGGER:-P1D
ACTION:DISPLAY
DESCRIPTION:Comp wedstrijd 287: MVC De Max - Mex United
END:VALARM
END:VEVENT
BEGIN:VEVENT
UID:69e9e13d01ac5
DTSTART:20251222T170000Z
SEQUENCE:0
TRANSP:OPAQUE
LOCATION:Rollegem
SUMMARY:Wedstrijd 326 KMVV
CLASS:PUBLIC
DESCRIPTION:Comp wedstrijd 326: BB FC - Mex United
X-ALT-DESC;FMTTYPE=text/html:Comp wedstrijd 326: <b>BB FC - Mex United</b> 
 te Rollegem
X-MICROSOFT-CDO-BUSYSTATUS:FREE
X-MICROSOFT-CDO-INTENDEDSTATUS:FREE
DTSTAMP:20260423T090709Z
BEGIN:VALARM
TRIGGER:-P1D
ACTION:DISPLAY
DESCRIPTION:Comp wedstrijd 326: BB FC - Mex United
END:VALARM
END:VEVENT
BEGIN:VEVENT
UID:69e9e13d01ad9
DTSTART:20260108T183000Z
SEQUENCE:0
TRANSP:OPAQUE
LOCATION:Bissegem
SUMMARY:Wedstrijd 351 KMVV
CLASS:PUBLIC
DESCRIPTION:Comp wedstrijd 351: Mex United - Versa Vervacke
X-ALT-DESC;FMTTYPE=text/html:Comp wedstrijd 351: <b>Mex United - Versa Verv
 acke</b> te Bissegem
X-MICROSOFT-CDO-BUSYSTATUS:FREE
X-MICROSOFT-CDO-INTENDEDSTATUS:FREE
DTSTAMP:20260423T090709Z
BEGIN:VALARM
TRIGGER:-P1D
ACTION:DISPLAY
DESCRIPTION:Comp wedstrijd 351: Mex United - Versa Vervacke
END:VALARM
END:VEVENT
BEGIN:VEVENT
UID:69e9e13d01aed
DTSTART:20260122T193000Z
SEQUENCE:0
TRANSP:OPAQUE
LOCATION:Bissegem
SUMMARY:Wedstrijd 392 KMVV
CLASS:PUBLIC
DESCRIPTION:Comp wedstrijd 392: Mex United - Davabo-Smooth Surface
X-ALT-DESC;FMTTYPE=text/html:Comp wedstrijd 392: <b>Mex United - Davabo-Smo
 oth Surface</b> te Bissegem
X-MICROSOFT-CDO-BUSYSTATUS:FREE
X-MICROSOFT-CDO-INTENDEDSTATUS:FREE
DTSTAMP:20260423T090709Z
BEGIN:VALARM
TRIGGER:-P1D
ACTION:DISPLAY
DESCRIPTION:Comp wedstrijd 392: Mex United - Davabo-Smooth Surface
END:VALARM
END:VEVENT
BEGIN:VEVENT
UID:69e9e13d01aff
DTSTART:20260305T180000Z
SEQUENCE:0
TRANSP:OPAQUE
LOCATION:Lagae
SUMMARY:Wedstrijd 463 KMVV
CLASS:PUBLIC
DESCRIPTION:Comp wedstrijd 463: Mex United - Blacks
X-ALT-DESC;FMTTYPE=text/html:Comp wedstrijd 463: <b>Mex United - Blacks</b>
  te Lagae
X-MICROSOFT-CDO-BUSYSTATUS:FREE
X-MICROSOFT-CDO-INTENDEDSTATUS:FREE
DTSTAMP:20260423T090709Z
BEGIN:VALARM
TRIGGER:-P1D
ACTION:DISPLAY
DESCRIPTION:Comp wedstrijd 463: Mex United - Blacks
END:VALARM
END:VEVENT
BEGIN:VEVENT
UID:69e9e13d01b12
DTSTART:20260312T180000Z
SEQUENCE:0
TRANSP:OPAQUE
LOCATION:Lagae
SUMMARY:Wedstrijd 482 KMVV
CLASS:PUBLIC
DESCRIPTION:Comp wedstrijd 482: De Rooftoppers - Mex United
X-ALT-DESC;FMTTYPE=text/html:Comp wedstrijd 482: <b>De Rooftoppers - Mex Un
 ited</b> te Lagae
X-MICROSOFT-CDO-BUSYSTATUS:FREE
X-MICROSOFT-CDO-INTENDEDSTATUS:FREE
DTSTAMP:20260423T090709Z
BEGIN:VALARM
TRIGGER:-P1D
ACTION:DISPLAY
DESCRIPTION:Comp wedstrijd 482: De Rooftoppers - Mex United
END:VALARM
END:VEVENT
BEGIN:VEVENT
UID:69e9e13d01b25
DTSTART:20260318T190000Z
SEQUENCE:0
TRANSP:OPAQUE
LOCATION:Rollegem
SUMMARY:Wedstrijd 497 KMVV
CLASS:PUBLIC
DESCRIPTION:Comp wedstrijd 497: Mex United - De Labberleute
X-ALT-DESC;FMTTYPE=text/html:Comp wedstrijd 497: <b>Mex United - De Labberl
 eute</b> te Rollegem
X-MICROSOFT-CDO-BUSYSTATUS:FREE
X-MICROSOFT-CDO-INTENDEDSTATUS:FREE
DTSTAMP:20260423T090709Z
BEGIN:VALARM
TRIGGER:-P1D
ACTION:DISPLAY
DESCRIPTION:Comp wedstrijd 497: Mex United - De Labberleute
END:VALARM
END:VEVENT
BEGIN:VEVENT
UID:69e9e13d01b37
DTSTART:20260401T180000Z
SEQUENCE:0
TRANSP:OPAQUE
LOCATION:Rollegem
SUMMARY:Wedstrijd 530 KMVV
CLASS:PUBLIC
DESCRIPTION:Comp wedstrijd 530: T-Team - Mex United
X-ALT-DESC;FMTTYPE=text/html:Comp wedstrijd 530: <b>T-Team - Mex United</b>
  te Rollegem
X-MICROSOFT-CDO-BUSYSTATUS:FREE
X-MICROSOFT-CDO-INTENDEDSTATUS:FREE
DTSTAMP:20260423T090709Z
BEGIN:VALARM
TRIGGER:-P1D
ACTION:DISPLAY
DESCRIPTION:Comp wedstrijd 530: T-Team - Mex United
END:VALARM
END:VEVENT
BEGIN:VEVENT
UID:69e9e13d01b4a
DTSTART:20260415T193000Z
SEQUENCE:0
TRANSP:OPAQUE
LOCATION:Bissegem
SUMMARY:Wedstrijd 558 KMVV
CLASS:PUBLIC
DESCRIPTION:Comp wedstrijd 558: Mex United - Santy Pils Marke
X-ALT-DESC;FMTTYPE=text/html:Comp wedstrijd 558: <b>Mex United - Santy Pils
  Marke</b> te Bissegem
X-MICROSOFT-CDO-BUSYSTATUS:FREE
X-MICROSOFT-CDO-INTENDEDSTATUS:FREE
DTSTAMP:20260423T090709Z
BEGIN:VALARM
TRIGGER:-P1D
ACTION:DISPLAY
DESCRIPTION:Comp wedstrijd 558: Mex United - Santy Pils Marke
END:VALARM
END:VEVENT
BEGIN:VEVENT
UID:69e9e13d01b5c
DTSTART:20260429T193000Z
SEQUENCE:0
TRANSP:OPAQUE
LOCATION:Bissegem
SUMMARY:Wedstrijd 598 KMVV
CLASS:PUBLIC
DESCRIPTION:Comp wedstrijd 598: Café Astor - Mex United
X-ALT-DESC;FMTTYPE=text/html:Comp wedstrijd 598: <b>Café Astor - Mex Unite
 d</b> te Bissegem
X-MICROSOFT-CDO-BUSYSTATUS:FREE
X-MICROSOFT-CDO-INTENDEDSTATUS:FREE
DTSTAMP:20260423T090709Z
BEGIN:VALARM
TRIGGER:-P1D
ACTION:DISPLAY
DESCRIPTION:Comp wedstrijd 598: Café Astor - Mex United
END:VALARM
END:VEVENT
BEGIN:VEVENT
UID:69e9e13d01b6e
DTSTART:20260504T170000Z
SEQUENCE:0
TRANSP:OPAQUE
LOCATION:Lagae
SUMMARY:Wedstrijd 608 KMVV
CLASS:PUBLIC
DESCRIPTION:Comp wedstrijd 608: Mex United - Bakkerij Bekaert
X-ALT-DESC;FMTTYPE=text/html:Comp wedstrijd 608: <b>Mex United - Bakkerij B
 ekaert</b> te Lagae
X-MICROSOFT-CDO-BUSYSTATUS:FREE
X-MICROSOFT-CDO-INTENDEDSTATUS:FREE
DTSTAMP:20260423T090709Z
BEGIN:VALARM
TRIGGER:-P1D
ACTION:DISPLAY
DESCRIPTION:Comp wedstrijd 608: Mex United - Bakkerij Bekaert
END:VALARM
END:VEVENT
BEGIN:VEVENT
UID:69e9e13d01b7f
DTSTART:20260529T190000Z
SEQUENCE:0
TRANSP:OPAQUE
LOCATION:Rollegem
SUMMARY:Wedstrijd 683 KMVV
CLASS:PUBLIC
DESCRIPTION:Comp wedstrijd 683: La galaxie - Mex United
X-ALT-DESC;FMTTYPE=text/html:Comp wedstrijd 683: <b>La galaxie - Mex United
 </b> te Rollegem
X-MICROSOFT-CDO-BUSYSTATUS:FREE
X-MICROSOFT-CDO-INTENDEDSTATUS:FREE
DTSTAMP:20260423T090709Z
BEGIN:VALARM
TRIGGER:-P1D
ACTION:DISPLAY
DESCRIPTION:Comp wedstrijd 683: La galaxie - Mex United
END:VALARM
END:VEVENT
BEGIN:VEVENT
UID:69e9e13d01b92
DTSTART:20260601T190000Z
SEQUENCE:0
TRANSP:OPAQUE
LOCATION:Rollegem
SUMMARY:Wedstrijd 690 KMVV
CLASS:PUBLIC
DESCRIPTION:Comp wedstrijd 690: Mex United - MVC De Max
X-ALT-DESC;FMTTYPE=text/html:Comp wedstrijd 690: <b>Mex United - MVC De Max
 </b> te Rollegem
X-MICROSOFT-CDO-BUSYSTATUS:FREE
X-MICROSOFT-CDO-INTENDEDSTATUS:FREE
DTSTAMP:20260423T090709Z
BEGIN:VALARM
TRIGGER:-P1D
ACTION:DISPLAY
DESCRIPTION:Comp wedstrijd 690: Mex United - MVC De Max
END:VALARM
END:VEVENT
BEGIN:VEVENT
UID:69e9e13d01ba3
DTSTART:20260611T170000Z
SEQUENCE:0
TRANSP:OPAQUE
LOCATION:Bissegem
SUMMARY:Wedstrijd 733 KMVV
CLASS:PUBLIC
DESCRIPTION:Comp wedstrijd 733: Mex United - BB FC
X-ALT-DESC;FMTTYPE=text/html:Comp wedstrijd 733: <b>Mex United - BB FC</b> 
 te Bissegem
X-MICROSOFT-CDO-BUSYSTATUS:FREE
X-MICROSOFT-CDO-INTENDEDSTATUS:FREE
DTSTAMP:20260423T090709Z
BEGIN:VALARM
TRIGGER:-P1D
ACTION:DISPLAY
DESCRIPTION:Comp wedstrijd 733: Mex United - BB FC
END:VALARM
END:VEVENT
BEGIN:VEVENT
UID:69e9e13d01bb5
DTSTART:20260615T190000Z
SEQUENCE:0
TRANSP:OPAQUE
LOCATION:Lagae
SUMMARY:Wedstrijd 749 KMVV
CLASS:PUBLIC
DESCRIPTION:Comp wedstrijd 749: Y.B.Speelplaneet - Mex United
X-ALT-DESC;FMTTYPE=text/html:Comp wedstrijd 749: <b>Y.B.Speelplaneet - Mex 
 United</b> te Lagae
X-MICROSOFT-CDO-BUSYSTATUS:FREE
X-MICROSOFT-CDO-INTENDEDSTATUS:FREE
DTSTAMP:20260423T090709Z
BEGIN:VALARM
TRIGGER:-P1D
ACTION:DISPLAY
DESCRIPTION:Comp wedstrijd 749: Y.B.Speelplaneet - Mex United
END:VALARM
END:VEVENT
BEGIN:VEVENT
UID:69e9e13d01bc6
DTSTART:20260617T180000Z
SEQUENCE:0
TRANSP:OPAQUE
LOCATION:Rollegem
SUMMARY:Wedstrijd 445 KMVV
CLASS:PUBLIC
DESCRIPTION:Comp wedstrijd 445: Mex United - Dumo's coppes
X-ALT-DESC;FMTTYPE=text/html:Comp wedstrijd 445: <b>Mex United - Dumo's cop
 pes</b> te Rollegem
X-MICROSOFT-CDO-BUSYSTATUS:FREE
X-MICROSOFT-CDO-INTENDEDSTATUS:FREE
DTSTAMP:20260423T090709Z
BEGIN:VALARM
TRIGGER:-P1D
ACTION:DISPLAY
DESCRIPTION:Comp wedstrijd 445: Mex United - Dumo's coppes
END:VALARM
END:VEVENT
BEGIN:VEVENT
UID:69e9e13d01bd9
DTSTART:20260625T193000Z
SEQUENCE:0
TRANSP:OPAQUE
LOCATION:Rollegem
SUMMARY:Wedstrijd 794 KMVV
CLASS:PUBLIC
DESCRIPTION:Comp wedstrijd 794: Davabo-Smooth Surface - Mex United
X-ALT-DESC;FMTTYPE=text/html:Comp wedstrijd 794: <b>Davabo-Smooth Surface -
  Mex United</b> te Rollegem
X-MICROSOFT-CDO-BUSYSTATUS:FREE
X-MICROSOFT-CDO-INTENDEDSTATUS:FREE
DTSTAMP:20260423T090709Z
BEGIN:VALARM
TRIGGER:-P1D
ACTION:DISPLAY
DESCRIPTION:Comp wedstrijd 794: Davabo-Smooth Surface - Mex United
END:VALARM
END:VEVENT
END:VCALENDAR