BEGIN:VCALENDAR
VERSION:2.0
PRODID:www.kmvv.be
BEGIN:VEVENT
UID:69e9e50ed3202
DTSTART:20250903T190000Z
SEQUENCE:0
TRANSP:OPAQUE
LOCATION:Rollegem
SUMMARY:Wedstrijd 12 KMVV
CLASS:PUBLIC
DESCRIPTION:Comp wedstrijd 12: Davabo-Smooth Surface - MVC De Max
X-ALT-DESC;FMTTYPE=text/html:Comp wedstrijd 12: <b>Davabo-Smooth Surface - 
 MVC De Max</b> te Rollegem
X-MICROSOFT-CDO-BUSYSTATUS:FREE
X-MICROSOFT-CDO-INTENDEDSTATUS:FREE
DTSTAMP:20260423T092326Z
BEGIN:VALARM
TRIGGER:-P1D
ACTION:DISPLAY
DESCRIPTION:Comp wedstrijd 12: Davabo-Smooth Surface - MVC De Max
END:VALARM
END:VEVENT
BEGIN:VEVENT
UID:69e9e50ed352b
DTSTART:20250910T190000Z
SEQUENCE:0
TRANSP:OPAQUE
LOCATION:Rollegem
SUMMARY:Wedstrijd 31 KMVV
CLASS:PUBLIC
DESCRIPTION:Comp wedstrijd 31: Westerstrand - MVC De Max
X-ALT-DESC;FMTTYPE=text/html:Comp wedstrijd 31: <b>Westerstrand - MVC De Ma
 x</b> te Rollegem
X-MICROSOFT-CDO-BUSYSTATUS:FREE
X-MICROSOFT-CDO-INTENDEDSTATUS:FREE
DTSTAMP:20260423T092326Z
BEGIN:VALARM
TRIGGER:-P1D
ACTION:DISPLAY
DESCRIPTION:Comp wedstrijd 31: Westerstrand - MVC De Max
END:VALARM
END:VEVENT
BEGIN:VEVENT
UID:69e9e50ed354e
DTSTART:20250922T190000Z
SEQUENCE:0
TRANSP:OPAQUE
LOCATION:Rollegem
SUMMARY:Wedstrijd 68 KMVV
CLASS:PUBLIC
DESCRIPTION:Comp wedstrijd 68: MVC De Max - De Labberleute
X-ALT-DESC;FMTTYPE=text/html:Comp wedstrijd 68: <b>MVC De Max - De Labberle
 ute</b> te Rollegem
X-MICROSOFT-CDO-BUSYSTATUS:FREE
X-MICROSOFT-CDO-INTENDEDSTATUS:FREE
DTSTAMP:20260423T092326Z
BEGIN:VALARM
TRIGGER:-P1D
ACTION:DISPLAY
DESCRIPTION:Comp wedstrijd 68: MVC De Max - De Labberleute
END:VALARM
END:VEVENT
BEGIN:VEVENT
UID:69e9e50ed3566
DTSTART:20251008T190000Z
SEQUENCE:0
TRANSP:OPAQUE
LOCATION:Rollegem
SUMMARY:Wedstrijd 111 KMVV
CLASS:PUBLIC
DESCRIPTION:Comp wedstrijd 111: T-Team - MVC De Max
X-ALT-DESC;FMTTYPE=text/html:Comp wedstrijd 111: <b>T-Team - MVC De Max</b>
  te Rollegem
X-MICROSOFT-CDO-BUSYSTATUS:FREE
X-MICROSOFT-CDO-INTENDEDSTATUS:FREE
DTSTAMP:20260423T092326Z
BEGIN:VALARM
TRIGGER:-P1D
ACTION:DISPLAY
DESCRIPTION:Comp wedstrijd 111: T-Team - MVC De Max
END:VALARM
END:VEVENT
BEGIN:VEVENT
UID:69e9e50ed357b
DTSTART:20251029T203000Z
SEQUENCE:0
TRANSP:OPAQUE
LOCATION:Bissegem
SUMMARY:Wedstrijd 170 KMVV
CLASS:PUBLIC
DESCRIPTION:Comp wedstrijd 170: Café Astor - MVC De Max
X-ALT-DESC;FMTTYPE=text/html:Comp wedstrijd 170: <b>Café Astor - MVC De Ma
 x</b> te Bissegem
X-MICROSOFT-CDO-BUSYSTATUS:FREE
X-MICROSOFT-CDO-INTENDEDSTATUS:FREE
DTSTAMP:20260423T092326Z
BEGIN:VALARM
TRIGGER:-P1D
ACTION:DISPLAY
DESCRIPTION:Comp wedstrijd 170: Café Astor - MVC De Max
END:VALARM
END:VEVENT
BEGIN:VEVENT
UID:69e9e50ed3591
DTSTART:20251105T200000Z
SEQUENCE:0
TRANSP:OPAQUE
LOCATION:Rollegem
SUMMARY:Wedstrijd 191 KMVV
CLASS:PUBLIC
DESCRIPTION:Comp wedstrijd 191: MVC De Max - FuTurAc
X-ALT-DESC;FMTTYPE=text/html:Comp wedstrijd 191: <b>MVC De Max - FuTurAc</b
 > te Rollegem
X-MICROSOFT-CDO-BUSYSTATUS:FREE
X-MICROSOFT-CDO-INTENDEDSTATUS:FREE
DTSTAMP:20260423T092326Z
BEGIN:VALARM
TRIGGER:-P1D
ACTION:DISPLAY
DESCRIPTION:Comp wedstrijd 191: MVC De Max - FuTurAc
END:VALARM
END:VEVENT
BEGIN:VEVENT
UID:69e9e50ed35a6
DTSTART:20251119T203000Z
SEQUENCE:0
TRANSP:OPAQUE
LOCATION:Bissegem
SUMMARY:Wedstrijd 229 KMVV
CLASS:PUBLIC
DESCRIPTION:Comp wedstrijd 229: La galaxie - MVC De Max
X-ALT-DESC;FMTTYPE=text/html:Comp wedstrijd 229: <b>La galaxie - MVC De Max
 </b> te Bissegem
X-MICROSOFT-CDO-BUSYSTATUS:FREE
X-MICROSOFT-CDO-INTENDEDSTATUS:FREE
DTSTAMP:20260423T092326Z
BEGIN:VALARM
TRIGGER:-P1D
ACTION:DISPLAY
DESCRIPTION:Comp wedstrijd 229: La galaxie - MVC De Max
END:VALARM
END:VEVENT
BEGIN:VEVENT
UID:69e9e50ed35b9
DTSTART:20251124T203000Z
SEQUENCE:0
TRANSP:OPAQUE
LOCATION:Bissegem
SUMMARY:Wedstrijd 242 KMVV
CLASS:PUBLIC
DESCRIPTION:Comp wedstrijd 242: BB FC - MVC De Max
X-ALT-DESC;FMTTYPE=text/html:Comp wedstrijd 242: <b>BB FC - MVC De Max</b> 
 te Bissegem
X-MICROSOFT-CDO-BUSYSTATUS:FREE
X-MICROSOFT-CDO-INTENDEDSTATUS:FREE
DTSTAMP:20260423T092326Z
BEGIN:VALARM
TRIGGER:-P1D
ACTION:DISPLAY
DESCRIPTION:Comp wedstrijd 242: BB FC - MVC De Max
END:VALARM
END:VEVENT
BEGIN:VEVENT
UID:69e9e50ed35cd
DTSTART:20251208T180000Z
SEQUENCE:0
TRANSP:OPAQUE
LOCATION:Rollegem
SUMMARY:Wedstrijd 287 KMVV
CLASS:PUBLIC
DESCRIPTION:Comp wedstrijd 287: MVC De Max - Mex United
X-ALT-DESC;FMTTYPE=text/html:Comp wedstrijd 287: <b>MVC De Max - Mex United
 </b> te Rollegem
X-MICROSOFT-CDO-BUSYSTATUS:FREE
X-MICROSOFT-CDO-INTENDEDSTATUS:FREE
DTSTAMP:20260423T092326Z
BEGIN:VALARM
TRIGGER:-P1D
ACTION:DISPLAY
DESCRIPTION:Comp wedstrijd 287: MVC De Max - Mex United
END:VALARM
END:VEVENT
BEGIN:VEVENT
UID:69e9e50ed35e0
DTSTART:20251217T190000Z
SEQUENCE:0
TRANSP:OPAQUE
LOCATION:Rollegem
SUMMARY:Wedstrijd 310 KMVV
CLASS:PUBLIC
DESCRIPTION:Comp wedstrijd 310: Versa Vervacke - MVC De Max
X-ALT-DESC;FMTTYPE=text/html:Comp wedstrijd 310: <b>Versa Vervacke - MVC De
  Max</b> te Rollegem
X-MICROSOFT-CDO-BUSYSTATUS:FREE
X-MICROSOFT-CDO-INTENDEDSTATUS:FREE
DTSTAMP:20260423T092326Z
BEGIN:VALARM
TRIGGER:-P1D
ACTION:DISPLAY
DESCRIPTION:Comp wedstrijd 310: Versa Vervacke - MVC De Max
END:VALARM
END:VEVENT
BEGIN:VEVENT
UID:69e9e50ed35f6
DTSTART:20260105T190000Z
SEQUENCE:0
TRANSP:OPAQUE
LOCATION:Rollegem
SUMMARY:Wedstrijd 346 KMVV
CLASS:PUBLIC
DESCRIPTION:Comp wedstrijd 346: MVC De Max - Dumo's coppes
X-ALT-DESC;FMTTYPE=text/html:Comp wedstrijd 346: <b>MVC De Max - Dumo's cop
 pes</b> te Rollegem
X-MICROSOFT-CDO-BUSYSTATUS:FREE
X-MICROSOFT-CDO-INTENDEDSTATUS:FREE
DTSTAMP:20260423T092326Z
BEGIN:VALARM
TRIGGER:-P1D
ACTION:DISPLAY
DESCRIPTION:Comp wedstrijd 346: MVC De Max - Dumo's coppes
END:VALARM
END:VEVENT
BEGIN:VEVENT
UID:69e9e50ed360a
DTSTART:20260123T180000Z
SEQUENCE:0
TRANSP:OPAQUE
LOCATION:Rollegem
SUMMARY:Wedstrijd 397 KMVV
CLASS:PUBLIC
DESCRIPTION:Comp wedstrijd 397: MVC De Max - Cafe 1917
X-ALT-DESC;FMTTYPE=text/html:Comp wedstrijd 397: <b>MVC De Max - Cafe 1917<
 /b> te Rollegem
X-MICROSOFT-CDO-BUSYSTATUS:FREE
X-MICROSOFT-CDO-INTENDEDSTATUS:FREE
DTSTAMP:20260423T092326Z
BEGIN:VALARM
TRIGGER:-P1D
ACTION:DISPLAY
DESCRIPTION:Comp wedstrijd 397: MVC De Max - Cafe 1917
END:VALARM
END:VEVENT
BEGIN:VEVENT
UID:69e9e50ed361d
DTSTART:20260128T200000Z
SEQUENCE:0
TRANSP:OPAQUE
LOCATION:Rollegem
SUMMARY:Wedstrijd 124 KMVV
CLASS:PUBLIC
DESCRIPTION:Comp wedstrijd 124: MVC De Max - Santy Pils Marke
X-ALT-DESC;FMTTYPE=text/html:Comp wedstrijd 124: <b>MVC De Max - Santy Pils
  Marke</b> te Rollegem
X-MICROSOFT-CDO-BUSYSTATUS:FREE
X-MICROSOFT-CDO-INTENDEDSTATUS:FREE
DTSTAMP:20260423T092326Z
BEGIN:VALARM
TRIGGER:-P1D
ACTION:DISPLAY
DESCRIPTION:Comp wedstrijd 124: MVC De Max - Santy Pils Marke
END:VALARM
END:VEVENT
BEGIN:VEVENT
UID:69e9e50ed362f
DTSTART:20260216T180000Z
SEQUENCE:0
TRANSP:OPAQUE
LOCATION:Lagae
SUMMARY:Wedstrijd 409 KMVV
CLASS:PUBLIC
DESCRIPTION:Comp wedstrijd 409: MVC De Max - Davabo-Smooth Surface
X-ALT-DESC;FMTTYPE=text/html:Comp wedstrijd 409: <b>MVC De Max - Davabo-Smo
 oth Surface</b> te Lagae
X-MICROSOFT-CDO-BUSYSTATUS:FREE
X-MICROSOFT-CDO-INTENDEDSTATUS:FREE
DTSTAMP:20260423T092326Z
BEGIN:VALARM
TRIGGER:-P1D
ACTION:DISPLAY
DESCRIPTION:Comp wedstrijd 409: MVC De Max - Davabo-Smooth Surface
END:VALARM
END:VEVENT
BEGIN:VEVENT
UID:69e9e50ed3643
DTSTART:20260306T170000Z
SEQUENCE:0
TRANSP:OPAQUE
LOCATION:Rollegem
SUMMARY:Wedstrijd 464 KMVV
CLASS:PUBLIC
DESCRIPTION:Comp wedstrijd 464: MVC De Max - De Rooftoppers
X-ALT-DESC;FMTTYPE=text/html:Comp wedstrijd 464: <b>MVC De Max - De Rooftop
 pers</b> te Rollegem
X-MICROSOFT-CDO-BUSYSTATUS:FREE
X-MICROSOFT-CDO-INTENDEDSTATUS:FREE
DTSTAMP:20260423T092326Z
BEGIN:VALARM
TRIGGER:-P1D
ACTION:DISPLAY
DESCRIPTION:Comp wedstrijd 464: MVC De Max - De Rooftoppers
END:VALARM
END:VEVENT
BEGIN:VEVENT
UID:69e9e50ed3656
DTSTART:20260309T190000Z
SEQUENCE:0
TRANSP:OPAQUE
LOCATION:Lagae
SUMMARY:Wedstrijd 469 KMVV
CLASS:PUBLIC
DESCRIPTION:Comp wedstrijd 469: De Labberleute - MVC De Max
X-ALT-DESC;FMTTYPE=text/html:Comp wedstrijd 469: <b>De Labberleute - MVC De
  Max</b> te Lagae
X-MICROSOFT-CDO-BUSYSTATUS:FREE
X-MICROSOFT-CDO-INTENDEDSTATUS:FREE
DTSTAMP:20260423T092326Z
BEGIN:VALARM
TRIGGER:-P1D
ACTION:DISPLAY
DESCRIPTION:Comp wedstrijd 469: De Labberleute - MVC De Max
END:VALARM
END:VEVENT
BEGIN:VEVENT
UID:69e9e50ed3669
DTSTART:20260323T190000Z
SEQUENCE:0
TRANSP:OPAQUE
LOCATION:Rollegem
SUMMARY:Wedstrijd 513 KMVV
CLASS:PUBLIC
DESCRIPTION:Comp wedstrijd 513: MVC De Max - T-Team
X-ALT-DESC;FMTTYPE=text/html:Comp wedstrijd 513: <b>MVC De Max - T-Team</b>
  te Rollegem
X-MICROSOFT-CDO-BUSYSTATUS:FREE
X-MICROSOFT-CDO-INTENDEDSTATUS:FREE
DTSTAMP:20260423T092326Z
BEGIN:VALARM
TRIGGER:-P1D
ACTION:DISPLAY
DESCRIPTION:Comp wedstrijd 513: MVC De Max - T-Team
END:VALARM
END:VEVENT
BEGIN:VEVENT
UID:69e9e50ed367c
DTSTART:20260401T190000Z
SEQUENCE:0
TRANSP:OPAQUE
LOCATION:Rollegem
SUMMARY:Wedstrijd 531 KMVV
CLASS:PUBLIC
DESCRIPTION:Comp wedstrijd 531: Santy Pils Marke - MVC De Max
X-ALT-DESC;FMTTYPE=text/html:Comp wedstrijd 531: <b>Santy Pils Marke - MVC 
 De Max</b> te Rollegem
X-MICROSOFT-CDO-BUSYSTATUS:FREE
X-MICROSOFT-CDO-INTENDEDSTATUS:FREE
DTSTAMP:20260423T092326Z
BEGIN:VALARM
TRIGGER:-P1D
ACTION:DISPLAY
DESCRIPTION:Comp wedstrijd 531: Santy Pils Marke - MVC De Max
END:VALARM
END:VEVENT
BEGIN:VEVENT
UID:69e9e50ed368e
DTSTART:20260420T190000Z
SEQUENCE:0
TRANSP:OPAQUE
LOCATION:Rollegem
SUMMARY:Wedstrijd 576 KMVV
CLASS:PUBLIC
DESCRIPTION:Comp wedstrijd 576: MVC De Max - Café Astor
X-ALT-DESC;FMTTYPE=text/html:Comp wedstrijd 576: <b>MVC De Max - Café Asto
 r</b> te Rollegem
X-MICROSOFT-CDO-BUSYSTATUS:FREE
X-MICROSOFT-CDO-INTENDEDSTATUS:FREE
DTSTAMP:20260423T092326Z
BEGIN:VALARM
TRIGGER:-P1D
ACTION:DISPLAY
DESCRIPTION:Comp wedstrijd 576: MVC De Max - Café Astor
END:VALARM
END:VEVENT
BEGIN:VEVENT
UID:69e9e50ed36a1
DTSTART:20260427T180000Z
SEQUENCE:0
TRANSP:OPAQUE
LOCATION:Lagae
SUMMARY:Wedstrijd 592 KMVV
CLASS:PUBLIC
DESCRIPTION:Comp wedstrijd 592: Bakkerij Bekaert - MVC De Max
X-ALT-DESC;FMTTYPE=text/html:Comp wedstrijd 592: <b>Bakkerij Bekaert - MVC 
 De Max</b> te Lagae
X-MICROSOFT-CDO-BUSYSTATUS:FREE
X-MICROSOFT-CDO-INTENDEDSTATUS:FREE
DTSTAMP:20260423T092326Z
BEGIN:VALARM
TRIGGER:-P1D
ACTION:DISPLAY
DESCRIPTION:Comp wedstrijd 592: Bakkerij Bekaert - MVC De Max
END:VALARM
END:VEVENT
BEGIN:VEVENT
UID:69e9e50ed36b3
DTSTART:20260511T160000Z
SEQUENCE:0
TRANSP:OPAQUE
LOCATION:Rollegem
SUMMARY:Wedstrijd 634 KMVV
CLASS:PUBLIC
DESCRIPTION:Comp wedstrijd 634: MVC De Max - La galaxie
X-ALT-DESC;FMTTYPE=text/html:Comp wedstrijd 634: <b>MVC De Max - La galaxie
 </b> te Rollegem
X-MICROSOFT-CDO-BUSYSTATUS:FREE
X-MICROSOFT-CDO-INTENDEDSTATUS:FREE
DTSTAMP:20260423T092326Z
BEGIN:VALARM
TRIGGER:-P1D
ACTION:DISPLAY
DESCRIPTION:Comp wedstrijd 634: MVC De Max - La galaxie
END:VALARM
END:VEVENT
BEGIN:VEVENT
UID:69e9e50ed36c5
DTSTART:20260527T163000Z
SEQUENCE:0
TRANSP:OPAQUE
LOCATION:Rollegem
SUMMARY:Wedstrijd 668 KMVV
CLASS:PUBLIC
DESCRIPTION:Comp wedstrijd 668: MVC De Max - BB FC
X-ALT-DESC;FMTTYPE=text/html:Comp wedstrijd 668: <b>MVC De Max - BB FC</b> 
 te Rollegem
X-MICROSOFT-CDO-BUSYSTATUS:FREE
X-MICROSOFT-CDO-INTENDEDSTATUS:FREE
DTSTAMP:20260423T092326Z
BEGIN:VALARM
TRIGGER:-P1D
ACTION:DISPLAY
DESCRIPTION:Comp wedstrijd 668: MVC De Max - BB FC
END:VALARM
END:VEVENT
BEGIN:VEVENT
UID:69e9e50ed36d7
DTSTART:20260601T190000Z
SEQUENCE:0
TRANSP:OPAQUE
LOCATION:Rollegem
SUMMARY:Wedstrijd 690 KMVV
CLASS:PUBLIC
DESCRIPTION:Comp wedstrijd 690: Mex United - MVC De Max
X-ALT-DESC;FMTTYPE=text/html:Comp wedstrijd 690: <b>Mex United - MVC De Max
 </b> te Rollegem
X-MICROSOFT-CDO-BUSYSTATUS:FREE
X-MICROSOFT-CDO-INTENDEDSTATUS:FREE
DTSTAMP:20260423T092326Z
BEGIN:VALARM
TRIGGER:-P1D
ACTION:DISPLAY
DESCRIPTION:Comp wedstrijd 690: Mex United - MVC De Max
END:VALARM
END:VEVENT
BEGIN:VEVENT
UID:69e9e50ed36ea
DTSTART:20260608T180000Z
SEQUENCE:0
TRANSP:OPAQUE
LOCATION:Lagae
SUMMARY:Wedstrijd 717 KMVV
CLASS:PUBLIC
DESCRIPTION:Comp wedstrijd 717: MVC De Max - Y.B.Speelplaneet
X-ALT-DESC;FMTTYPE=text/html:Comp wedstrijd 717: <b>MVC De Max - Y.B.Speelp
 laneet</b> te Lagae
X-MICROSOFT-CDO-BUSYSTATUS:FREE
X-MICROSOFT-CDO-INTENDEDSTATUS:FREE
DTSTAMP:20260423T092326Z
BEGIN:VALARM
TRIGGER:-P1D
ACTION:DISPLAY
DESCRIPTION:Comp wedstrijd 717: MVC De Max - Y.B.Speelplaneet
END:VALARM
END:VEVENT
BEGIN:VEVENT
UID:69e9e50ed36fc
DTSTART:20260617T160000Z
SEQUENCE:0
TRANSP:OPAQUE
LOCATION:Rollegem
SUMMARY:Wedstrijd 760 KMVV
CLASS:PUBLIC
DESCRIPTION:Comp wedstrijd 760: Dumo's coppes - MVC De Max
X-ALT-DESC;FMTTYPE=text/html:Comp wedstrijd 760: <b>Dumo's coppes - MVC De 
 Max</b> te Rollegem
X-MICROSOFT-CDO-BUSYSTATUS:FREE
X-MICROSOFT-CDO-INTENDEDSTATUS:FREE
DTSTAMP:20260423T092326Z
BEGIN:VALARM
TRIGGER:-P1D
ACTION:DISPLAY
DESCRIPTION:Comp wedstrijd 760: Dumo's coppes - MVC De Max
END:VALARM
END:VEVENT
BEGIN:VEVENT
UID:69e9e50ed370e
DTSTART:20260626T190000Z
SEQUENCE:0
TRANSP:OPAQUE
LOCATION:Bissegem
SUMMARY:Wedstrijd 797 KMVV
CLASS:PUBLIC
DESCRIPTION:Comp wedstrijd 797: Blacks - MVC De Max
X-ALT-DESC;FMTTYPE=text/html:Comp wedstrijd 797: <b>Blacks - MVC De Max</b>
  te Bissegem
X-MICROSOFT-CDO-BUSYSTATUS:FREE
X-MICROSOFT-CDO-INTENDEDSTATUS:FREE
DTSTAMP:20260423T092326Z
BEGIN:VALARM
TRIGGER:-P1D
ACTION:DISPLAY
DESCRIPTION:Comp wedstrijd 797: Blacks - MVC De Max
END:VALARM
END:VEVENT
END:VCALENDAR