BEGIN:VCALENDAR
VERSION:2.0
PRODID:www.kmvv.be
BEGIN:VEVENT
UID:69e9e619a4d88
DTSTART:20250903T193000Z
SEQUENCE:0
TRANSP:OPAQUE
LOCATION:Bissegem
SUMMARY:Wedstrijd 10 KMVV
CLASS:PUBLIC
DESCRIPTION:Comp wedstrijd 10: T-Team - Santy Pils Marke
X-ALT-DESC;FMTTYPE=text/html:Comp wedstrijd 10: <b>T-Team - Santy Pils Mark
 e</b> te Bissegem
X-MICROSOFT-CDO-BUSYSTATUS:FREE
X-MICROSOFT-CDO-INTENDEDSTATUS:FREE
DTSTAMP:20260423T092753Z
BEGIN:VALARM
TRIGGER:-P1D
ACTION:DISPLAY
DESCRIPTION:Comp wedstrijd 10: T-Team - Santy Pils Marke
END:VALARM
END:VEVENT
BEGIN:VEVENT
UID:69e9e619a508f
DTSTART:20250908T183000Z
SEQUENCE:0
TRANSP:OPAQUE
LOCATION:Bissegem
SUMMARY:Wedstrijd 20 KMVV
CLASS:PUBLIC
DESCRIPTION:Comp wedstrijd 20: Santy Pils Marke - Café Astor
X-ALT-DESC;FMTTYPE=text/html:Comp wedstrijd 20: <b>Santy Pils Marke - Café
  Astor</b> te Bissegem
X-MICROSOFT-CDO-BUSYSTATUS:FREE
X-MICROSOFT-CDO-INTENDEDSTATUS:FREE
DTSTAMP:20260423T092753Z
BEGIN:VALARM
TRIGGER:-P1D
ACTION:DISPLAY
DESCRIPTION:Comp wedstrijd 20: Santy Pils Marke - Café Astor
END:VALARM
END:VEVENT
BEGIN:VEVENT
UID:69e9e619a50b2
DTSTART:20250925T170000Z
SEQUENCE:0
TRANSP:OPAQUE
LOCATION:Lagae
SUMMARY:Wedstrijd 76 KMVV
CLASS:PUBLIC
DESCRIPTION:Comp wedstrijd 76: FuTurAc - Santy Pils Marke
X-ALT-DESC;FMTTYPE=text/html:Comp wedstrijd 76: <b>FuTurAc - Santy Pils Mar
 ke</b> te Lagae
X-MICROSOFT-CDO-BUSYSTATUS:FREE
X-MICROSOFT-CDO-INTENDEDSTATUS:FREE
DTSTAMP:20260423T092753Z
BEGIN:VALARM
TRIGGER:-P1D
ACTION:DISPLAY
DESCRIPTION:Comp wedstrijd 76: FuTurAc - Santy Pils Marke
END:VALARM
END:VEVENT
BEGIN:VEVENT
UID:69e9e619a50ca
DTSTART:20251002T170000Z
SEQUENCE:0
TRANSP:OPAQUE
LOCATION:Lagae
SUMMARY:Wedstrijd 97 KMVV
CLASS:PUBLIC
DESCRIPTION:Comp wedstrijd 97: Santy Pils Marke - La galaxie
X-ALT-DESC;FMTTYPE=text/html:Comp wedstrijd 97: <b>Santy Pils Marke - La ga
 laxie</b> te Lagae
X-MICROSOFT-CDO-BUSYSTATUS:FREE
X-MICROSOFT-CDO-INTENDEDSTATUS:FREE
DTSTAMP:20260423T092753Z
BEGIN:VALARM
TRIGGER:-P1D
ACTION:DISPLAY
DESCRIPTION:Comp wedstrijd 97: Santy Pils Marke - La galaxie
END:VALARM
END:VEVENT
BEGIN:VEVENT
UID:69e9e619a50e0
DTSTART:20251027T170000Z
SEQUENCE:0
TRANSP:OPAQUE
LOCATION:Rollegem
SUMMARY:Wedstrijd 166 KMVV
CLASS:PUBLIC
DESCRIPTION:Comp wedstrijd 166: Santy Pils Marke - Mex United
X-ALT-DESC;FMTTYPE=text/html:Comp wedstrijd 166: <b>Santy Pils Marke - Mex 
 United</b> te Rollegem
X-MICROSOFT-CDO-BUSYSTATUS:FREE
X-MICROSOFT-CDO-INTENDEDSTATUS:FREE
DTSTAMP:20260423T092753Z
BEGIN:VALARM
TRIGGER:-P1D
ACTION:DISPLAY
DESCRIPTION:Comp wedstrijd 166: Santy Pils Marke - Mex United
END:VALARM
END:VEVENT
BEGIN:VEVENT
UID:69e9e619a50f5
DTSTART:20251117T193000Z
SEQUENCE:0
TRANSP:OPAQUE
LOCATION:Bissegem
SUMMARY:Wedstrijd 220 KMVV
CLASS:PUBLIC
DESCRIPTION:Comp wedstrijd 220: Santy Pils Marke - Dumo's coppes
X-ALT-DESC;FMTTYPE=text/html:Comp wedstrijd 220: <b>Santy Pils Marke - Dumo
 's coppes</b> te Bissegem
X-MICROSOFT-CDO-BUSYSTATUS:FREE
X-MICROSOFT-CDO-INTENDEDSTATUS:FREE
DTSTAMP:20260423T092753Z
BEGIN:VALARM
TRIGGER:-P1D
ACTION:DISPLAY
DESCRIPTION:Comp wedstrijd 220: Santy Pils Marke - Dumo's coppes
END:VALARM
END:VEVENT
BEGIN:VEVENT
UID:69e9e619a510a
DTSTART:20251126T190000Z
SEQUENCE:0
TRANSP:OPAQUE
LOCATION:Rollegem
SUMMARY:Wedstrijd 251 KMVV
CLASS:PUBLIC
DESCRIPTION:Comp wedstrijd 251: Davabo-Smooth Surface - Santy Pils Marke
X-ALT-DESC;FMTTYPE=text/html:Comp wedstrijd 251: <b>Davabo-Smooth Surface -
  Santy Pils Marke</b> te Rollegem
X-MICROSOFT-CDO-BUSYSTATUS:FREE
X-MICROSOFT-CDO-INTENDEDSTATUS:FREE
DTSTAMP:20260423T092753Z
BEGIN:VALARM
TRIGGER:-P1D
ACTION:DISPLAY
DESCRIPTION:Comp wedstrijd 251: Davabo-Smooth Surface - Santy Pils Marke
END:VALARM
END:VEVENT
BEGIN:VEVENT
UID:69e9e619a511e
DTSTART:20251208T203000Z
SEQUENCE:0
TRANSP:OPAQUE
LOCATION:Bissegem
SUMMARY:Wedstrijd 282 KMVV
CLASS:PUBLIC
DESCRIPTION:Comp wedstrijd 282: Santy Pils Marke - Cafe 1917
X-ALT-DESC;FMTTYPE=text/html:Comp wedstrijd 282: <b>Santy Pils Marke - Cafe
  1917</b> te Bissegem
X-MICROSOFT-CDO-BUSYSTATUS:FREE
X-MICROSOFT-CDO-INTENDEDSTATUS:FREE
DTSTAMP:20260423T092753Z
BEGIN:VALARM
TRIGGER:-P1D
ACTION:DISPLAY
DESCRIPTION:Comp wedstrijd 282: Santy Pils Marke - Cafe 1917
END:VALARM
END:VEVENT
BEGIN:VEVENT
UID:69e9e619a5131
DTSTART:20251217T200000Z
SEQUENCE:0
TRANSP:OPAQUE
LOCATION:Rollegem
SUMMARY:Wedstrijd 311 KMVV
CLASS:PUBLIC
DESCRIPTION:Comp wedstrijd 311: Westerstrand - Santy Pils Marke
X-ALT-DESC;FMTTYPE=text/html:Comp wedstrijd 311: <b>Westerstrand - Santy Pi
 ls Marke</b> te Rollegem
X-MICROSOFT-CDO-BUSYSTATUS:FREE
X-MICROSOFT-CDO-INTENDEDSTATUS:FREE
DTSTAMP:20260423T092753Z
BEGIN:VALARM
TRIGGER:-P1D
ACTION:DISPLAY
DESCRIPTION:Comp wedstrijd 311: Westerstrand - Santy Pils Marke
END:VALARM
END:VEVENT
BEGIN:VEVENT
UID:69e9e619a514c
DTSTART:20251229T200000Z
SEQUENCE:0
TRANSP:OPAQUE
LOCATION:Lagae
SUMMARY:Wedstrijd 334 KMVV
CLASS:PUBLIC
DESCRIPTION:Comp wedstrijd 334: Santy Pils Marke - De Labberleute
X-ALT-DESC;FMTTYPE=text/html:Comp wedstrijd 334: <b>Santy Pils Marke - De L
 abberleute</b> te Lagae
X-MICROSOFT-CDO-BUSYSTATUS:FREE
X-MICROSOFT-CDO-INTENDEDSTATUS:FREE
DTSTAMP:20260423T092753Z
BEGIN:VALARM
TRIGGER:-P1D
ACTION:DISPLAY
DESCRIPTION:Comp wedstrijd 334: Santy Pils Marke - De Labberleute
END:VALARM
END:VEVENT
BEGIN:VEVENT
UID:69e9e619a5162
DTSTART:20260121T203000Z
SEQUENCE:0
TRANSP:OPAQUE
LOCATION:Bissegem
SUMMARY:Wedstrijd 388 KMVV
CLASS:PUBLIC
DESCRIPTION:Comp wedstrijd 388: BB FC - Santy Pils Marke
X-ALT-DESC;FMTTYPE=text/html:Comp wedstrijd 388: <b>BB FC - Santy Pils Mark
 e</b> te Bissegem
X-MICROSOFT-CDO-BUSYSTATUS:FREE
X-MICROSOFT-CDO-INTENDEDSTATUS:FREE
DTSTAMP:20260423T092753Z
BEGIN:VALARM
TRIGGER:-P1D
ACTION:DISPLAY
DESCRIPTION:Comp wedstrijd 388: BB FC - Santy Pils Marke
END:VALARM
END:VEVENT
BEGIN:VEVENT
UID:69e9e619a5175
DTSTART:20260128T200000Z
SEQUENCE:0
TRANSP:OPAQUE
LOCATION:Rollegem
SUMMARY:Wedstrijd 124 KMVV
CLASS:PUBLIC
DESCRIPTION:Comp wedstrijd 124: MVC De Max - Santy Pils Marke
X-ALT-DESC;FMTTYPE=text/html:Comp wedstrijd 124: <b>MVC De Max - Santy Pils
  Marke</b> te Rollegem
X-MICROSOFT-CDO-BUSYSTATUS:FREE
X-MICROSOFT-CDO-INTENDEDSTATUS:FREE
DTSTAMP:20260423T092753Z
BEGIN:VALARM
TRIGGER:-P1D
ACTION:DISPLAY
DESCRIPTION:Comp wedstrijd 124: MVC De Max - Santy Pils Marke
END:VALARM
END:VEVENT
BEGIN:VEVENT
UID:69e9e619a5189
DTSTART:20260204T200000Z
SEQUENCE:0
TRANSP:OPAQUE
LOCATION:Rollegem
SUMMARY:Wedstrijd 196 KMVV
CLASS:PUBLIC
DESCRIPTION:Comp wedstrijd 196: Versa Vervacke - Santy Pils Marke
X-ALT-DESC;FMTTYPE=text/html:Comp wedstrijd 196: <b>Versa Vervacke - Santy 
 Pils Marke</b> te Rollegem
X-MICROSOFT-CDO-BUSYSTATUS:FREE
X-MICROSOFT-CDO-INTENDEDSTATUS:FREE
DTSTAMP:20260423T092753Z
BEGIN:VALARM
TRIGGER:-P1D
ACTION:DISPLAY
DESCRIPTION:Comp wedstrijd 196: Versa Vervacke - Santy Pils Marke
END:VALARM
END:VEVENT
BEGIN:VEVENT
UID:69e9e619a519c
DTSTART:20260216T180000Z
SEQUENCE:0
TRANSP:OPAQUE
LOCATION:Rollegem
SUMMARY:Wedstrijd 413 KMVV
CLASS:PUBLIC
DESCRIPTION:Comp wedstrijd 413: Santy Pils Marke - T-Team
X-ALT-DESC;FMTTYPE=text/html:Comp wedstrijd 413: <b>Santy Pils Marke - T-Te
 am</b> te Rollegem
X-MICROSOFT-CDO-BUSYSTATUS:FREE
X-MICROSOFT-CDO-INTENDEDSTATUS:FREE
DTSTAMP:20260423T092753Z
BEGIN:VALARM
TRIGGER:-P1D
ACTION:DISPLAY
DESCRIPTION:Comp wedstrijd 413: Santy Pils Marke - T-Team
END:VALARM
END:VEVENT
BEGIN:VEVENT
UID:69e9e619a51af
DTSTART:20260302T180000Z
SEQUENCE:0
TRANSP:OPAQUE
LOCATION:Rollegem
SUMMARY:Wedstrijd 453 KMVV
CLASS:PUBLIC
DESCRIPTION:Comp wedstrijd 453: Café Astor - Santy Pils Marke
X-ALT-DESC;FMTTYPE=text/html:Comp wedstrijd 453: <b>Café Astor - Santy Pil
 s Marke</b> te Rollegem
X-MICROSOFT-CDO-BUSYSTATUS:FREE
X-MICROSOFT-CDO-INTENDEDSTATUS:FREE
DTSTAMP:20260423T092753Z
BEGIN:VALARM
TRIGGER:-P1D
ACTION:DISPLAY
DESCRIPTION:Comp wedstrijd 453: Café Astor - Santy Pils Marke
END:VALARM
END:VEVENT
BEGIN:VEVENT
UID:69e9e619a51c2
DTSTART:20260313T170000Z
SEQUENCE:0
TRANSP:OPAQUE
LOCATION:Rollegem
SUMMARY:Wedstrijd 485 KMVV
CLASS:PUBLIC
DESCRIPTION:Comp wedstrijd 485: Santy Pils Marke - Bakkerij Bekaert
X-ALT-DESC;FMTTYPE=text/html:Comp wedstrijd 485: <b>Santy Pils Marke - Bakk
 erij Bekaert</b> te Rollegem
X-MICROSOFT-CDO-BUSYSTATUS:FREE
X-MICROSOFT-CDO-INTENDEDSTATUS:FREE
DTSTAMP:20260423T092753Z
BEGIN:VALARM
TRIGGER:-P1D
ACTION:DISPLAY
DESCRIPTION:Comp wedstrijd 485: Santy Pils Marke - Bakkerij Bekaert
END:VALARM
END:VEVENT
BEGIN:VEVENT
UID:69e9e619a51d5
DTSTART:20260316T180000Z
SEQUENCE:0
TRANSP:OPAQUE
LOCATION:Rollegem
SUMMARY:Wedstrijd 493 KMVV
CLASS:PUBLIC
DESCRIPTION:Comp wedstrijd 493: La galaxie - Santy Pils Marke
X-ALT-DESC;FMTTYPE=text/html:Comp wedstrijd 493: <b>La galaxie - Santy Pils
  Marke</b> te Rollegem
X-MICROSOFT-CDO-BUSYSTATUS:FREE
X-MICROSOFT-CDO-INTENDEDSTATUS:FREE
DTSTAMP:20260423T092753Z
BEGIN:VALARM
TRIGGER:-P1D
ACTION:DISPLAY
DESCRIPTION:Comp wedstrijd 493: La galaxie - Santy Pils Marke
END:VALARM
END:VEVENT
BEGIN:VEVENT
UID:69e9e619a51e8
DTSTART:20260401T190000Z
SEQUENCE:0
TRANSP:OPAQUE
LOCATION:Rollegem
SUMMARY:Wedstrijd 531 KMVV
CLASS:PUBLIC
DESCRIPTION:Comp wedstrijd 531: Santy Pils Marke - MVC De Max
X-ALT-DESC;FMTTYPE=text/html:Comp wedstrijd 531: <b>Santy Pils Marke - MVC 
 De Max</b> te Rollegem
X-MICROSOFT-CDO-BUSYSTATUS:FREE
X-MICROSOFT-CDO-INTENDEDSTATUS:FREE
DTSTAMP:20260423T092753Z
BEGIN:VALARM
TRIGGER:-P1D
ACTION:DISPLAY
DESCRIPTION:Comp wedstrijd 531: Santy Pils Marke - MVC De Max
END:VALARM
END:VEVENT
BEGIN:VEVENT
UID:69e9e619a51fb
DTSTART:20260415T193000Z
SEQUENCE:0
TRANSP:OPAQUE
LOCATION:Bissegem
SUMMARY:Wedstrijd 558 KMVV
CLASS:PUBLIC
DESCRIPTION:Comp wedstrijd 558: Mex United - Santy Pils Marke
X-ALT-DESC;FMTTYPE=text/html:Comp wedstrijd 558: <b>Mex United - Santy Pils
  Marke</b> te Bissegem
X-MICROSOFT-CDO-BUSYSTATUS:FREE
X-MICROSOFT-CDO-INTENDEDSTATUS:FREE
DTSTAMP:20260423T092753Z
BEGIN:VALARM
TRIGGER:-P1D
ACTION:DISPLAY
DESCRIPTION:Comp wedstrijd 558: Mex United - Santy Pils Marke
END:VALARM
END:VEVENT
BEGIN:VEVENT
UID:69e9e619a520c
DTSTART:20260430T173000Z
SEQUENCE:0
TRANSP:OPAQUE
LOCATION:Bissegem
SUMMARY:Wedstrijd 601 KMVV
CLASS:PUBLIC
DESCRIPTION:Comp wedstrijd 601: Santy Pils Marke - Y.B.Speelplaneet
X-ALT-DESC;FMTTYPE=text/html:Comp wedstrijd 601: <b>Santy Pils Marke - Y.B.
 Speelplaneet</b> te Bissegem
X-MICROSOFT-CDO-BUSYSTATUS:FREE
X-MICROSOFT-CDO-INTENDEDSTATUS:FREE
DTSTAMP:20260423T092753Z
BEGIN:VALARM
TRIGGER:-P1D
ACTION:DISPLAY
DESCRIPTION:Comp wedstrijd 601: Santy Pils Marke - Y.B.Speelplaneet
END:VALARM
END:VEVENT
BEGIN:VEVENT
UID:69e9e619a521f
DTSTART:20260504T170000Z
SEQUENCE:0
TRANSP:OPAQUE
LOCATION:Rollegem
SUMMARY:Wedstrijd 612 KMVV
CLASS:PUBLIC
DESCRIPTION:Comp wedstrijd 612: Dumo's coppes - Santy Pils Marke
X-ALT-DESC;FMTTYPE=text/html:Comp wedstrijd 612: <b>Dumo's coppes - Santy P
 ils Marke</b> te Rollegem
X-MICROSOFT-CDO-BUSYSTATUS:FREE
X-MICROSOFT-CDO-INTENDEDSTATUS:FREE
DTSTAMP:20260423T092753Z
BEGIN:VALARM
TRIGGER:-P1D
ACTION:DISPLAY
DESCRIPTION:Comp wedstrijd 612: Dumo's coppes - Santy Pils Marke
END:VALARM
END:VEVENT
BEGIN:VEVENT
UID:69e9e619a5231
DTSTART:20260526T170000Z
SEQUENCE:0
TRANSP:OPAQUE
LOCATION:Bissegem
SUMMARY:Wedstrijd 662 KMVV
CLASS:PUBLIC
DESCRIPTION:Comp wedstrijd 662: Santy Pils Marke - Davabo-Smooth Surface
X-ALT-DESC;FMTTYPE=text/html:Comp wedstrijd 662: <b>Santy Pils Marke - Dava
 bo-Smooth Surface</b> te Bissegem
X-MICROSOFT-CDO-BUSYSTATUS:FREE
X-MICROSOFT-CDO-INTENDEDSTATUS:FREE
DTSTAMP:20260423T092753Z
BEGIN:VALARM
TRIGGER:-P1D
ACTION:DISPLAY
DESCRIPTION:Comp wedstrijd 662: Santy Pils Marke - Davabo-Smooth Surface
END:VALARM
END:VEVENT
BEGIN:VEVENT
UID:69e9e619a5243
DTSTART:20260603T190000Z
SEQUENCE:0
TRANSP:OPAQUE
LOCATION:Rollegem
SUMMARY:Wedstrijd 700 KMVV
CLASS:PUBLIC
DESCRIPTION:Comp wedstrijd 700: Blacks - Santy Pils Marke
X-ALT-DESC;FMTTYPE=text/html:Comp wedstrijd 700: <b>Blacks - Santy Pils Mar
 ke</b> te Rollegem
X-MICROSOFT-CDO-BUSYSTATUS:FREE
X-MICROSOFT-CDO-INTENDEDSTATUS:FREE
DTSTAMP:20260423T092753Z
BEGIN:VALARM
TRIGGER:-P1D
ACTION:DISPLAY
DESCRIPTION:Comp wedstrijd 700: Blacks - Santy Pils Marke
END:VALARM
END:VEVENT
BEGIN:VEVENT
UID:69e9e619a5255
DTSTART:20260610T180000Z
SEQUENCE:0
TRANSP:OPAQUE
LOCATION:Bissegem
SUMMARY:Wedstrijd 727 KMVV
CLASS:PUBLIC
DESCRIPTION:Comp wedstrijd 727: Santy Pils Marke - De Rooftoppers
X-ALT-DESC;FMTTYPE=text/html:Comp wedstrijd 727: <b>Santy Pils Marke - De R
 ooftoppers</b> te Bissegem
X-MICROSOFT-CDO-BUSYSTATUS:FREE
X-MICROSOFT-CDO-INTENDEDSTATUS:FREE
DTSTAMP:20260423T092753Z
BEGIN:VALARM
TRIGGER:-P1D
ACTION:DISPLAY
DESCRIPTION:Comp wedstrijd 727: Santy Pils Marke - De Rooftoppers
END:VALARM
END:VEVENT
BEGIN:VEVENT
UID:69e9e619a5267
DTSTART:20260617T190000Z
SEQUENCE:0
TRANSP:OPAQUE
LOCATION:Rollegem
SUMMARY:Wedstrijd 750 KMVV
CLASS:PUBLIC
DESCRIPTION:Comp wedstrijd 750: De Labberleute - Santy Pils Marke
X-ALT-DESC;FMTTYPE=text/html:Comp wedstrijd 750: <b>De Labberleute - Santy 
 Pils Marke</b> te Rollegem
X-MICROSOFT-CDO-BUSYSTATUS:FREE
X-MICROSOFT-CDO-INTENDEDSTATUS:FREE
DTSTAMP:20260423T092753Z
BEGIN:VALARM
TRIGGER:-P1D
ACTION:DISPLAY
DESCRIPTION:Comp wedstrijd 750: De Labberleute - Santy Pils Marke
END:VALARM
END:VEVENT
BEGIN:VEVENT
UID:69e9e619a527a
DTSTART:20260622T180000Z
SEQUENCE:0
TRANSP:OPAQUE
LOCATION:Lagae
SUMMARY:Wedstrijd 776 KMVV
CLASS:PUBLIC
DESCRIPTION:Comp wedstrijd 776: Santy Pils Marke - BB FC
X-ALT-DESC;FMTTYPE=text/html:Comp wedstrijd 776: <b>Santy Pils Marke - BB F
 C</b> te Lagae
X-MICROSOFT-CDO-BUSYSTATUS:FREE
X-MICROSOFT-CDO-INTENDEDSTATUS:FREE
DTSTAMP:20260423T092753Z
BEGIN:VALARM
TRIGGER:-P1D
ACTION:DISPLAY
DESCRIPTION:Comp wedstrijd 776: Santy Pils Marke - BB FC
END:VALARM
END:VEVENT
END:VCALENDAR