BEGIN:VCALENDAR
VERSION:2.0
PRODID:www.kmvv.be
BEGIN:VEVENT
UID:69e9e16a237d9
DTSTART:20250901T183000Z
SEQUENCE:0
TRANSP:OPAQUE
LOCATION:Bissegem
SUMMARY:Wedstrijd 1 KMVV
CLASS:PUBLIC
DESCRIPTION:Comp wedstrijd 1: Lokomotiv Popo - Y.B.Speelplaneet
X-ALT-DESC;FMTTYPE=text/html:Comp wedstrijd 1: <b>Lokomotiv Popo - Y.B.Spee
 lplaneet</b> te Bissegem
X-MICROSOFT-CDO-BUSYSTATUS:FREE
X-MICROSOFT-CDO-INTENDEDSTATUS:FREE
DTSTAMP:20260423T090754Z
BEGIN:VALARM
TRIGGER:-P1D
ACTION:DISPLAY
DESCRIPTION:Comp wedstrijd 1: Lokomotiv Popo - Y.B.Speelplaneet
END:VALARM
END:VEVENT
BEGIN:VEVENT
UID:69e9e16a23c1a
DTSTART:20250918T160000Z
SEQUENCE:0
TRANSP:OPAQUE
LOCATION:Lagae
SUMMARY:Wedstrijd 56 KMVV
CLASS:PUBLIC
DESCRIPTION:Comp wedstrijd 56: Moterwalen '09 - Y.B.Speelplaneet
X-ALT-DESC;FMTTYPE=text/html:Comp wedstrijd 56: <b>Moterwalen '09 - Y.B.Spe
 elplaneet</b> te Lagae
X-MICROSOFT-CDO-BUSYSTATUS:FREE
X-MICROSOFT-CDO-INTENDEDSTATUS:FREE
DTSTAMP:20260423T090754Z
BEGIN:VALARM
TRIGGER:-P1D
ACTION:DISPLAY
DESCRIPTION:Comp wedstrijd 56: Moterwalen '09 - Y.B.Speelplaneet
END:VALARM
END:VEVENT
BEGIN:VEVENT
UID:69e9e16a23c53
DTSTART:20250924T190000Z
SEQUENCE:0
TRANSP:OPAQUE
LOCATION:Rollegem
SUMMARY:Wedstrijd 71 KMVV
CLASS:PUBLIC
DESCRIPTION:Comp wedstrijd 71: Y.B.Speelplaneet - Bakkerij Bekaert
X-ALT-DESC;FMTTYPE=text/html:Comp wedstrijd 71: <b>Y.B.Speelplaneet - Bakke
 rij Bekaert</b> te Rollegem
X-MICROSOFT-CDO-BUSYSTATUS:FREE
X-MICROSOFT-CDO-INTENDEDSTATUS:FREE
DTSTAMP:20260423T090754Z
BEGIN:VALARM
TRIGGER:-P1D
ACTION:DISPLAY
DESCRIPTION:Comp wedstrijd 71: Y.B.Speelplaneet - Bakkerij Bekaert
END:VALARM
END:VEVENT
BEGIN:VEVENT
UID:69e9e16a23c73
DTSTART:20251009T160000Z
SEQUENCE:0
TRANSP:OPAQUE
LOCATION:Lagae
SUMMARY:Wedstrijd 115 KMVV
CLASS:PUBLIC
DESCRIPTION:Comp wedstrijd 115: FC White Star - Y.B.Speelplaneet
X-ALT-DESC;FMTTYPE=text/html:Comp wedstrijd 115: <b>FC White Star - Y.B.Spe
 elplaneet</b> te Lagae
X-MICROSOFT-CDO-BUSYSTATUS:FREE
X-MICROSOFT-CDO-INTENDEDSTATUS:FREE
DTSTAMP:20260423T090754Z
BEGIN:VALARM
TRIGGER:-P1D
ACTION:DISPLAY
DESCRIPTION:Comp wedstrijd 115: FC White Star - Y.B.Speelplaneet
END:VALARM
END:VEVENT
BEGIN:VEVENT
UID:69e9e16a23c95
DTSTART:20251016T173000Z
SEQUENCE:0
TRANSP:OPAQUE
LOCATION:Bissegem
SUMMARY:Wedstrijd 133 KMVV
CLASS:PUBLIC
DESCRIPTION:Comp wedstrijd 133: Y.B.Speelplaneet - Blacks
X-ALT-DESC;FMTTYPE=text/html:Comp wedstrijd 133: <b>Y.B.Speelplaneet - Blac
 ks</b> te Bissegem
X-MICROSOFT-CDO-BUSYSTATUS:FREE
X-MICROSOFT-CDO-INTENDEDSTATUS:FREE
DTSTAMP:20260423T090754Z
BEGIN:VALARM
TRIGGER:-P1D
ACTION:DISPLAY
DESCRIPTION:Comp wedstrijd 133: Y.B.Speelplaneet - Blacks
END:VALARM
END:VEVENT
BEGIN:VEVENT
UID:69e9e16a23cb6
DTSTART:20251020T170000Z
SEQUENCE:0
TRANSP:OPAQUE
LOCATION:Rollegem
SUMMARY:Wedstrijd 146 KMVV
CLASS:PUBLIC
DESCRIPTION:Comp wedstrijd 146: TD Decor - Y.B.Speelplaneet
X-ALT-DESC;FMTTYPE=text/html:Comp wedstrijd 146: <b>TD Decor - Y.B.Speelpla
 neet</b> te Rollegem
X-MICROSOFT-CDO-BUSYSTATUS:FREE
X-MICROSOFT-CDO-INTENDEDSTATUS:FREE
DTSTAMP:20260423T090754Z
BEGIN:VALARM
TRIGGER:-P1D
ACTION:DISPLAY
DESCRIPTION:Comp wedstrijd 146: TD Decor - Y.B.Speelplaneet
END:VALARM
END:VEVENT
BEGIN:VEVENT
UID:69e9e16a23cd9
DTSTART:20251113T170000Z
SEQUENCE:0
TRANSP:OPAQUE
LOCATION:Lagae
SUMMARY:Wedstrijd 216 KMVV
CLASS:PUBLIC
DESCRIPTION:Comp wedstrijd 216: Y.B.Speelplaneet - Omer Oliever
X-ALT-DESC;FMTTYPE=text/html:Comp wedstrijd 216: <b>Y.B.Speelplaneet - Omer
  Oliever</b> te Lagae
X-MICROSOFT-CDO-BUSYSTATUS:FREE
X-MICROSOFT-CDO-INTENDEDSTATUS:FREE
DTSTAMP:20260423T090754Z
BEGIN:VALARM
TRIGGER:-P1D
ACTION:DISPLAY
DESCRIPTION:Comp wedstrijd 216: Y.B.Speelplaneet - Omer Oliever
END:VALARM
END:VEVENT
BEGIN:VEVENT
UID:69e9e16a23cfb
DTSTART:20251120T183000Z
SEQUENCE:0
TRANSP:OPAQUE
LOCATION:Bissegem
SUMMARY:Wedstrijd 232 KMVV
CLASS:PUBLIC
DESCRIPTION:Comp wedstrijd 232: De vagant - Y.B.Speelplaneet
X-ALT-DESC;FMTTYPE=text/html:Comp wedstrijd 232: <b>De vagant - Y.B.Speelpl
 aneet</b> te Bissegem
X-MICROSOFT-CDO-BUSYSTATUS:FREE
X-MICROSOFT-CDO-INTENDEDSTATUS:FREE
DTSTAMP:20260423T090754Z
BEGIN:VALARM
TRIGGER:-P1D
ACTION:DISPLAY
DESCRIPTION:Comp wedstrijd 232: De vagant - Y.B.Speelplaneet
END:VALARM
END:VEVENT
BEGIN:VEVENT
UID:69e9e16a23d1b
DTSTART:20251201T203000Z
SEQUENCE:0
TRANSP:OPAQUE
LOCATION:Bissegem
SUMMARY:Wedstrijd 261 KMVV
CLASS:PUBLIC
DESCRIPTION:Comp wedstrijd 261: Y.B.Speelplaneet - Maba
X-ALT-DESC;FMTTYPE=text/html:Comp wedstrijd 261: <b>Y.B.Speelplaneet - Maba
 </b> te Bissegem
X-MICROSOFT-CDO-BUSYSTATUS:FREE
X-MICROSOFT-CDO-INTENDEDSTATUS:FREE
DTSTAMP:20260423T090754Z
BEGIN:VALARM
TRIGGER:-P1D
ACTION:DISPLAY
DESCRIPTION:Comp wedstrijd 261: Y.B.Speelplaneet - Maba
END:VALARM
END:VEVENT
BEGIN:VEVENT
UID:69e9e16a23d3d
DTSTART:20251211T183000Z
SEQUENCE:0
TRANSP:OPAQUE
LOCATION:Bissegem
SUMMARY:Wedstrijd 293 KMVV
CLASS:PUBLIC
DESCRIPTION:Comp wedstrijd 293: MVC Beauty & More - Y.B.Speelplaneet
X-ALT-DESC;FMTTYPE=text/html:Comp wedstrijd 293: <b>MVC Beauty & More - Y.B
 .Speelplaneet</b> te Bissegem
X-MICROSOFT-CDO-BUSYSTATUS:FREE
X-MICROSOFT-CDO-INTENDEDSTATUS:FREE
DTSTAMP:20260423T090754Z
BEGIN:VALARM
TRIGGER:-P1D
ACTION:DISPLAY
DESCRIPTION:Comp wedstrijd 293: MVC Beauty & More - Y.B.Speelplaneet
END:VALARM
END:VEVENT
BEGIN:VEVENT
UID:69e9e16a23d93
DTSTART:20251222T180000Z
SEQUENCE:0
TRANSP:OPAQUE
LOCATION:Rollegem
SUMMARY:Wedstrijd 323 KMVV
CLASS:PUBLIC
DESCRIPTION:Comp wedstrijd 323: Zakouzkys - Y.B.Speelplaneet
X-ALT-DESC;FMTTYPE=text/html:Comp wedstrijd 323: <b>Zakouzkys - Y.B.Speelpl
 aneet</b> te Rollegem
X-MICROSOFT-CDO-BUSYSTATUS:FREE
X-MICROSOFT-CDO-INTENDEDSTATUS:FREE
DTSTAMP:20260423T090754Z
BEGIN:VALARM
TRIGGER:-P1D
ACTION:DISPLAY
DESCRIPTION:Comp wedstrijd 323: Zakouzkys - Y.B.Speelplaneet
END:VALARM
END:VEVENT
BEGIN:VEVENT
UID:69e9e16a23dba
DTSTART:20260115T170000Z
SEQUENCE:0
TRANSP:OPAQUE
LOCATION:Lagae
SUMMARY:Wedstrijd 373 KMVV
CLASS:PUBLIC
DESCRIPTION:Comp wedstrijd 373: Y.B.Speelplaneet - St Antonius/Den Hert
X-ALT-DESC;FMTTYPE=text/html:Comp wedstrijd 373: <b>Y.B.Speelplaneet - St A
 ntonius/Den Hert</b> te Lagae
X-MICROSOFT-CDO-BUSYSTATUS:FREE
X-MICROSOFT-CDO-INTENDEDSTATUS:FREE
DTSTAMP:20260423T090754Z
BEGIN:VALARM
TRIGGER:-P1D
ACTION:DISPLAY
DESCRIPTION:Comp wedstrijd 373: Y.B.Speelplaneet - St Antonius/Den Hert
END:VALARM
END:VEVENT
BEGIN:VEVENT
UID:69e9e16a23ddc
DTSTART:20260122T170000Z
SEQUENCE:0
TRANSP:OPAQUE
LOCATION:Lagae
SUMMARY:Wedstrijd 394 KMVV
CLASS:PUBLIC
DESCRIPTION:Comp wedstrijd 394: Y.B.Speelplaneet - De Rooftoppers
X-ALT-DESC;FMTTYPE=text/html:Comp wedstrijd 394: <b>Y.B.Speelplaneet - De R
 ooftoppers</b> te Lagae
X-MICROSOFT-CDO-BUSYSTATUS:FREE
X-MICROSOFT-CDO-INTENDEDSTATUS:FREE
DTSTAMP:20260423T090754Z
BEGIN:VALARM
TRIGGER:-P1D
ACTION:DISPLAY
DESCRIPTION:Comp wedstrijd 394: Y.B.Speelplaneet - De Rooftoppers
END:VALARM
END:VEVENT
BEGIN:VEVENT
UID:69e9e16a23dfd
DTSTART:20260216T200000Z
SEQUENCE:0
TRANSP:OPAQUE
LOCATION:Lagae
SUMMARY:Wedstrijd 411 KMVV
CLASS:PUBLIC
DESCRIPTION:Comp wedstrijd 411: BB FC - Y.B.Speelplaneet
X-ALT-DESC;FMTTYPE=text/html:Comp wedstrijd 411: <b>BB FC - Y.B.Speelplanee
 t</b> te Lagae
X-MICROSOFT-CDO-BUSYSTATUS:FREE
X-MICROSOFT-CDO-INTENDEDSTATUS:FREE
DTSTAMP:20260423T090754Z
BEGIN:VALARM
TRIGGER:-P1D
ACTION:DISPLAY
DESCRIPTION:Comp wedstrijd 411: BB FC - Y.B.Speelplaneet
END:VALARM
END:VEVENT
BEGIN:VEVENT
UID:69e9e16a23e1c
DTSTART:20260226T203000Z
SEQUENCE:0
TRANSP:OPAQUE
LOCATION:Rollegem
SUMMARY:Wedstrijd 444 KMVV
CLASS:PUBLIC
DESCRIPTION:Comp wedstrijd 444: Y.B.Speelplaneet - Davabo-Smooth Surface
X-ALT-DESC;FMTTYPE=text/html:Comp wedstrijd 444: <b>Y.B.Speelplaneet - Dava
 bo-Smooth Surface</b> te Rollegem
X-MICROSOFT-CDO-BUSYSTATUS:FREE
X-MICROSOFT-CDO-INTENDEDSTATUS:FREE
DTSTAMP:20260423T090754Z
BEGIN:VALARM
TRIGGER:-P1D
ACTION:DISPLAY
DESCRIPTION:Comp wedstrijd 444: Y.B.Speelplaneet - Davabo-Smooth Surface
END:VALARM
END:VEVENT
BEGIN:VEVENT
UID:69e9e16a23e3c
DTSTART:20260313T180000Z
SEQUENCE:0
TRANSP:OPAQUE
LOCATION:Rollegem
SUMMARY:Wedstrijd 486 KMVV
CLASS:PUBLIC
DESCRIPTION:Comp wedstrijd 486: Blacks - Y.B.Speelplaneet
X-ALT-DESC;FMTTYPE=text/html:Comp wedstrijd 486: <b>Blacks - Y.B.Speelplane
 et</b> te Rollegem
X-MICROSOFT-CDO-BUSYSTATUS:FREE
X-MICROSOFT-CDO-INTENDEDSTATUS:FREE
DTSTAMP:20260423T090754Z
BEGIN:VALARM
TRIGGER:-P1D
ACTION:DISPLAY
DESCRIPTION:Comp wedstrijd 486: Blacks - Y.B.Speelplaneet
END:VALARM
END:VEVENT
BEGIN:VEVENT
UID:69e9e16a23e50
DTSTART:20260319T180000Z
SEQUENCE:0
TRANSP:OPAQUE
LOCATION:Lagae
SUMMARY:Wedstrijd 503 KMVV
CLASS:PUBLIC
DESCRIPTION:Comp wedstrijd 503: Y.B.Speelplaneet - De Rooftoppers
X-ALT-DESC;FMTTYPE=text/html:Comp wedstrijd 503: <b>Y.B.Speelplaneet - De R
 ooftoppers</b> te Lagae
X-MICROSOFT-CDO-BUSYSTATUS:FREE
X-MICROSOFT-CDO-INTENDEDSTATUS:FREE
DTSTAMP:20260423T090754Z
BEGIN:VALARM
TRIGGER:-P1D
ACTION:DISPLAY
DESCRIPTION:Comp wedstrijd 503: Y.B.Speelplaneet - De Rooftoppers
END:VALARM
END:VEVENT
BEGIN:VEVENT
UID:69e9e16a23e64
DTSTART:20260330T183000Z
SEQUENCE:0
TRANSP:OPAQUE
LOCATION:Bissegem
SUMMARY:Wedstrijd 520 KMVV
CLASS:PUBLIC
DESCRIPTION:Comp wedstrijd 520: De Labberleute - Y.B.Speelplaneet
X-ALT-DESC;FMTTYPE=text/html:Comp wedstrijd 520: <b>De Labberleute - Y.B.Sp
 eelplaneet</b> te Bissegem
X-MICROSOFT-CDO-BUSYSTATUS:FREE
X-MICROSOFT-CDO-INTENDEDSTATUS:FREE
DTSTAMP:20260423T090754Z
BEGIN:VALARM
TRIGGER:-P1D
ACTION:DISPLAY
DESCRIPTION:Comp wedstrijd 520: De Labberleute - Y.B.Speelplaneet
END:VALARM
END:VEVENT
BEGIN:VEVENT
UID:69e9e16a23e77
DTSTART:20260420T180000Z
SEQUENCE:0
TRANSP:OPAQUE
LOCATION:Lagae
SUMMARY:Wedstrijd 572 KMVV
CLASS:PUBLIC
DESCRIPTION:Comp wedstrijd 572: Y.B.Speelplaneet - T-Team
X-ALT-DESC;FMTTYPE=text/html:Comp wedstrijd 572: <b>Y.B.Speelplaneet - T-Te
 am</b> te Lagae
X-MICROSOFT-CDO-BUSYSTATUS:FREE
X-MICROSOFT-CDO-INTENDEDSTATUS:FREE
DTSTAMP:20260423T090754Z
BEGIN:VALARM
TRIGGER:-P1D
ACTION:DISPLAY
DESCRIPTION:Comp wedstrijd 572: Y.B.Speelplaneet - T-Team
END:VALARM
END:VEVENT
BEGIN:VEVENT
UID:69e9e16a23e8a
DTSTART:20260430T173000Z
SEQUENCE:0
TRANSP:OPAQUE
LOCATION:Bissegem
SUMMARY:Wedstrijd 601 KMVV
CLASS:PUBLIC
DESCRIPTION:Comp wedstrijd 601: Santy Pils Marke - Y.B.Speelplaneet
X-ALT-DESC;FMTTYPE=text/html:Comp wedstrijd 601: <b>Santy Pils Marke - Y.B.
 Speelplaneet</b> te Bissegem
X-MICROSOFT-CDO-BUSYSTATUS:FREE
X-MICROSOFT-CDO-INTENDEDSTATUS:FREE
DTSTAMP:20260423T090754Z
BEGIN:VALARM
TRIGGER:-P1D
ACTION:DISPLAY
DESCRIPTION:Comp wedstrijd 601: Santy Pils Marke - Y.B.Speelplaneet
END:VALARM
END:VEVENT
BEGIN:VEVENT
UID:69e9e16a23e9e
DTSTART:20260504T180000Z
SEQUENCE:0
TRANSP:OPAQUE
LOCATION:Lagae
SUMMARY:Wedstrijd 609 KMVV
CLASS:PUBLIC
DESCRIPTION:Comp wedstrijd 609: Y.B.Speelplaneet - Café Astor
X-ALT-DESC;FMTTYPE=text/html:Comp wedstrijd 609: <b>Y.B.Speelplaneet - Caf
 é Astor</b> te Lagae
X-MICROSOFT-CDO-BUSYSTATUS:FREE
X-MICROSOFT-CDO-INTENDEDSTATUS:FREE
DTSTAMP:20260423T090754Z
BEGIN:VALARM
TRIGGER:-P1D
ACTION:DISPLAY
DESCRIPTION:Comp wedstrijd 609: Y.B.Speelplaneet - Café Astor
END:VALARM
END:VEVENT
BEGIN:VEVENT
UID:69e9e16a23eb0
DTSTART:20260518T170000Z
SEQUENCE:0
TRANSP:OPAQUE
LOCATION:Rollegem
SUMMARY:Wedstrijd 647 KMVV
CLASS:PUBLIC
DESCRIPTION:Comp wedstrijd 647: Bakkerij Bekaert - Y.B.Speelplaneet
X-ALT-DESC;FMTTYPE=text/html:Comp wedstrijd 647: <b>Bakkerij Bekaert - Y.B.
 Speelplaneet</b> te Rollegem
X-MICROSOFT-CDO-BUSYSTATUS:FREE
X-MICROSOFT-CDO-INTENDEDSTATUS:FREE
DTSTAMP:20260423T090754Z
BEGIN:VALARM
TRIGGER:-P1D
ACTION:DISPLAY
DESCRIPTION:Comp wedstrijd 647: Bakkerij Bekaert - Y.B.Speelplaneet
END:VALARM
END:VEVENT
BEGIN:VEVENT
UID:69e9e16a23ec3
DTSTART:20260605T180000Z
SEQUENCE:0
TRANSP:OPAQUE
LOCATION:Bissegem
SUMMARY:Wedstrijd 709 KMVV
CLASS:PUBLIC
DESCRIPTION:Comp wedstrijd 709: Y.B.Speelplaneet - La galaxie
X-ALT-DESC;FMTTYPE=text/html:Comp wedstrijd 709: <b>Y.B.Speelplaneet - La g
 alaxie</b> te Bissegem
X-MICROSOFT-CDO-BUSYSTATUS:FREE
X-MICROSOFT-CDO-INTENDEDSTATUS:FREE
DTSTAMP:20260423T090754Z
BEGIN:VALARM
TRIGGER:-P1D
ACTION:DISPLAY
DESCRIPTION:Comp wedstrijd 709: Y.B.Speelplaneet - La galaxie
END:VALARM
END:VEVENT
BEGIN:VEVENT
UID:69e9e16a23ed5
DTSTART:20260608T180000Z
SEQUENCE:0
TRANSP:OPAQUE
LOCATION:Lagae
SUMMARY:Wedstrijd 717 KMVV
CLASS:PUBLIC
DESCRIPTION:Comp wedstrijd 717: MVC De Max - Y.B.Speelplaneet
X-ALT-DESC;FMTTYPE=text/html:Comp wedstrijd 717: <b>MVC De Max - Y.B.Speelp
 laneet</b> te Lagae
X-MICROSOFT-CDO-BUSYSTATUS:FREE
X-MICROSOFT-CDO-INTENDEDSTATUS:FREE
DTSTAMP:20260423T090754Z
BEGIN:VALARM
TRIGGER:-P1D
ACTION:DISPLAY
DESCRIPTION:Comp wedstrijd 717: MVC De Max - Y.B.Speelplaneet
END:VALARM
END:VEVENT
BEGIN:VEVENT
UID:69e9e16a23ef9
DTSTART:20260615T190000Z
SEQUENCE:0
TRANSP:OPAQUE
LOCATION:Lagae
SUMMARY:Wedstrijd 749 KMVV
CLASS:PUBLIC
DESCRIPTION:Comp wedstrijd 749: Y.B.Speelplaneet - Mex United
X-ALT-DESC;FMTTYPE=text/html:Comp wedstrijd 749: <b>Y.B.Speelplaneet - Mex 
 United</b> te Lagae
X-MICROSOFT-CDO-BUSYSTATUS:FREE
X-MICROSOFT-CDO-INTENDEDSTATUS:FREE
DTSTAMP:20260423T090754Z
BEGIN:VALARM
TRIGGER:-P1D
ACTION:DISPLAY
DESCRIPTION:Comp wedstrijd 749: Y.B.Speelplaneet - Mex United
END:VALARM
END:VEVENT
BEGIN:VEVENT
UID:69e9e16a23f0c
DTSTART:20260626T190000Z
SEQUENCE:0
TRANSP:OPAQUE
LOCATION:Rollegem
SUMMARY:Wedstrijd 801 KMVV
CLASS:PUBLIC
DESCRIPTION:Comp wedstrijd 801: Dumo's coppes - Y.B.Speelplaneet
X-ALT-DESC;FMTTYPE=text/html:Comp wedstrijd 801: <b>Dumo's coppes - Y.B.Spe
 elplaneet</b> te Rollegem
X-MICROSOFT-CDO-BUSYSTATUS:FREE
X-MICROSOFT-CDO-INTENDEDSTATUS:FREE
DTSTAMP:20260423T090754Z
BEGIN:VALARM
TRIGGER:-P1D
ACTION:DISPLAY
DESCRIPTION:Comp wedstrijd 801: Dumo's coppes - Y.B.Speelplaneet
END:VALARM
END:VEVENT
END:VCALENDAR