BEGIN:VCALENDAR
VERSION:2.0
PRODID:www.kmvv.be
BEGIN:VEVENT
UID:69e9e11dbf28b
DTSTART:20250908T160000Z
SEQUENCE:0
TRANSP:OPAQUE
LOCATION:Rollegem
SUMMARY:Wedstrijd 25 KMVV
CLASS:PUBLIC
DESCRIPTION:Comp wedstrijd 25: Coiffeurs City - De Interistas
X-ALT-DESC;FMTTYPE=text/html:Comp wedstrijd 25: <b>Coiffeurs City - De Inte
 ristas</b> te Rollegem
X-MICROSOFT-CDO-BUSYSTATUS:FREE
X-MICROSOFT-CDO-INTENDEDSTATUS:FREE
DTSTAMP:20260423T090637Z
BEGIN:VALARM
TRIGGER:-P1D
ACTION:DISPLAY
DESCRIPTION:Comp wedstrijd 25: Coiffeurs City - De Interistas
END:VALARM
END:VEVENT
BEGIN:VEVENT
UID:69e9e11dbf598
DTSTART:20250917T193000Z
SEQUENCE:0
TRANSP:OPAQUE
LOCATION:Bissegem
SUMMARY:Wedstrijd 50 KMVV
CLASS:PUBLIC
DESCRIPTION:Comp wedstrijd 50: Incognito - De Interistas
X-ALT-DESC;FMTTYPE=text/html:Comp wedstrijd 50: <b>Incognito - De Interista
 s</b> te Bissegem
X-MICROSOFT-CDO-BUSYSTATUS:FREE
X-MICROSOFT-CDO-INTENDEDSTATUS:FREE
DTSTAMP:20260423T090637Z
BEGIN:VALARM
TRIGGER:-P1D
ACTION:DISPLAY
DESCRIPTION:Comp wedstrijd 50: Incognito - De Interistas
END:VALARM
END:VEVENT
BEGIN:VEVENT
UID:69e9e11dbf5ba
DTSTART:20251008T193000Z
SEQUENCE:0
TRANSP:OPAQUE
LOCATION:Bissegem
SUMMARY:Wedstrijd 109 KMVV
CLASS:PUBLIC
DESCRIPTION:Comp wedstrijd 109: The red bastards - De Interistas
X-ALT-DESC;FMTTYPE=text/html:Comp wedstrijd 109: <b>The red bastards - De I
 nteristas</b> te Bissegem
X-MICROSOFT-CDO-BUSYSTATUS:FREE
X-MICROSOFT-CDO-INTENDEDSTATUS:FREE
DTSTAMP:20260423T090637Z
BEGIN:VALARM
TRIGGER:-P1D
ACTION:DISPLAY
DESCRIPTION:Comp wedstrijd 109: The red bastards - De Interistas
END:VALARM
END:VEVENT
BEGIN:VEVENT
UID:69e9e11dbf5d1
DTSTART:20251020T160000Z
SEQUENCE:0
TRANSP:OPAQUE
LOCATION:Rollegem
SUMMARY:Wedstrijd 145 KMVV
CLASS:PUBLIC
DESCRIPTION:Comp wedstrijd 145: De Interistas - MVC Marreva
X-ALT-DESC;FMTTYPE=text/html:Comp wedstrijd 145: <b>De Interistas - MVC Mar
 reva</b> te Rollegem
X-MICROSOFT-CDO-BUSYSTATUS:FREE
X-MICROSOFT-CDO-INTENDEDSTATUS:FREE
DTSTAMP:20260423T090637Z
BEGIN:VALARM
TRIGGER:-P1D
ACTION:DISPLAY
DESCRIPTION:Comp wedstrijd 145: De Interistas - MVC Marreva
END:VALARM
END:VEVENT
BEGIN:VEVENT
UID:69e9e11dbf5e7
DTSTART:20251027T190000Z
SEQUENCE:0
TRANSP:OPAQUE
LOCATION:Lagae
SUMMARY:Wedstrijd 164 KMVV
CLASS:PUBLIC
DESCRIPTION:Comp wedstrijd 164: Garfield '85 - De Interistas
X-ALT-DESC;FMTTYPE=text/html:Comp wedstrijd 164: <b>Garfield '85 - De Inter
 istas</b> te Lagae
X-MICROSOFT-CDO-BUSYSTATUS:FREE
X-MICROSOFT-CDO-INTENDEDSTATUS:FREE
DTSTAMP:20260423T090637Z
BEGIN:VALARM
TRIGGER:-P1D
ACTION:DISPLAY
DESCRIPTION:Comp wedstrijd 164: Garfield '85 - De Interistas
END:VALARM
END:VEVENT
BEGIN:VEVENT
UID:69e9e11dbf5fb
DTSTART:20251110T190000Z
SEQUENCE:0
TRANSP:OPAQUE
LOCATION:Rollegem
SUMMARY:Wedstrijd 208 KMVV
CLASS:PUBLIC
DESCRIPTION:Comp wedstrijd 208: FC Avanco - De Interistas
X-ALT-DESC;FMTTYPE=text/html:Comp wedstrijd 208: <b>FC Avanco - De Interist
 as</b> te Rollegem
X-MICROSOFT-CDO-BUSYSTATUS:FREE
X-MICROSOFT-CDO-INTENDEDSTATUS:FREE
DTSTAMP:20260423T090637Z
BEGIN:VALARM
TRIGGER:-P1D
ACTION:DISPLAY
DESCRIPTION:Comp wedstrijd 208: FC Avanco - De Interistas
END:VALARM
END:VEVENT
BEGIN:VEVENT
UID:69e9e11dbf60e
DTSTART:20251121T180000Z
SEQUENCE:0
TRANSP:OPAQUE
LOCATION:Rollegem
SUMMARY:Wedstrijd 240 KMVV
CLASS:PUBLIC
DESCRIPTION:Comp wedstrijd 240: De Interistas - Logiegrafix
X-ALT-DESC;FMTTYPE=text/html:Comp wedstrijd 240: <b>De Interistas - Logiegr
 afix</b> te Rollegem
X-MICROSOFT-CDO-BUSYSTATUS:FREE
X-MICROSOFT-CDO-INTENDEDSTATUS:FREE
DTSTAMP:20260423T090637Z
BEGIN:VALARM
TRIGGER:-P1D
ACTION:DISPLAY
DESCRIPTION:Comp wedstrijd 240: De Interistas - Logiegrafix
END:VALARM
END:VEVENT
BEGIN:VEVENT
UID:69e9e11dbf622
DTSTART:20251203T190000Z
SEQUENCE:0
TRANSP:OPAQUE
LOCATION:Rollegem
SUMMARY:Wedstrijd 270 KMVV
CLASS:PUBLIC
DESCRIPTION:Comp wedstrijd 270: Goalkick Murphys - De Interistas
X-ALT-DESC;FMTTYPE=text/html:Comp wedstrijd 270: <b>Goalkick Murphys - De I
 nteristas</b> te Rollegem
X-MICROSOFT-CDO-BUSYSTATUS:FREE
X-MICROSOFT-CDO-INTENDEDSTATUS:FREE
DTSTAMP:20260423T090637Z
BEGIN:VALARM
TRIGGER:-P1D
ACTION:DISPLAY
DESCRIPTION:Comp wedstrijd 270: Goalkick Murphys - De Interistas
END:VALARM
END:VEVENT
BEGIN:VEVENT
UID:69e9e11dbf636
DTSTART:20251217T203000Z
SEQUENCE:0
TRANSP:OPAQUE
LOCATION:Bissegem
SUMMARY:Wedstrijd 309 KMVV
CLASS:PUBLIC
DESCRIPTION:Comp wedstrijd 309: De Interistas - Rosseeuw interieurs
X-ALT-DESC;FMTTYPE=text/html:Comp wedstrijd 309: <b>De Interistas - Rosseeu
 w interieurs</b> te Bissegem
X-MICROSOFT-CDO-BUSYSTATUS:FREE
X-MICROSOFT-CDO-INTENDEDSTATUS:FREE
DTSTAMP:20260423T090637Z
BEGIN:VALARM
TRIGGER:-P1D
ACTION:DISPLAY
DESCRIPTION:Comp wedstrijd 309: De Interistas - Rosseeuw interieurs
END:VALARM
END:VEVENT
BEGIN:VEVENT
UID:69e9e11dbf64a
DTSTART:20260109T170000Z
SEQUENCE:0
TRANSP:OPAQUE
LOCATION:Rollegem
SUMMARY:Wedstrijd 356 KMVV
CLASS:PUBLIC
DESCRIPTION:Comp wedstrijd 356: Café Dudu - De Interistas
X-ALT-DESC;FMTTYPE=text/html:Comp wedstrijd 356: <b>Café Dudu - De Interis
 tas</b> te Rollegem
X-MICROSOFT-CDO-BUSYSTATUS:FREE
X-MICROSOFT-CDO-INTENDEDSTATUS:FREE
DTSTAMP:20260423T090637Z
BEGIN:VALARM
TRIGGER:-P1D
ACTION:DISPLAY
DESCRIPTION:Comp wedstrijd 356: Café Dudu - De Interistas
END:VALARM
END:VEVENT
BEGIN:VEVENT
UID:69e9e11dbf66a
DTSTART:20260112T203000Z
SEQUENCE:0
TRANSP:OPAQUE
LOCATION:Bissegem
SUMMARY:Wedstrijd 359 KMVV
CLASS:PUBLIC
DESCRIPTION:Comp wedstrijd 359: De Interistas - De Foodballers
X-ALT-DESC;FMTTYPE=text/html:Comp wedstrijd 359: <b>De Interistas - De Food
 ballers</b> te Bissegem
X-MICROSOFT-CDO-BUSYSTATUS:FREE
X-MICROSOFT-CDO-INTENDEDSTATUS:FREE
DTSTAMP:20260423T090637Z
BEGIN:VALARM
TRIGGER:-P1D
ACTION:DISPLAY
DESCRIPTION:Comp wedstrijd 359: De Interistas - De Foodballers
END:VALARM
END:VEVENT
BEGIN:VEVENT
UID:69e9e11dbf67d
DTSTART:20260119T200000Z
SEQUENCE:0
TRANSP:OPAQUE
LOCATION:Lagae
SUMMARY:Wedstrijd 383 KMVV
CLASS:PUBLIC
DESCRIPTION:Comp wedstrijd 383: De Interistas - De fruitsjotters
X-ALT-DESC;FMTTYPE=text/html:Comp wedstrijd 383: <b>De Interistas - De frui
 tsjotters</b> te Lagae
X-MICROSOFT-CDO-BUSYSTATUS:FREE
X-MICROSOFT-CDO-INTENDEDSTATUS:FREE
DTSTAMP:20260423T090637Z
BEGIN:VALARM
TRIGGER:-P1D
ACTION:DISPLAY
DESCRIPTION:Comp wedstrijd 383: De Interistas - De fruitsjotters
END:VALARM
END:VEVENT
BEGIN:VEVENT
UID:69e9e11dbf691
DTSTART:20260202T190000Z
SEQUENCE:0
TRANSP:OPAQUE
LOCATION:Lagae
SUMMARY:Wedstrijd 80 KMVV
CLASS:PUBLIC
DESCRIPTION:Comp wedstrijd 80: De Interistas - Electro Labarque
X-ALT-DESC;FMTTYPE=text/html:Comp wedstrijd 80: <b>De Interistas - Electro 
 Labarque</b> te Lagae
X-MICROSOFT-CDO-BUSYSTATUS:FREE
X-MICROSOFT-CDO-INTENDEDSTATUS:FREE
DTSTAMP:20260423T090637Z
BEGIN:VALARM
TRIGGER:-P1D
ACTION:DISPLAY
DESCRIPTION:Comp wedstrijd 80: De Interistas - Electro Labarque
END:VALARM
END:VEVENT
BEGIN:VEVENT
UID:69e9e11dbf6a7
DTSTART:20260216T190000Z
SEQUENCE:0
TRANSP:OPAQUE
LOCATION:Lagae
SUMMARY:Wedstrijd 410 KMVV
CLASS:PUBLIC
DESCRIPTION:Comp wedstrijd 410: De Foodballers - De Interistas
X-ALT-DESC;FMTTYPE=text/html:Comp wedstrijd 410: <b>De Foodballers - De Int
 eristas</b> te Lagae
X-MICROSOFT-CDO-BUSYSTATUS:FREE
X-MICROSOFT-CDO-INTENDEDSTATUS:FREE
DTSTAMP:20260423T090637Z
BEGIN:VALARM
TRIGGER:-P1D
ACTION:DISPLAY
DESCRIPTION:Comp wedstrijd 410: De Foodballers - De Interistas
END:VALARM
END:VEVENT
BEGIN:VEVENT
UID:69e9e11dbf6c6
DTSTART:20260309T190000Z
SEQUENCE:0
TRANSP:OPAQUE
LOCATION:Rollegem
SUMMARY:Wedstrijd 473 KMVV
CLASS:PUBLIC
DESCRIPTION:Comp wedstrijd 473: Moterwalen '09 - De Interistas
X-ALT-DESC;FMTTYPE=text/html:Comp wedstrijd 473: <b>Moterwalen '09 - De Int
 eristas</b> te Rollegem
X-MICROSOFT-CDO-BUSYSTATUS:FREE
X-MICROSOFT-CDO-INTENDEDSTATUS:FREE
DTSTAMP:20260423T090637Z
BEGIN:VALARM
TRIGGER:-P1D
ACTION:DISPLAY
DESCRIPTION:Comp wedstrijd 473: Moterwalen '09 - De Interistas
END:VALARM
END:VEVENT
BEGIN:VEVENT
UID:69e9e11dbf6ec
DTSTART:20260325T200000Z
SEQUENCE:0
TRANSP:OPAQUE
LOCATION:Rollegem
SUMMARY:Wedstrijd 515 KMVV
CLASS:PUBLIC
DESCRIPTION:Comp wedstrijd 515: De Interistas - FuTurAc
X-ALT-DESC;FMTTYPE=text/html:Comp wedstrijd 515: <b>De Interistas - FuTurAc
 </b> te Rollegem
X-MICROSOFT-CDO-BUSYSTATUS:FREE
X-MICROSOFT-CDO-INTENDEDSTATUS:FREE
DTSTAMP:20260423T090637Z
BEGIN:VALARM
TRIGGER:-P1D
ACTION:DISPLAY
DESCRIPTION:Comp wedstrijd 515: De Interistas - FuTurAc
END:VALARM
END:VEVENT
BEGIN:VEVENT
UID:69e9e11dbf714
DTSTART:20260417T160000Z
SEQUENCE:0
TRANSP:OPAQUE
LOCATION:Rollegem
SUMMARY:Wedstrijd 566 KMVV
CLASS:PUBLIC
DESCRIPTION:Comp wedstrijd 566: FC White Star - De Interistas
X-ALT-DESC;FMTTYPE=text/html:Comp wedstrijd 566: <b>FC White Star - De Inte
 ristas</b> te Rollegem
X-MICROSOFT-CDO-BUSYSTATUS:FREE
X-MICROSOFT-CDO-INTENDEDSTATUS:FREE
DTSTAMP:20260423T090637Z
BEGIN:VALARM
TRIGGER:-P1D
ACTION:DISPLAY
DESCRIPTION:Comp wedstrijd 566: FC White Star - De Interistas
END:VALARM
END:VEVENT
BEGIN:VEVENT
UID:69e9e11dbf73c
DTSTART:20260427T183000Z
SEQUENCE:0
TRANSP:OPAQUE
LOCATION:Bissegem
SUMMARY:Wedstrijd 589 KMVV
CLASS:PUBLIC
DESCRIPTION:Comp wedstrijd 589: TD Decor - De Interistas
X-ALT-DESC;FMTTYPE=text/html:Comp wedstrijd 589: <b>TD Decor - De Interista
 s</b> te Bissegem
X-MICROSOFT-CDO-BUSYSTATUS:FREE
X-MICROSOFT-CDO-INTENDEDSTATUS:FREE
DTSTAMP:20260423T090637Z
BEGIN:VALARM
TRIGGER:-P1D
ACTION:DISPLAY
DESCRIPTION:Comp wedstrijd 589: TD Decor - De Interistas
END:VALARM
END:VEVENT
BEGIN:VEVENT
UID:69e9e11dbf750
DTSTART:20260511T190000Z
SEQUENCE:0
TRANSP:OPAQUE
LOCATION:Lagae
SUMMARY:Wedstrijd 633 KMVV
CLASS:PUBLIC
DESCRIPTION:Comp wedstrijd 633: De Interistas - Logiegrafix
X-ALT-DESC;FMTTYPE=text/html:Comp wedstrijd 633: <b>De Interistas - Logiegr
 afix</b> te Lagae
X-MICROSOFT-CDO-BUSYSTATUS:FREE
X-MICROSOFT-CDO-INTENDEDSTATUS:FREE
DTSTAMP:20260423T090637Z
BEGIN:VALARM
TRIGGER:-P1D
ACTION:DISPLAY
DESCRIPTION:Comp wedstrijd 633: De Interistas - Logiegrafix
END:VALARM
END:VEVENT
BEGIN:VEVENT
UID:69e9e11dbf764
DTSTART:20260526T190000Z
SEQUENCE:0
TRANSP:OPAQUE
LOCATION:Bissegem
SUMMARY:Wedstrijd 664 KMVV
CLASS:PUBLIC
DESCRIPTION:Comp wedstrijd 664: De vagant - De Interistas
X-ALT-DESC;FMTTYPE=text/html:Comp wedstrijd 664: <b>De vagant - De Interist
 as</b> te Bissegem
X-MICROSOFT-CDO-BUSYSTATUS:FREE
X-MICROSOFT-CDO-INTENDEDSTATUS:FREE
DTSTAMP:20260423T090637Z
BEGIN:VALARM
TRIGGER:-P1D
ACTION:DISPLAY
DESCRIPTION:Comp wedstrijd 664: De vagant - De Interistas
END:VALARM
END:VEVENT
BEGIN:VEVENT
UID:69e9e11dbf776
DTSTART:20260605T190000Z
SEQUENCE:0
TRANSP:OPAQUE
LOCATION:Bissegem
SUMMARY:Wedstrijd 710 KMVV
CLASS:PUBLIC
DESCRIPTION:Comp wedstrijd 710: De Interistas - Maba
X-ALT-DESC;FMTTYPE=text/html:Comp wedstrijd 710: <b>De Interistas - Maba</b
 > te Bissegem
X-MICROSOFT-CDO-BUSYSTATUS:FREE
X-MICROSOFT-CDO-INTENDEDSTATUS:FREE
DTSTAMP:20260423T090637Z
BEGIN:VALARM
TRIGGER:-P1D
ACTION:DISPLAY
DESCRIPTION:Comp wedstrijd 710: De Interistas - Maba
END:VALARM
END:VEVENT
BEGIN:VEVENT
UID:69e9e11dbf789
DTSTART:20260608T180000Z
SEQUENCE:0
TRANSP:OPAQUE
LOCATION:Rollegem
SUMMARY:Wedstrijd 721 KMVV
CLASS:PUBLIC
DESCRIPTION:Comp wedstrijd 721: Goalkick Murphys - De Interistas
X-ALT-DESC;FMTTYPE=text/html:Comp wedstrijd 721: <b>Goalkick Murphys - De I
 nteristas</b> te Rollegem
X-MICROSOFT-CDO-BUSYSTATUS:FREE
X-MICROSOFT-CDO-INTENDEDSTATUS:FREE
DTSTAMP:20260423T090637Z
BEGIN:VALARM
TRIGGER:-P1D
ACTION:DISPLAY
DESCRIPTION:Comp wedstrijd 721: Goalkick Murphys - De Interistas
END:VALARM
END:VEVENT
BEGIN:VEVENT
UID:69e9e11dbf79b
DTSTART:20260618T190000Z
SEQUENCE:0
TRANSP:OPAQUE
LOCATION:Bissegem
SUMMARY:Wedstrijd 752 KMVV
CLASS:PUBLIC
DESCRIPTION:Comp wedstrijd 752: De Interistas - Versa Vervacke
X-ALT-DESC;FMTTYPE=text/html:Comp wedstrijd 752: <b>De Interistas - Versa V
 ervacke</b> te Bissegem
X-MICROSOFT-CDO-BUSYSTATUS:FREE
X-MICROSOFT-CDO-INTENDEDSTATUS:FREE
DTSTAMP:20260423T090637Z
BEGIN:VALARM
TRIGGER:-P1D
ACTION:DISPLAY
DESCRIPTION:Comp wedstrijd 752: De Interistas - Versa Vervacke
END:VALARM
END:VEVENT
BEGIN:VEVENT
UID:69e9e11dbf7ad
DTSTART:20260619T180000Z
SEQUENCE:0
TRANSP:OPAQUE
LOCATION:Rollegem
SUMMARY:Wedstrijd 465 KMVV
CLASS:PUBLIC
DESCRIPTION:Comp wedstrijd 465: De Interistas - Westerstrand
X-ALT-DESC;FMTTYPE=text/html:Comp wedstrijd 465: <b>De Interistas - Westers
 trand</b> te Rollegem
X-MICROSOFT-CDO-BUSYSTATUS:FREE
X-MICROSOFT-CDO-INTENDEDSTATUS:FREE
DTSTAMP:20260423T090637Z
BEGIN:VALARM
TRIGGER:-P1D
ACTION:DISPLAY
DESCRIPTION:Comp wedstrijd 465: De Interistas - Westerstrand
END:VALARM
END:VEVENT
BEGIN:VEVENT
UID:69e9e11dbf7bf
DTSTART:20260626T180000Z
SEQUENCE:0
TRANSP:OPAQUE
LOCATION:Rollegem
SUMMARY:Wedstrijd 800 KMVV
CLASS:PUBLIC
DESCRIPTION:Comp wedstrijd 800: Lokomotiv Popo - De Interistas
X-ALT-DESC;FMTTYPE=text/html:Comp wedstrijd 800: <b>Lokomotiv Popo - De Int
 eristas</b> te Rollegem
X-MICROSOFT-CDO-BUSYSTATUS:FREE
X-MICROSOFT-CDO-INTENDEDSTATUS:FREE
DTSTAMP:20260423T090637Z
BEGIN:VALARM
TRIGGER:-P1D
ACTION:DISPLAY
DESCRIPTION:Comp wedstrijd 800: Lokomotiv Popo - De Interistas
END:VALARM
END:VEVENT
END:VCALENDAR