BEGIN:VCALENDAR
VERSION:2.0
PRODID:www.kmvv.be
BEGIN:VEVENT
UID:69e9e516d7515
DTSTART:20250901T193000Z
SEQUENCE:0
TRANSP:OPAQUE
LOCATION:Bissegem
SUMMARY:Wedstrijd 2 KMVV
CLASS:PUBLIC
DESCRIPTION:Comp wedstrijd 2: Westerstrand - FuTurAc
X-ALT-DESC;FMTTYPE=text/html:Comp wedstrijd 2: <b>Westerstrand - FuTurAc</b
 > te Bissegem
X-MICROSOFT-CDO-BUSYSTATUS:FREE
X-MICROSOFT-CDO-INTENDEDSTATUS:FREE
DTSTAMP:20260423T092334Z
BEGIN:VALARM
TRIGGER:-P1D
ACTION:DISPLAY
DESCRIPTION:Comp wedstrijd 2: Westerstrand - FuTurAc
END:VALARM
END:VEVENT
BEGIN:VEVENT
UID:69e9e516d7803
DTSTART:20250908T170000Z
SEQUENCE:0
TRANSP:OPAQUE
LOCATION:Lagae
SUMMARY:Wedstrijd 22 KMVV
CLASS:PUBLIC
DESCRIPTION:Comp wedstrijd 22: T-Team - FuTurAc
X-ALT-DESC;FMTTYPE=text/html:Comp wedstrijd 22: <b>T-Team - FuTurAc</b> te 
 Lagae
X-MICROSOFT-CDO-BUSYSTATUS:FREE
X-MICROSOFT-CDO-INTENDEDSTATUS:FREE
DTSTAMP:20260423T092334Z
BEGIN:VALARM
TRIGGER:-P1D
ACTION:DISPLAY
DESCRIPTION:Comp wedstrijd 22: T-Team - FuTurAc
END:VALARM
END:VEVENT
BEGIN:VEVENT
UID:69e9e516d7824
DTSTART:20250925T170000Z
SEQUENCE:0
TRANSP:OPAQUE
LOCATION:Lagae
SUMMARY:Wedstrijd 76 KMVV
CLASS:PUBLIC
DESCRIPTION:Comp wedstrijd 76: FuTurAc - Santy Pils Marke
X-ALT-DESC;FMTTYPE=text/html:Comp wedstrijd 76: <b>FuTurAc - Santy Pils Mar
 ke</b> te Lagae
X-MICROSOFT-CDO-BUSYSTATUS:FREE
X-MICROSOFT-CDO-INTENDEDSTATUS:FREE
DTSTAMP:20260423T092334Z
BEGIN:VALARM
TRIGGER:-P1D
ACTION:DISPLAY
DESCRIPTION:Comp wedstrijd 76: FuTurAc - Santy Pils Marke
END:VALARM
END:VEVENT
BEGIN:VEVENT
UID:69e9e516d783c
DTSTART:20250929T170000Z
SEQUENCE:0
TRANSP:OPAQUE
LOCATION:Rollegem
SUMMARY:Wedstrijd 87 KMVV
CLASS:PUBLIC
DESCRIPTION:Comp wedstrijd 87: Café Astor - FuTurAc
X-ALT-DESC;FMTTYPE=text/html:Comp wedstrijd 87: <b>Café Astor - FuTurAc</b
 > te Rollegem
X-MICROSOFT-CDO-BUSYSTATUS:FREE
X-MICROSOFT-CDO-INTENDEDSTATUS:FREE
DTSTAMP:20260423T092334Z
BEGIN:VALARM
TRIGGER:-P1D
ACTION:DISPLAY
DESCRIPTION:Comp wedstrijd 87: Café Astor - FuTurAc
END:VALARM
END:VEVENT
BEGIN:VEVENT
UID:69e9e516d7850
DTSTART:20251015T190000Z
SEQUENCE:0
TRANSP:OPAQUE
LOCATION:Rollegem
SUMMARY:Wedstrijd 132 KMVV
CLASS:PUBLIC
DESCRIPTION:Comp wedstrijd 132: BB FC - FuTurAc
X-ALT-DESC;FMTTYPE=text/html:Comp wedstrijd 132: <b>BB FC - FuTurAc</b> te 
 Rollegem
X-MICROSOFT-CDO-BUSYSTATUS:FREE
X-MICROSOFT-CDO-INTENDEDSTATUS:FREE
DTSTAMP:20260423T092334Z
BEGIN:VALARM
TRIGGER:-P1D
ACTION:DISPLAY
DESCRIPTION:Comp wedstrijd 132: BB FC - FuTurAc
END:VALARM
END:VEVENT
BEGIN:VEVENT
UID:69e9e516d7864
DTSTART:20251030T203000Z
SEQUENCE:0
TRANSP:OPAQUE
LOCATION:Bissegem
SUMMARY:Wedstrijd 175 KMVV
CLASS:PUBLIC
DESCRIPTION:Comp wedstrijd 175: FuTurAc - La galaxie
X-ALT-DESC;FMTTYPE=text/html:Comp wedstrijd 175: <b>FuTurAc - La galaxie</b
 > te Bissegem
X-MICROSOFT-CDO-BUSYSTATUS:FREE
X-MICROSOFT-CDO-INTENDEDSTATUS:FREE
DTSTAMP:20260423T092334Z
BEGIN:VALARM
TRIGGER:-P1D
ACTION:DISPLAY
DESCRIPTION:Comp wedstrijd 175: FuTurAc - La galaxie
END:VALARM
END:VEVENT
BEGIN:VEVENT
UID:69e9e516d7879
DTSTART:20251105T200000Z
SEQUENCE:0
TRANSP:OPAQUE
LOCATION:Rollegem
SUMMARY:Wedstrijd 191 KMVV
CLASS:PUBLIC
DESCRIPTION:Comp wedstrijd 191: MVC De Max - FuTurAc
X-ALT-DESC;FMTTYPE=text/html:Comp wedstrijd 191: <b>MVC De Max - FuTurAc</b
 > te Rollegem
X-MICROSOFT-CDO-BUSYSTATUS:FREE
X-MICROSOFT-CDO-INTENDEDSTATUS:FREE
DTSTAMP:20260423T092334Z
BEGIN:VALARM
TRIGGER:-P1D
ACTION:DISPLAY
DESCRIPTION:Comp wedstrijd 191: MVC De Max - FuTurAc
END:VALARM
END:VEVENT
BEGIN:VEVENT
UID:69e9e516d788c
DTSTART:20251117T203000Z
SEQUENCE:0
TRANSP:OPAQUE
LOCATION:Bissegem
SUMMARY:Wedstrijd 221 KMVV
CLASS:PUBLIC
DESCRIPTION:Comp wedstrijd 221: FuTurAc - Mex United
X-ALT-DESC;FMTTYPE=text/html:Comp wedstrijd 221: <b>FuTurAc - Mex United</b
 > te Bissegem
X-MICROSOFT-CDO-BUSYSTATUS:FREE
X-MICROSOFT-CDO-INTENDEDSTATUS:FREE
DTSTAMP:20260423T092334Z
BEGIN:VALARM
TRIGGER:-P1D
ACTION:DISPLAY
DESCRIPTION:Comp wedstrijd 221: FuTurAc - Mex United
END:VALARM
END:VEVENT
BEGIN:VEVENT
UID:69e9e516d789f
DTSTART:20251124T190000Z
SEQUENCE:0
TRANSP:OPAQUE
LOCATION:Rollegem
SUMMARY:Wedstrijd 248 KMVV
CLASS:PUBLIC
DESCRIPTION:Comp wedstrijd 248: Versa Vervacke - FuTurAc
X-ALT-DESC;FMTTYPE=text/html:Comp wedstrijd 248: <b>Versa Vervacke - FuTurA
 c</b> te Rollegem
X-MICROSOFT-CDO-BUSYSTATUS:FREE
X-MICROSOFT-CDO-INTENDEDSTATUS:FREE
DTSTAMP:20260423T092334Z
BEGIN:VALARM
TRIGGER:-P1D
ACTION:DISPLAY
DESCRIPTION:Comp wedstrijd 248: Versa Vervacke - FuTurAc
END:VALARM
END:VEVENT
BEGIN:VEVENT
UID:69e9e516d78b2
DTSTART:20251215T190000Z
SEQUENCE:0
TRANSP:OPAQUE
LOCATION:Lagae
SUMMARY:Wedstrijd 303 KMVV
CLASS:PUBLIC
DESCRIPTION:Comp wedstrijd 303: Davabo-Smooth Surface - FuTurAc
X-ALT-DESC;FMTTYPE=text/html:Comp wedstrijd 303: <b>Davabo-Smooth Surface -
  FuTurAc</b> te Lagae
X-MICROSOFT-CDO-BUSYSTATUS:FREE
X-MICROSOFT-CDO-INTENDEDSTATUS:FREE
DTSTAMP:20260423T092334Z
BEGIN:VALARM
TRIGGER:-P1D
ACTION:DISPLAY
DESCRIPTION:Comp wedstrijd 303: Davabo-Smooth Surface - FuTurAc
END:VALARM
END:VEVENT
BEGIN:VEVENT
UID:69e9e516d78c6
DTSTART:20260112T200000Z
SEQUENCE:0
TRANSP:OPAQUE
LOCATION:Lagae
SUMMARY:Wedstrijd 349 KMVV
CLASS:PUBLIC
DESCRIPTION:Comp wedstrijd 349: FuTurAc - Cafe 1917
X-ALT-DESC;FMTTYPE=text/html:Comp wedstrijd 349: <b>FuTurAc - Cafe 1917</b>
  te Lagae
X-MICROSOFT-CDO-BUSYSTATUS:FREE
X-MICROSOFT-CDO-INTENDEDSTATUS:FREE
DTSTAMP:20260423T092334Z
BEGIN:VALARM
TRIGGER:-P1D
ACTION:DISPLAY
DESCRIPTION:Comp wedstrijd 349: FuTurAc - Cafe 1917
END:VALARM
END:VEVENT
BEGIN:VEVENT
UID:69e9e516d78da
DTSTART:20260119T193000Z
SEQUENCE:0
TRANSP:OPAQUE
LOCATION:Bissegem
SUMMARY:Wedstrijd 379 KMVV
CLASS:PUBLIC
DESCRIPTION:Comp wedstrijd 379: FuTurAc - De Labberleute
X-ALT-DESC;FMTTYPE=text/html:Comp wedstrijd 379: <b>FuTurAc - De Labberleut
 e</b> te Bissegem
X-MICROSOFT-CDO-BUSYSTATUS:FREE
X-MICROSOFT-CDO-INTENDEDSTATUS:FREE
DTSTAMP:20260423T092334Z
BEGIN:VALARM
TRIGGER:-P1D
ACTION:DISPLAY
DESCRIPTION:Comp wedstrijd 379: FuTurAc - De Labberleute
END:VALARM
END:VEVENT
BEGIN:VEVENT
UID:69e9e516d78ed
DTSTART:20260205T183000Z
SEQUENCE:0
TRANSP:OPAQUE
LOCATION:Bissegem
SUMMARY:Wedstrijd 290 KMVV
CLASS:PUBLIC
DESCRIPTION:Comp wedstrijd 290: FuTurAc - Dumo's coppes
X-ALT-DESC;FMTTYPE=text/html:Comp wedstrijd 290: <b>FuTurAc - Dumo's coppes
 </b> te Bissegem
X-MICROSOFT-CDO-BUSYSTATUS:FREE
X-MICROSOFT-CDO-INTENDEDSTATUS:FREE
DTSTAMP:20260423T092334Z
BEGIN:VALARM
TRIGGER:-P1D
ACTION:DISPLAY
DESCRIPTION:Comp wedstrijd 290: FuTurAc - Dumo's coppes
END:VALARM
END:VEVENT
BEGIN:VEVENT
UID:69e9e516d7900
DTSTART:20260219T193000Z
SEQUENCE:0
TRANSP:OPAQUE
LOCATION:Bissegem
SUMMARY:Wedstrijd 420 KMVV
CLASS:PUBLIC
DESCRIPTION:Comp wedstrijd 420: De vagant - FuTurAc
X-ALT-DESC;FMTTYPE=text/html:Comp wedstrijd 420: <b>De vagant - FuTurAc</b>
  te Bissegem
X-MICROSOFT-CDO-BUSYSTATUS:FREE
X-MICROSOFT-CDO-INTENDEDSTATUS:FREE
DTSTAMP:20260423T092334Z
BEGIN:VALARM
TRIGGER:-P1D
ACTION:DISPLAY
DESCRIPTION:Comp wedstrijd 420: De vagant - FuTurAc
END:VALARM
END:VEVENT
BEGIN:VEVENT
UID:69e9e516d7913
DTSTART:20260302T180000Z
SEQUENCE:0
TRANSP:OPAQUE
LOCATION:Lagae
SUMMARY:Wedstrijd 449 KMVV
CLASS:PUBLIC
DESCRIPTION:Comp wedstrijd 449: Goalkick Murphys - FuTurAc
X-ALT-DESC;FMTTYPE=text/html:Comp wedstrijd 449: <b>Goalkick Murphys - FuTu
 rAc</b> te Lagae
X-MICROSOFT-CDO-BUSYSTATUS:FREE
X-MICROSOFT-CDO-INTENDEDSTATUS:FREE
DTSTAMP:20260423T092334Z
BEGIN:VALARM
TRIGGER:-P1D
ACTION:DISPLAY
DESCRIPTION:Comp wedstrijd 449: Goalkick Murphys - FuTurAc
END:VALARM
END:VEVENT
BEGIN:VEVENT
UID:69e9e516d7926
DTSTART:20260312T193000Z
SEQUENCE:0
TRANSP:OPAQUE
LOCATION:Rollegem
SUMMARY:Wedstrijd 483 KMVV
CLASS:PUBLIC
DESCRIPTION:Comp wedstrijd 483: FuTurAc - Versa Vervacke
X-ALT-DESC;FMTTYPE=text/html:Comp wedstrijd 483: <b>FuTurAc - Versa Vervack
 e</b> te Rollegem
X-MICROSOFT-CDO-BUSYSTATUS:FREE
X-MICROSOFT-CDO-INTENDEDSTATUS:FREE
DTSTAMP:20260423T092334Z
BEGIN:VALARM
TRIGGER:-P1D
ACTION:DISPLAY
DESCRIPTION:Comp wedstrijd 483: FuTurAc - Versa Vervacke
END:VALARM
END:VEVENT
BEGIN:VEVENT
UID:69e9e516d7938
DTSTART:20260325T200000Z
SEQUENCE:0
TRANSP:OPAQUE
LOCATION:Rollegem
SUMMARY:Wedstrijd 515 KMVV
CLASS:PUBLIC
DESCRIPTION:Comp wedstrijd 515: De Interistas - FuTurAc
X-ALT-DESC;FMTTYPE=text/html:Comp wedstrijd 515: <b>De Interistas - FuTurAc
 </b> te Rollegem
X-MICROSOFT-CDO-BUSYSTATUS:FREE
X-MICROSOFT-CDO-INTENDEDSTATUS:FREE
DTSTAMP:20260423T092334Z
BEGIN:VALARM
TRIGGER:-P1D
ACTION:DISPLAY
DESCRIPTION:Comp wedstrijd 515: De Interistas - FuTurAc
END:VALARM
END:VEVENT
BEGIN:VEVENT
UID:69e9e516d794b
DTSTART:20260402T170000Z
SEQUENCE:0
TRANSP:OPAQUE
LOCATION:Lagae
SUMMARY:Wedstrijd 536 KMVV
CLASS:PUBLIC
DESCRIPTION:Comp wedstrijd 536: FuTurAc - Lokomotiv Popo
X-ALT-DESC;FMTTYPE=text/html:Comp wedstrijd 536: <b>FuTurAc - Lokomotiv Pop
 o</b> te Lagae
X-MICROSOFT-CDO-BUSYSTATUS:FREE
X-MICROSOFT-CDO-INTENDEDSTATUS:FREE
DTSTAMP:20260423T092334Z
BEGIN:VALARM
TRIGGER:-P1D
ACTION:DISPLAY
DESCRIPTION:Comp wedstrijd 536: FuTurAc - Lokomotiv Popo
END:VALARM
END:VEVENT
BEGIN:VEVENT
UID:69e9e516d795d
DTSTART:20260413T170000Z
SEQUENCE:0
TRANSP:OPAQUE
LOCATION:Rollegem
SUMMARY:Wedstrijd 555 KMVV
CLASS:PUBLIC
DESCRIPTION:Comp wedstrijd 555: Westerstrand - FuTurAc
X-ALT-DESC;FMTTYPE=text/html:Comp wedstrijd 555: <b>Westerstrand - FuTurAc<
 /b> te Rollegem
X-MICROSOFT-CDO-BUSYSTATUS:FREE
X-MICROSOFT-CDO-INTENDEDSTATUS:FREE
DTSTAMP:20260423T092334Z
BEGIN:VALARM
TRIGGER:-P1D
ACTION:DISPLAY
DESCRIPTION:Comp wedstrijd 555: Westerstrand - FuTurAc
END:VALARM
END:VEVENT
BEGIN:VEVENT
UID:69e9e516d796e
DTSTART:20260506T193000Z
SEQUENCE:0
TRANSP:OPAQUE
LOCATION:Rollegem
SUMMARY:Wedstrijd 619 KMVV
CLASS:PUBLIC
DESCRIPTION:Comp wedstrijd 619: FuTurAc - Moterwalen '09
X-ALT-DESC;FMTTYPE=text/html:Comp wedstrijd 619: <b>FuTurAc - Moterwalen '0
 9</b> te Rollegem
X-MICROSOFT-CDO-BUSYSTATUS:FREE
X-MICROSOFT-CDO-INTENDEDSTATUS:FREE
DTSTAMP:20260423T092334Z
BEGIN:VALARM
TRIGGER:-P1D
ACTION:DISPLAY
DESCRIPTION:Comp wedstrijd 619: FuTurAc - Moterwalen '09
END:VALARM
END:VEVENT
BEGIN:VEVENT
UID:69e9e516d7980
DTSTART:20260511T170000Z
SEQUENCE:0
TRANSP:OPAQUE
LOCATION:Lagae
SUMMARY:Wedstrijd 631 KMVV
CLASS:PUBLIC
DESCRIPTION:Comp wedstrijd 631: De Foodballers - FuTurAc
X-ALT-DESC;FMTTYPE=text/html:Comp wedstrijd 631: <b>De Foodballers - FuTurA
 c</b> te Lagae
X-MICROSOFT-CDO-BUSYSTATUS:FREE
X-MICROSOFT-CDO-INTENDEDSTATUS:FREE
DTSTAMP:20260423T092334Z
BEGIN:VALARM
TRIGGER:-P1D
ACTION:DISPLAY
DESCRIPTION:Comp wedstrijd 631: De Foodballers - FuTurAc
END:VALARM
END:VEVENT
BEGIN:VEVENT
UID:69e9e516d7992
DTSTART:20260527T173000Z
SEQUENCE:0
TRANSP:OPAQUE
LOCATION:Rollegem
SUMMARY:Wedstrijd 669 KMVV
CLASS:PUBLIC
DESCRIPTION:Comp wedstrijd 669: FC White Star - FuTurAc
X-ALT-DESC;FMTTYPE=text/html:Comp wedstrijd 669: <b>FC White Star - FuTurAc
 </b> te Rollegem
X-MICROSOFT-CDO-BUSYSTATUS:FREE
X-MICROSOFT-CDO-INTENDEDSTATUS:FREE
DTSTAMP:20260423T092334Z
BEGIN:VALARM
TRIGGER:-P1D
ACTION:DISPLAY
DESCRIPTION:Comp wedstrijd 669: FC White Star - FuTurAc
END:VALARM
END:VEVENT
BEGIN:VEVENT
UID:69e9e516d79a4
DTSTART:20260608T190000Z
SEQUENCE:0
TRANSP:OPAQUE
LOCATION:Rollegem
SUMMARY:Wedstrijd 722 KMVV
CLASS:PUBLIC
DESCRIPTION:Comp wedstrijd 722: TD Decor - FuTurAc
X-ALT-DESC;FMTTYPE=text/html:Comp wedstrijd 722: <b>TD Decor - FuTurAc</b> 
 te Rollegem
X-MICROSOFT-CDO-BUSYSTATUS:FREE
X-MICROSOFT-CDO-INTENDEDSTATUS:FREE
DTSTAMP:20260423T092334Z
BEGIN:VALARM
TRIGGER:-P1D
ACTION:DISPLAY
DESCRIPTION:Comp wedstrijd 722: TD Decor - FuTurAc
END:VALARM
END:VEVENT
BEGIN:VEVENT
UID:69e9e516d79b5
DTSTART:20260624T180000Z
SEQUENCE:0
TRANSP:OPAQUE
LOCATION:Rollegem
SUMMARY:Wedstrijd 787 KMVV
CLASS:PUBLIC
DESCRIPTION:Comp wedstrijd 787: FuTurAc - Maba
X-ALT-DESC;FMTTYPE=text/html:Comp wedstrijd 787: <b>FuTurAc - Maba</b> te R
 ollegem
X-MICROSOFT-CDO-BUSYSTATUS:FREE
X-MICROSOFT-CDO-INTENDEDSTATUS:FREE
DTSTAMP:20260423T092334Z
BEGIN:VALARM
TRIGGER:-P1D
ACTION:DISPLAY
DESCRIPTION:Comp wedstrijd 787: FuTurAc - Maba
END:VALARM
END:VEVENT
BEGIN:VEVENT
UID:69e9e516d79c7
DTSTART:20260629T183000Z
SEQUENCE:0
TRANSP:OPAQUE
LOCATION:Bissegem
SUMMARY:Wedstrijd 802 KMVV
CLASS:PUBLIC
DESCRIPTION:Comp wedstrijd 802: FuTurAc - Logiegrafix
X-ALT-DESC;FMTTYPE=text/html:Comp wedstrijd 802: <b>FuTurAc - Logiegrafix</
 b> te Bissegem
X-MICROSOFT-CDO-BUSYSTATUS:FREE
X-MICROSOFT-CDO-INTENDEDSTATUS:FREE
DTSTAMP:20260423T092334Z
BEGIN:VALARM
TRIGGER:-P1D
ACTION:DISPLAY
DESCRIPTION:Comp wedstrijd 802: FuTurAc - Logiegrafix
END:VALARM
END:VEVENT
END:VCALENDAR