BEGIN:VCALENDAR
VERSION:2.0
PRODID:www.kmvv.be
BEGIN:VEVENT
UID:69e9eb0b858f1
DTSTART:20250904T193000Z
SEQUENCE:0
TRANSP:OPAQUE
LOCATION:Bissegem
SUMMARY:Wedstrijd 15 KMVV
CLASS:PUBLIC
DESCRIPTION:Comp wedstrijd 15: De Foodballers - Logiegrafix
X-ALT-DESC;FMTTYPE=text/html:Comp wedstrijd 15: <b>De Foodballers - Logiegr
 afix</b> te Bissegem
X-MICROSOFT-CDO-BUSYSTATUS:FREE
X-MICROSOFT-CDO-INTENDEDSTATUS:FREE
DTSTAMP:20260423T094859Z
BEGIN:VALARM
TRIGGER:-P1D
ACTION:DISPLAY
DESCRIPTION:Comp wedstrijd 15: De Foodballers - Logiegrafix
END:VALARM
END:VEVENT
BEGIN:VEVENT
UID:69e9eb0b85e5e
DTSTART:20250908T180000Z
SEQUENCE:0
TRANSP:OPAQUE
LOCATION:Lagae
SUMMARY:Wedstrijd 44 KMVV
CLASS:PUBLIC
DESCRIPTION:Comp wedstrijd 44: De fruitsjotters - Logiegrafix
X-ALT-DESC;FMTTYPE=text/html:Comp wedstrijd 44: <b>De fruitsjotters - Logie
 grafix</b> te Lagae
X-MICROSOFT-CDO-BUSYSTATUS:FREE
X-MICROSOFT-CDO-INTENDEDSTATUS:FREE
DTSTAMP:20260423T094859Z
BEGIN:VALARM
TRIGGER:-P1D
ACTION:DISPLAY
DESCRIPTION:Comp wedstrijd 44: De fruitsjotters - Logiegrafix
END:VALARM
END:VEVENT
BEGIN:VEVENT
UID:69e9eb0b85e89
DTSTART:20251010T170000Z
SEQUENCE:0
TRANSP:OPAQUE
LOCATION:Rollegem
SUMMARY:Wedstrijd 120 KMVV
CLASS:PUBLIC
DESCRIPTION:Comp wedstrijd 120: Electro Labarque - Logiegrafix
X-ALT-DESC;FMTTYPE=text/html:Comp wedstrijd 120: <b>Electro Labarque - Logi
 egrafix</b> te Rollegem
X-MICROSOFT-CDO-BUSYSTATUS:FREE
X-MICROSOFT-CDO-INTENDEDSTATUS:FREE
DTSTAMP:20260423T094859Z
BEGIN:VALARM
TRIGGER:-P1D
ACTION:DISPLAY
DESCRIPTION:Comp wedstrijd 120: Electro Labarque - Logiegrafix
END:VALARM
END:VEVENT
BEGIN:VEVENT
UID:69e9eb0b85ea1
DTSTART:20251022T190000Z
SEQUENCE:0
TRANSP:OPAQUE
LOCATION:Rollegem
SUMMARY:Wedstrijd 154 KMVV
CLASS:PUBLIC
DESCRIPTION:Comp wedstrijd 154: Logiegrafix - The red bastards
X-ALT-DESC;FMTTYPE=text/html:Comp wedstrijd 154: <b>Logiegrafix - The red b
 astards</b> te Rollegem
X-MICROSOFT-CDO-BUSYSTATUS:FREE
X-MICROSOFT-CDO-INTENDEDSTATUS:FREE
DTSTAMP:20260423T094859Z
BEGIN:VALARM
TRIGGER:-P1D
ACTION:DISPLAY
DESCRIPTION:Comp wedstrijd 154: Logiegrafix - The red bastards
END:VALARM
END:VEVENT
BEGIN:VEVENT
UID:69e9eb0b85eb4
DTSTART:20251027T190000Z
SEQUENCE:0
TRANSP:OPAQUE
LOCATION:Rollegem
SUMMARY:Wedstrijd 168 KMVV
CLASS:PUBLIC
DESCRIPTION:Comp wedstrijd 168: MVC Marreva - Logiegrafix
X-ALT-DESC;FMTTYPE=text/html:Comp wedstrijd 168: <b>MVC Marreva - Logiegraf
 ix</b> te Rollegem
X-MICROSOFT-CDO-BUSYSTATUS:FREE
X-MICROSOFT-CDO-INTENDEDSTATUS:FREE
DTSTAMP:20260423T094859Z
BEGIN:VALARM
TRIGGER:-P1D
ACTION:DISPLAY
DESCRIPTION:Comp wedstrijd 168: MVC Marreva - Logiegrafix
END:VALARM
END:VEVENT
BEGIN:VEVENT
UID:69e9eb0b85ec6
DTSTART:20251107T180000Z
SEQUENCE:0
TRANSP:OPAQUE
LOCATION:Rollegem
SUMMARY:Wedstrijd 219 KMVV
CLASS:PUBLIC
DESCRIPTION:Comp wedstrijd 219: Logiegrafix - Garfield '85
X-ALT-DESC;FMTTYPE=text/html:Comp wedstrijd 219: <b>Logiegrafix - Garfield 
 '85</b> te Rollegem
X-MICROSOFT-CDO-BUSYSTATUS:FREE
X-MICROSOFT-CDO-INTENDEDSTATUS:FREE
DTSTAMP:20260423T094859Z
BEGIN:VALARM
TRIGGER:-P1D
ACTION:DISPLAY
DESCRIPTION:Comp wedstrijd 219: Logiegrafix - Garfield '85
END:VALARM
END:VEVENT
BEGIN:VEVENT
UID:69e9eb0b85ed7
DTSTART:20251121T180000Z
SEQUENCE:0
TRANSP:OPAQUE
LOCATION:Rollegem
SUMMARY:Wedstrijd 240 KMVV
CLASS:PUBLIC
DESCRIPTION:Comp wedstrijd 240: De Interistas - Logiegrafix
X-ALT-DESC;FMTTYPE=text/html:Comp wedstrijd 240: <b>De Interistas - Logiegr
 afix</b> te Rollegem
X-MICROSOFT-CDO-BUSYSTATUS:FREE
X-MICROSOFT-CDO-INTENDEDSTATUS:FREE
DTSTAMP:20260423T094859Z
BEGIN:VALARM
TRIGGER:-P1D
ACTION:DISPLAY
DESCRIPTION:Comp wedstrijd 240: De Interistas - Logiegrafix
END:VALARM
END:VEVENT
BEGIN:VEVENT
UID:69e9eb0b85ee8
DTSTART:20251201T200000Z
SEQUENCE:0
TRANSP:OPAQUE
LOCATION:Lagae
SUMMARY:Wedstrijd 264 KMVV
CLASS:PUBLIC
DESCRIPTION:Comp wedstrijd 264: FC Avanco - Logiegrafix
X-ALT-DESC;FMTTYPE=text/html:Comp wedstrijd 264: <b>FC Avanco - Logiegrafix
 </b> te Lagae
X-MICROSOFT-CDO-BUSYSTATUS:FREE
X-MICROSOFT-CDO-INTENDEDSTATUS:FREE
DTSTAMP:20260423T094859Z
BEGIN:VALARM
TRIGGER:-P1D
ACTION:DISPLAY
DESCRIPTION:Comp wedstrijd 264: FC Avanco - Logiegrafix
END:VALARM
END:VEVENT
BEGIN:VEVENT
UID:69e9eb0b85ef8
DTSTART:20260105T190000Z
SEQUENCE:0
TRANSP:OPAQUE
LOCATION:Lagae
SUMMARY:Wedstrijd 342 KMVV
CLASS:PUBLIC
DESCRIPTION:Comp wedstrijd 342: Rosseeuw interieurs - Logiegrafix
X-ALT-DESC;FMTTYPE=text/html:Comp wedstrijd 342: <b>Rosseeuw interieurs - L
 ogiegrafix</b> te Lagae
X-MICROSOFT-CDO-BUSYSTATUS:FREE
X-MICROSOFT-CDO-INTENDEDSTATUS:FREE
DTSTAMP:20260423T094859Z
BEGIN:VALARM
TRIGGER:-P1D
ACTION:DISPLAY
DESCRIPTION:Comp wedstrijd 342: Rosseeuw interieurs - Logiegrafix
END:VALARM
END:VEVENT
BEGIN:VEVENT
UID:69e9eb0b85f0a
DTSTART:20260116T170000Z
SEQUENCE:0
TRANSP:OPAQUE
LOCATION:Rollegem
SUMMARY:Wedstrijd 377 KMVV
CLASS:PUBLIC
DESCRIPTION:Comp wedstrijd 377: Logiegrafix - Café Dudu
X-ALT-DESC;FMTTYPE=text/html:Comp wedstrijd 377: <b>Logiegrafix - Café Dud
 u</b> te Rollegem
X-MICROSOFT-CDO-BUSYSTATUS:FREE
X-MICROSOFT-CDO-INTENDEDSTATUS:FREE
DTSTAMP:20260423T094859Z
BEGIN:VALARM
TRIGGER:-P1D
ACTION:DISPLAY
DESCRIPTION:Comp wedstrijd 377: Logiegrafix - Café Dudu
END:VALARM
END:VEVENT
BEGIN:VEVENT
UID:69e9eb0b85f1b
DTSTART:20260126T190000Z
SEQUENCE:0
TRANSP:OPAQUE
LOCATION:Rollegem
SUMMARY:Wedstrijd 405 KMVV
CLASS:PUBLIC
DESCRIPTION:Comp wedstrijd 405: Logiegrafix - Coiffeurs City
X-ALT-DESC;FMTTYPE=text/html:Comp wedstrijd 405: <b>Logiegrafix - Coiffeurs
  City</b> te Rollegem
X-MICROSOFT-CDO-BUSYSTATUS:FREE
X-MICROSOFT-CDO-INTENDEDSTATUS:FREE
DTSTAMP:20260423T094859Z
BEGIN:VALARM
TRIGGER:-P1D
ACTION:DISPLAY
DESCRIPTION:Comp wedstrijd 405: Logiegrafix - Coiffeurs City
END:VALARM
END:VEVENT
BEGIN:VEVENT
UID:69e9eb0b85f2b
DTSTART:20260202T180000Z
SEQUENCE:0
TRANSP:OPAQUE
LOCATION:Lagae
SUMMARY:Wedstrijd 319 KMVV
CLASS:PUBLIC
DESCRIPTION:Comp wedstrijd 319: Logiegrafix - Goalkick Murphys
X-ALT-DESC;FMTTYPE=text/html:Comp wedstrijd 319: <b>Logiegrafix - Goalkick 
 Murphys</b> te Lagae
X-MICROSOFT-CDO-BUSYSTATUS:FREE
X-MICROSOFT-CDO-INTENDEDSTATUS:FREE
DTSTAMP:20260423T094859Z
BEGIN:VALARM
TRIGGER:-P1D
ACTION:DISPLAY
DESCRIPTION:Comp wedstrijd 319: Logiegrafix - Goalkick Murphys
END:VALARM
END:VEVENT
BEGIN:VEVENT
UID:69e9eb0b85f3c
DTSTART:20260204T190000Z
SEQUENCE:0
TRANSP:OPAQUE
LOCATION:Rollegem
SUMMARY:Wedstrijd 96 KMVV
CLASS:PUBLIC
DESCRIPTION:Comp wedstrijd 96: Logiegrafix - Incognito
X-ALT-DESC;FMTTYPE=text/html:Comp wedstrijd 96: <b>Logiegrafix - Incognito<
 /b> te Rollegem
X-MICROSOFT-CDO-BUSYSTATUS:FREE
X-MICROSOFT-CDO-INTENDEDSTATUS:FREE
DTSTAMP:20260423T094859Z
BEGIN:VALARM
TRIGGER:-P1D
ACTION:DISPLAY
DESCRIPTION:Comp wedstrijd 96: Logiegrafix - Incognito
END:VALARM
END:VEVENT
BEGIN:VEVENT
UID:69e9eb0b85f4c
DTSTART:20260216T170000Z
SEQUENCE:0
TRANSP:OPAQUE
LOCATION:Rollegem
SUMMARY:Wedstrijd 412 KMVV
CLASS:PUBLIC
DESCRIPTION:Comp wedstrijd 412: Logiegrafix - FC White Star
X-ALT-DESC;FMTTYPE=text/html:Comp wedstrijd 412: <b>Logiegrafix - FC White 
 Star</b> te Rollegem
X-MICROSOFT-CDO-BUSYSTATUS:FREE
X-MICROSOFT-CDO-INTENDEDSTATUS:FREE
DTSTAMP:20260423T094859Z
BEGIN:VALARM
TRIGGER:-P1D
ACTION:DISPLAY
DESCRIPTION:Comp wedstrijd 412: Logiegrafix - FC White Star
END:VALARM
END:VEVENT
BEGIN:VEVENT
UID:69e9eb0b85f5c
DTSTART:20260302T190000Z
SEQUENCE:0
TRANSP:OPAQUE
LOCATION:Rollegem
SUMMARY:Wedstrijd 454 KMVV
CLASS:PUBLIC
DESCRIPTION:Comp wedstrijd 454: Logiegrafix - TD Decor
X-ALT-DESC;FMTTYPE=text/html:Comp wedstrijd 454: <b>Logiegrafix - TD Decor<
 /b> te Rollegem
X-MICROSOFT-CDO-BUSYSTATUS:FREE
X-MICROSOFT-CDO-INTENDEDSTATUS:FREE
DTSTAMP:20260423T094859Z
BEGIN:VALARM
TRIGGER:-P1D
ACTION:DISPLAY
DESCRIPTION:Comp wedstrijd 454: Logiegrafix - TD Decor
END:VALARM
END:VEVENT
BEGIN:VEVENT
UID:69e9eb0b85f6d
DTSTART:20260309T203000Z
SEQUENCE:0
TRANSP:OPAQUE
LOCATION:Bissegem
SUMMARY:Wedstrijd 467 KMVV
CLASS:PUBLIC
DESCRIPTION:Comp wedstrijd 467: Logiegrafix - De Foodballers
X-ALT-DESC;FMTTYPE=text/html:Comp wedstrijd 467: <b>Logiegrafix - De Foodba
 llers</b> te Bissegem
X-MICROSOFT-CDO-BUSYSTATUS:FREE
X-MICROSOFT-CDO-INTENDEDSTATUS:FREE
DTSTAMP:20260423T094859Z
BEGIN:VALARM
TRIGGER:-P1D
ACTION:DISPLAY
DESCRIPTION:Comp wedstrijd 467: Logiegrafix - De Foodballers
END:VALARM
END:VEVENT
BEGIN:VEVENT
UID:69e9eb0b85f7d
DTSTART:20260323T200000Z
SEQUENCE:0
TRANSP:OPAQUE
LOCATION:Lagae
SUMMARY:Wedstrijd 510 KMVV
CLASS:PUBLIC
DESCRIPTION:Comp wedstrijd 510: De vagant - Logiegrafix
X-ALT-DESC;FMTTYPE=text/html:Comp wedstrijd 510: <b>De vagant - Logiegrafix
 </b> te Lagae
X-MICROSOFT-CDO-BUSYSTATUS:FREE
X-MICROSOFT-CDO-INTENDEDSTATUS:FREE
DTSTAMP:20260423T094859Z
BEGIN:VALARM
TRIGGER:-P1D
ACTION:DISPLAY
DESCRIPTION:Comp wedstrijd 510: De vagant - Logiegrafix
END:VALARM
END:VEVENT
BEGIN:VEVENT
UID:69e9eb0b85f8d
DTSTART:20260413T180000Z
SEQUENCE:0
TRANSP:OPAQUE
LOCATION:Rollegem
SUMMARY:Wedstrijd 556 KMVV
CLASS:PUBLIC
DESCRIPTION:Comp wedstrijd 556: Logiegrafix - Maba
X-ALT-DESC;FMTTYPE=text/html:Comp wedstrijd 556: <b>Logiegrafix - Maba</b> 
 te Rollegem
X-MICROSOFT-CDO-BUSYSTATUS:FREE
X-MICROSOFT-CDO-INTENDEDSTATUS:FREE
DTSTAMP:20260423T094859Z
BEGIN:VALARM
TRIGGER:-P1D
ACTION:DISPLAY
DESCRIPTION:Comp wedstrijd 556: Logiegrafix - Maba
END:VALARM
END:VEVENT
BEGIN:VEVENT
UID:69e9eb0b85f9e
DTSTART:20260422T190000Z
SEQUENCE:0
TRANSP:OPAQUE
LOCATION:Rollegem
SUMMARY:Wedstrijd 579 KMVV
CLASS:PUBLIC
DESCRIPTION:Comp wedstrijd 579: Goalkick Murphys - Logiegrafix
X-ALT-DESC;FMTTYPE=text/html:Comp wedstrijd 579: <b>Goalkick Murphys - Logi
 egrafix</b> te Rollegem
X-MICROSOFT-CDO-BUSYSTATUS:FREE
X-MICROSOFT-CDO-INTENDEDSTATUS:FREE
DTSTAMP:20260423T094859Z
BEGIN:VALARM
TRIGGER:-P1D
ACTION:DISPLAY
DESCRIPTION:Comp wedstrijd 579: Goalkick Murphys - Logiegrafix
END:VALARM
END:VEVENT
BEGIN:VEVENT
UID:69e9eb0b85fae
DTSTART:20260430T170000Z
SEQUENCE:0
TRANSP:OPAQUE
LOCATION:Lagae
SUMMARY:Wedstrijd 605 KMVV
CLASS:PUBLIC
DESCRIPTION:Comp wedstrijd 605: Logiegrafix - Versa Vervacke
X-ALT-DESC;FMTTYPE=text/html:Comp wedstrijd 605: <b>Logiegrafix - Versa Ver
 vacke</b> te Lagae
X-MICROSOFT-CDO-BUSYSTATUS:FREE
X-MICROSOFT-CDO-INTENDEDSTATUS:FREE
DTSTAMP:20260423T094859Z
BEGIN:VALARM
TRIGGER:-P1D
ACTION:DISPLAY
DESCRIPTION:Comp wedstrijd 605: Logiegrafix - Versa Vervacke
END:VALARM
END:VEVENT
BEGIN:VEVENT
UID:69e9eb0b85fbe
DTSTART:20260511T190000Z
SEQUENCE:0
TRANSP:OPAQUE
LOCATION:Lagae
SUMMARY:Wedstrijd 633 KMVV
CLASS:PUBLIC
DESCRIPTION:Comp wedstrijd 633: De Interistas - Logiegrafix
X-ALT-DESC;FMTTYPE=text/html:Comp wedstrijd 633: <b>De Interistas - Logiegr
 afix</b> te Lagae
X-MICROSOFT-CDO-BUSYSTATUS:FREE
X-MICROSOFT-CDO-INTENDEDSTATUS:FREE
DTSTAMP:20260423T094859Z
BEGIN:VALARM
TRIGGER:-P1D
ACTION:DISPLAY
DESCRIPTION:Comp wedstrijd 633: De Interistas - Logiegrafix
END:VALARM
END:VEVENT
BEGIN:VEVENT
UID:69e9eb0b85fce
DTSTART:20260529T170000Z
SEQUENCE:0
TRANSP:OPAQUE
LOCATION:Rollegem
SUMMARY:Wedstrijd 681 KMVV
CLASS:PUBLIC
DESCRIPTION:Comp wedstrijd 681: Logiegrafix - Lokomotiv Popo
X-ALT-DESC;FMTTYPE=text/html:Comp wedstrijd 681: <b>Logiegrafix - Lokomotiv
  Popo</b> te Rollegem
X-MICROSOFT-CDO-BUSYSTATUS:FREE
X-MICROSOFT-CDO-INTENDEDSTATUS:FREE
DTSTAMP:20260423T094859Z
BEGIN:VALARM
TRIGGER:-P1D
ACTION:DISPLAY
DESCRIPTION:Comp wedstrijd 681: Logiegrafix - Lokomotiv Popo
END:VALARM
END:VEVENT
BEGIN:VEVENT
UID:69e9eb0b85fde
DTSTART:20260605T170000Z
SEQUENCE:0
TRANSP:OPAQUE
LOCATION:Rollegem
SUMMARY:Wedstrijd 712 KMVV
CLASS:PUBLIC
DESCRIPTION:Comp wedstrijd 712: Westerstrand - Logiegrafix
X-ALT-DESC;FMTTYPE=text/html:Comp wedstrijd 712: <b>Westerstrand - Logiegra
 fix</b> te Rollegem
X-MICROSOFT-CDO-BUSYSTATUS:FREE
X-MICROSOFT-CDO-INTENDEDSTATUS:FREE
DTSTAMP:20260423T094859Z
BEGIN:VALARM
TRIGGER:-P1D
ACTION:DISPLAY
DESCRIPTION:Comp wedstrijd 712: Westerstrand - Logiegrafix
END:VALARM
END:VEVENT
BEGIN:VEVENT
UID:69e9eb0b85fee
DTSTART:20260610T180000Z
SEQUENCE:0
TRANSP:OPAQUE
LOCATION:Rollegem
SUMMARY:Wedstrijd 731 KMVV
CLASS:PUBLIC
DESCRIPTION:Comp wedstrijd 731: Logiegrafix - Moterwalen '09
X-ALT-DESC;FMTTYPE=text/html:Comp wedstrijd 731: <b>Logiegrafix - Moterwale
 n '09</b> te Rollegem
X-MICROSOFT-CDO-BUSYSTATUS:FREE
X-MICROSOFT-CDO-INTENDEDSTATUS:FREE
DTSTAMP:20260423T094859Z
BEGIN:VALARM
TRIGGER:-P1D
ACTION:DISPLAY
DESCRIPTION:Comp wedstrijd 731: Logiegrafix - Moterwalen '09
END:VALARM
END:VEVENT
BEGIN:VEVENT
UID:69e9eb0b85ffe
DTSTART:20260629T183000Z
SEQUENCE:0
TRANSP:OPAQUE
LOCATION:Bissegem
SUMMARY:Wedstrijd 802 KMVV
CLASS:PUBLIC
DESCRIPTION:Comp wedstrijd 802: FuTurAc - Logiegrafix
X-ALT-DESC;FMTTYPE=text/html:Comp wedstrijd 802: <b>FuTurAc - Logiegrafix</
 b> te Bissegem
X-MICROSOFT-CDO-BUSYSTATUS:FREE
X-MICROSOFT-CDO-INTENDEDSTATUS:FREE
DTSTAMP:20260423T094859Z
BEGIN:VALARM
TRIGGER:-P1D
ACTION:DISPLAY
DESCRIPTION:Comp wedstrijd 802: FuTurAc - Logiegrafix
END:VALARM
END:VEVENT
END:VCALENDAR