BEGIN:VCALENDAR
VERSION:2.0
PRODID:www.kmvv.be
BEGIN:VEVENT
UID:69e9e07ad22f0
DTSTART:20250904T183000Z
SEQUENCE:0
TRANSP:OPAQUE
LOCATION:Bissegem
SUMMARY:Wedstrijd 14 KMVV
CLASS:PUBLIC
DESCRIPTION:Comp wedstrijd 14: Moterwalen '09 - Maba
X-ALT-DESC;FMTTYPE=text/html:Comp wedstrijd 14: <b>Moterwalen '09 - Maba</b
 > te Bissegem
X-MICROSOFT-CDO-BUSYSTATUS:FREE
X-MICROSOFT-CDO-INTENDEDSTATUS:FREE
DTSTAMP:20260423T090354Z
BEGIN:VALARM
TRIGGER:-P1D
ACTION:DISPLAY
DESCRIPTION:Comp wedstrijd 14: Moterwalen '09 - Maba
END:VALARM
END:VEVENT
BEGIN:VEVENT
UID:69e9e07ad2618
DTSTART:20250919T170000Z
SEQUENCE:0
TRANSP:OPAQUE
LOCATION:Rollegem
SUMMARY:Wedstrijd 59 KMVV
CLASS:PUBLIC
DESCRIPTION:Comp wedstrijd 59: FC White Star - Maba
X-ALT-DESC;FMTTYPE=text/html:Comp wedstrijd 59: <b>FC White Star - Maba</b>
  te Rollegem
X-MICROSOFT-CDO-BUSYSTATUS:FREE
X-MICROSOFT-CDO-INTENDEDSTATUS:FREE
DTSTAMP:20260423T090354Z
BEGIN:VALARM
TRIGGER:-P1D
ACTION:DISPLAY
DESCRIPTION:Comp wedstrijd 59: FC White Star - Maba
END:VALARM
END:VEVENT
BEGIN:VEVENT
UID:69e9e07ad263a
DTSTART:20250925T173000Z
SEQUENCE:0
TRANSP:OPAQUE
LOCATION:Bissegem
SUMMARY:Wedstrijd 72 KMVV
CLASS:PUBLIC
DESCRIPTION:Comp wedstrijd 72: Maba - Blacks
X-ALT-DESC;FMTTYPE=text/html:Comp wedstrijd 72: <b>Maba - Blacks</b> te Bis
 segem
X-MICROSOFT-CDO-BUSYSTATUS:FREE
X-MICROSOFT-CDO-INTENDEDSTATUS:FREE
DTSTAMP:20260423T090354Z
BEGIN:VALARM
TRIGGER:-P1D
ACTION:DISPLAY
DESCRIPTION:Comp wedstrijd 72: Maba - Blacks
END:VALARM
END:VEVENT
BEGIN:VEVENT
UID:69e9e07ad2652
DTSTART:20251006T190000Z
SEQUENCE:0
TRANSP:OPAQUE
LOCATION:Rollegem
SUMMARY:Wedstrijd 108 KMVV
CLASS:PUBLIC
DESCRIPTION:Comp wedstrijd 108: TD Decor - Maba
X-ALT-DESC;FMTTYPE=text/html:Comp wedstrijd 108: <b>TD Decor - Maba</b> te 
 Rollegem
X-MICROSOFT-CDO-BUSYSTATUS:FREE
X-MICROSOFT-CDO-INTENDEDSTATUS:FREE
DTSTAMP:20260423T090354Z
BEGIN:VALARM
TRIGGER:-P1D
ACTION:DISPLAY
DESCRIPTION:Comp wedstrijd 108: TD Decor - Maba
END:VALARM
END:VEVENT
BEGIN:VEVENT
UID:69e9e07ad2667
DTSTART:20251023T183000Z
SEQUENCE:0
TRANSP:OPAQUE
LOCATION:Rollegem
SUMMARY:Wedstrijd 157 KMVV
CLASS:PUBLIC
DESCRIPTION:Comp wedstrijd 157: Maba - Omer Oliever
X-ALT-DESC;FMTTYPE=text/html:Comp wedstrijd 157: <b>Maba - Omer Oliever</b>
  te Rollegem
X-MICROSOFT-CDO-BUSYSTATUS:FREE
X-MICROSOFT-CDO-INTENDEDSTATUS:FREE
DTSTAMP:20260423T090354Z
BEGIN:VALARM
TRIGGER:-P1D
ACTION:DISPLAY
DESCRIPTION:Comp wedstrijd 157: Maba - Omer Oliever
END:VALARM
END:VEVENT
BEGIN:VEVENT
UID:69e9e07ad267b
DTSTART:20251106T203000Z
SEQUENCE:0
TRANSP:OPAQUE
LOCATION:Rollegem
SUMMARY:Wedstrijd 198 KMVV
CLASS:PUBLIC
DESCRIPTION:Comp wedstrijd 198: De vagant - Maba
X-ALT-DESC;FMTTYPE=text/html:Comp wedstrijd 198: <b>De vagant - Maba</b> te
  Rollegem
X-MICROSOFT-CDO-BUSYSTATUS:FREE
X-MICROSOFT-CDO-INTENDEDSTATUS:FREE
DTSTAMP:20260423T090354Z
BEGIN:VALARM
TRIGGER:-P1D
ACTION:DISPLAY
DESCRIPTION:Comp wedstrijd 198: De vagant - Maba
END:VALARM
END:VEVENT
BEGIN:VEVENT
UID:69e9e07ad268f
DTSTART:20251112T200000Z
SEQUENCE:0
TRANSP:OPAQUE
LOCATION:Rollegem
SUMMARY:Wedstrijd 212 KMVV
CLASS:PUBLIC
DESCRIPTION:Comp wedstrijd 212: Zakouzkys - Maba
X-ALT-DESC;FMTTYPE=text/html:Comp wedstrijd 212: <b>Zakouzkys - Maba</b> te
  Rollegem
X-MICROSOFT-CDO-BUSYSTATUS:FREE
X-MICROSOFT-CDO-INTENDEDSTATUS:FREE
DTSTAMP:20260423T090354Z
BEGIN:VALARM
TRIGGER:-P1D
ACTION:DISPLAY
DESCRIPTION:Comp wedstrijd 212: Zakouzkys - Maba
END:VALARM
END:VEVENT
BEGIN:VEVENT
UID:69e9e07ad26a1
DTSTART:20251120T203000Z
SEQUENCE:0
TRANSP:OPAQUE
LOCATION:Bissegem
SUMMARY:Wedstrijd 234 KMVV
CLASS:PUBLIC
DESCRIPTION:Comp wedstrijd 234: Maba - MVC Beauty & More
X-ALT-DESC;FMTTYPE=text/html:Comp wedstrijd 234: <b>Maba - MVC Beauty & Mor
 e</b> te Bissegem
X-MICROSOFT-CDO-BUSYSTATUS:FREE
X-MICROSOFT-CDO-INTENDEDSTATUS:FREE
DTSTAMP:20260423T090354Z
BEGIN:VALARM
TRIGGER:-P1D
ACTION:DISPLAY
DESCRIPTION:Comp wedstrijd 234: Maba - MVC Beauty & More
END:VALARM
END:VEVENT
BEGIN:VEVENT
UID:69e9e07ad26b4
DTSTART:20251201T203000Z
SEQUENCE:0
TRANSP:OPAQUE
LOCATION:Bissegem
SUMMARY:Wedstrijd 261 KMVV
CLASS:PUBLIC
DESCRIPTION:Comp wedstrijd 261: Y.B.Speelplaneet - Maba
X-ALT-DESC;FMTTYPE=text/html:Comp wedstrijd 261: <b>Y.B.Speelplaneet - Maba
 </b> te Bissegem
X-MICROSOFT-CDO-BUSYSTATUS:FREE
X-MICROSOFT-CDO-INTENDEDSTATUS:FREE
DTSTAMP:20260423T090354Z
BEGIN:VALARM
TRIGGER:-P1D
ACTION:DISPLAY
DESCRIPTION:Comp wedstrijd 261: Y.B.Speelplaneet - Maba
END:VALARM
END:VEVENT
BEGIN:VEVENT
UID:69e9e07ad26c8
DTSTART:20251208T193000Z
SEQUENCE:0
TRANSP:OPAQUE
LOCATION:Bissegem
SUMMARY:Wedstrijd 281 KMVV
CLASS:PUBLIC
DESCRIPTION:Comp wedstrijd 281: Maba - St Antonius/Den Hert
X-ALT-DESC;FMTTYPE=text/html:Comp wedstrijd 281: <b>Maba - St Antonius/Den 
 Hert</b> te Bissegem
X-MICROSOFT-CDO-BUSYSTATUS:FREE
X-MICROSOFT-CDO-INTENDEDSTATUS:FREE
DTSTAMP:20260423T090354Z
BEGIN:VALARM
TRIGGER:-P1D
ACTION:DISPLAY
DESCRIPTION:Comp wedstrijd 281: Maba - St Antonius/Den Hert
END:VALARM
END:VEVENT
BEGIN:VEVENT
UID:69e9e07ad26e6
DTSTART:20251222T193000Z
SEQUENCE:0
TRANSP:OPAQUE
LOCATION:Bissegem
SUMMARY:Wedstrijd 321 KMVV
CLASS:PUBLIC
DESCRIPTION:Comp wedstrijd 321: Lokomotiv Popo - Maba
X-ALT-DESC;FMTTYPE=text/html:Comp wedstrijd 321: <b>Lokomotiv Popo - Maba</
 b> te Bissegem
X-MICROSOFT-CDO-BUSYSTATUS:FREE
X-MICROSOFT-CDO-INTENDEDSTATUS:FREE
DTSTAMP:20260423T090354Z
BEGIN:VALARM
TRIGGER:-P1D
ACTION:DISPLAY
DESCRIPTION:Comp wedstrijd 321: Lokomotiv Popo - Maba
END:VALARM
END:VEVENT
BEGIN:VEVENT
UID:69e9e07ad26fc
DTSTART:20260115T180000Z
SEQUENCE:0
TRANSP:OPAQUE
LOCATION:Lagae
SUMMARY:Wedstrijd 374 KMVV
CLASS:PUBLIC
DESCRIPTION:Comp wedstrijd 374: Maba - De Rooftoppers
X-ALT-DESC;FMTTYPE=text/html:Comp wedstrijd 374: <b>Maba - De Rooftoppers</
 b> te Lagae
X-MICROSOFT-CDO-BUSYSTATUS:FREE
X-MICROSOFT-CDO-INTENDEDSTATUS:FREE
DTSTAMP:20260423T090354Z
BEGIN:VALARM
TRIGGER:-P1D
ACTION:DISPLAY
DESCRIPTION:Comp wedstrijd 374: Maba - De Rooftoppers
END:VALARM
END:VEVENT
BEGIN:VEVENT
UID:69e9e07ad270f
DTSTART:20260119T190000Z
SEQUENCE:0
TRANSP:OPAQUE
LOCATION:Rollegem
SUMMARY:Wedstrijd 386 KMVV
CLASS:PUBLIC
DESCRIPTION:Comp wedstrijd 386: Maba - Bakkerij Bekaert
X-ALT-DESC;FMTTYPE=text/html:Comp wedstrijd 386: <b>Maba - Bakkerij Bekaert
 </b> te Rollegem
X-MICROSOFT-CDO-BUSYSTATUS:FREE
X-MICROSOFT-CDO-INTENDEDSTATUS:FREE
DTSTAMP:20260423T090354Z
BEGIN:VALARM
TRIGGER:-P1D
ACTION:DISPLAY
DESCRIPTION:Comp wedstrijd 386: Maba - Bakkerij Bekaert
END:VALARM
END:VEVENT
BEGIN:VEVENT
UID:69e9e07ad273c
DTSTART:20260223T190000Z
SEQUENCE:0
TRANSP:OPAQUE
LOCATION:Rollegem
SUMMARY:Wedstrijd 433 KMVV
CLASS:PUBLIC
DESCRIPTION:Comp wedstrijd 433: Maba - Moterwalen '09
X-ALT-DESC;FMTTYPE=text/html:Comp wedstrijd 433: <b>Maba - Moterwalen '09</
 b> te Rollegem
X-MICROSOFT-CDO-BUSYSTATUS:FREE
X-MICROSOFT-CDO-INTENDEDSTATUS:FREE
DTSTAMP:20260423T090354Z
BEGIN:VALARM
TRIGGER:-P1D
ACTION:DISPLAY
DESCRIPTION:Comp wedstrijd 433: Maba - Moterwalen '09
END:VALARM
END:VEVENT
BEGIN:VEVENT
UID:69e9e07ad274f
DTSTART:20260309T200000Z
SEQUENCE:0
TRANSP:OPAQUE
LOCATION:Rollegem
SUMMARY:Wedstrijd 474 KMVV
CLASS:PUBLIC
DESCRIPTION:Comp wedstrijd 474: Maba - FC White Star
X-ALT-DESC;FMTTYPE=text/html:Comp wedstrijd 474: <b>Maba - FC White Star</b
 > te Rollegem
X-MICROSOFT-CDO-BUSYSTATUS:FREE
X-MICROSOFT-CDO-INTENDEDSTATUS:FREE
DTSTAMP:20260423T090354Z
BEGIN:VALARM
TRIGGER:-P1D
ACTION:DISPLAY
DESCRIPTION:Comp wedstrijd 474: Maba - FC White Star
END:VALARM
END:VEVENT
BEGIN:VEVENT
UID:69e9e07ad2762
DTSTART:20260323T193000Z
SEQUENCE:0
TRANSP:OPAQUE
LOCATION:Bissegem
SUMMARY:Wedstrijd 506 KMVV
CLASS:PUBLIC
DESCRIPTION:Comp wedstrijd 506: Maba - TD Decor
X-ALT-DESC;FMTTYPE=text/html:Comp wedstrijd 506: <b>Maba - TD Decor</b> te 
 Bissegem
X-MICROSOFT-CDO-BUSYSTATUS:FREE
X-MICROSOFT-CDO-INTENDEDSTATUS:FREE
DTSTAMP:20260423T090354Z
BEGIN:VALARM
TRIGGER:-P1D
ACTION:DISPLAY
DESCRIPTION:Comp wedstrijd 506: Maba - TD Decor
END:VALARM
END:VEVENT
BEGIN:VEVENT
UID:69e9e07ad2774
DTSTART:20260413T180000Z
SEQUENCE:0
TRANSP:OPAQUE
LOCATION:Rollegem
SUMMARY:Wedstrijd 556 KMVV
CLASS:PUBLIC
DESCRIPTION:Comp wedstrijd 556: Logiegrafix - Maba
X-ALT-DESC;FMTTYPE=text/html:Comp wedstrijd 556: <b>Logiegrafix - Maba</b> 
 te Rollegem
X-MICROSOFT-CDO-BUSYSTATUS:FREE
X-MICROSOFT-CDO-INTENDEDSTATUS:FREE
DTSTAMP:20260423T090354Z
BEGIN:VALARM
TRIGGER:-P1D
ACTION:DISPLAY
DESCRIPTION:Comp wedstrijd 556: Logiegrafix - Maba
END:VALARM
END:VEVENT
BEGIN:VEVENT
UID:69e9e07ad2787
DTSTART:20260423T173000Z
SEQUENCE:0
TRANSP:OPAQUE
LOCATION:Bissegem
SUMMARY:Wedstrijd 580 KMVV
CLASS:PUBLIC
DESCRIPTION:Comp wedstrijd 580: Maba - De vagant
X-ALT-DESC;FMTTYPE=text/html:Comp wedstrijd 580: <b>Maba - De vagant</b> te
  Bissegem
X-MICROSOFT-CDO-BUSYSTATUS:FREE
X-MICROSOFT-CDO-INTENDEDSTATUS:FREE
DTSTAMP:20260423T090354Z
BEGIN:VALARM
TRIGGER:-P1D
ACTION:DISPLAY
DESCRIPTION:Comp wedstrijd 580: Maba - De vagant
END:VALARM
END:VEVENT
BEGIN:VEVENT
UID:69e9e07ad279a
DTSTART:20260507T193000Z
SEQUENCE:0
TRANSP:OPAQUE
LOCATION:Bissegem
SUMMARY:Wedstrijd 622 KMVV
CLASS:PUBLIC
DESCRIPTION:Comp wedstrijd 622: Maba - De Foodballers
X-ALT-DESC;FMTTYPE=text/html:Comp wedstrijd 622: <b>Maba - De Foodballers</
 b> te Bissegem
X-MICROSOFT-CDO-BUSYSTATUS:FREE
X-MICROSOFT-CDO-INTENDEDSTATUS:FREE
DTSTAMP:20260423T090354Z
BEGIN:VALARM
TRIGGER:-P1D
ACTION:DISPLAY
DESCRIPTION:Comp wedstrijd 622: Maba - De Foodballers
END:VALARM
END:VEVENT
BEGIN:VEVENT
UID:69e9e07ad27ab
DTSTART:20260511T180000Z
SEQUENCE:0
TRANSP:OPAQUE
LOCATION:Rollegem
SUMMARY:Wedstrijd 636 KMVV
CLASS:PUBLIC
DESCRIPTION:Comp wedstrijd 636: Goalkick Murphys - Maba
X-ALT-DESC;FMTTYPE=text/html:Comp wedstrijd 636: <b>Goalkick Murphys - Maba
 </b> te Rollegem
X-MICROSOFT-CDO-BUSYSTATUS:FREE
X-MICROSOFT-CDO-INTENDEDSTATUS:FREE
DTSTAMP:20260423T090354Z
BEGIN:VALARM
TRIGGER:-P1D
ACTION:DISPLAY
DESCRIPTION:Comp wedstrijd 636: Goalkick Murphys - Maba
END:VALARM
END:VEVENT
BEGIN:VEVENT
UID:69e9e07ad27bd
DTSTART:20260528T180000Z
SEQUENCE:0
TRANSP:OPAQUE
LOCATION:Bissegem
SUMMARY:Wedstrijd 673 KMVV
CLASS:PUBLIC
DESCRIPTION:Comp wedstrijd 673: Maba - Versa Vervacke
X-ALT-DESC;FMTTYPE=text/html:Comp wedstrijd 673: <b>Maba - Versa Vervacke</
 b> te Bissegem
X-MICROSOFT-CDO-BUSYSTATUS:FREE
X-MICROSOFT-CDO-INTENDEDSTATUS:FREE
DTSTAMP:20260423T090354Z
BEGIN:VALARM
TRIGGER:-P1D
ACTION:DISPLAY
DESCRIPTION:Comp wedstrijd 673: Maba - Versa Vervacke
END:VALARM
END:VEVENT
BEGIN:VEVENT
UID:69e9e07ad27da
DTSTART:20260605T190000Z
SEQUENCE:0
TRANSP:OPAQUE
LOCATION:Bissegem
SUMMARY:Wedstrijd 710 KMVV
CLASS:PUBLIC
DESCRIPTION:Comp wedstrijd 710: De Interistas - Maba
X-ALT-DESC;FMTTYPE=text/html:Comp wedstrijd 710: <b>De Interistas - Maba</b
 > te Bissegem
X-MICROSOFT-CDO-BUSYSTATUS:FREE
X-MICROSOFT-CDO-INTENDEDSTATUS:FREE
DTSTAMP:20260423T090354Z
BEGIN:VALARM
TRIGGER:-P1D
ACTION:DISPLAY
DESCRIPTION:Comp wedstrijd 710: De Interistas - Maba
END:VALARM
END:VEVENT
BEGIN:VEVENT
UID:69e9e07ad27ef
DTSTART:20260612T170000Z
SEQUENCE:0
TRANSP:OPAQUE
LOCATION:Bissegem
SUMMARY:Wedstrijd 738 KMVV
CLASS:PUBLIC
DESCRIPTION:Comp wedstrijd 738: Maba - Lokomotiv Popo
X-ALT-DESC;FMTTYPE=text/html:Comp wedstrijd 738: <b>Maba - Lokomotiv Popo</
 b> te Bissegem
X-MICROSOFT-CDO-BUSYSTATUS:FREE
X-MICROSOFT-CDO-INTENDEDSTATUS:FREE
DTSTAMP:20260423T090354Z
BEGIN:VALARM
TRIGGER:-P1D
ACTION:DISPLAY
DESCRIPTION:Comp wedstrijd 738: Maba - Lokomotiv Popo
END:VALARM
END:VEVENT
BEGIN:VEVENT
UID:69e9e07ad2801
DTSTART:20260616T170000Z
SEQUENCE:0
TRANSP:OPAQUE
LOCATION:Bissegem
SUMMARY:Wedstrijd 754 KMVV
CLASS:PUBLIC
DESCRIPTION:Comp wedstrijd 754: Westerstrand - Maba
X-ALT-DESC;FMTTYPE=text/html:Comp wedstrijd 754: <b>Westerstrand - Maba</b>
  te Bissegem
X-MICROSOFT-CDO-BUSYSTATUS:FREE
X-MICROSOFT-CDO-INTENDEDSTATUS:FREE
DTSTAMP:20260423T090354Z
BEGIN:VALARM
TRIGGER:-P1D
ACTION:DISPLAY
DESCRIPTION:Comp wedstrijd 754: Westerstrand - Maba
END:VALARM
END:VEVENT
BEGIN:VEVENT
UID:69e9e07ad2813
DTSTART:20260624T180000Z
SEQUENCE:0
TRANSP:OPAQUE
LOCATION:Rollegem
SUMMARY:Wedstrijd 787 KMVV
CLASS:PUBLIC
DESCRIPTION:Comp wedstrijd 787: FuTurAc - Maba
X-ALT-DESC;FMTTYPE=text/html:Comp wedstrijd 787: <b>FuTurAc - Maba</b> te R
 ollegem
X-MICROSOFT-CDO-BUSYSTATUS:FREE
X-MICROSOFT-CDO-INTENDEDSTATUS:FREE
DTSTAMP:20260423T090354Z
BEGIN:VALARM
TRIGGER:-P1D
ACTION:DISPLAY
DESCRIPTION:Comp wedstrijd 787: FuTurAc - Maba
END:VALARM
END:VEVENT
END:VCALENDAR