BEGIN:VCALENDAR
VERSION:2.0
PRODID:www.kmvv.be
BEGIN:VEVENT
UID:69e9e54eceb60
DTSTART:20250901T180000Z
SEQUENCE:0
TRANSP:OPAQUE
LOCATION:Rollegem
SUMMARY:Wedstrijd 8 KMVV
CLASS:PUBLIC
DESCRIPTION:Comp wedstrijd 8: Blacks - TD Decor
X-ALT-DESC;FMTTYPE=text/html:Comp wedstrijd 8: <b>Blacks - TD Decor</b> te 
 Rollegem
X-MICROSOFT-CDO-BUSYSTATUS:FREE
X-MICROSOFT-CDO-INTENDEDSTATUS:FREE
DTSTAMP:20260423T092430Z
BEGIN:VALARM
TRIGGER:-P1D
ACTION:DISPLAY
DESCRIPTION:Comp wedstrijd 8: Blacks - TD Decor
END:VALARM
END:VEVENT
BEGIN:VEVENT
UID:69e9e54ecf128
DTSTART:20250915T160000Z
SEQUENCE:0
TRANSP:OPAQUE
LOCATION:Rollegem
SUMMARY:Wedstrijd 46 KMVV
CLASS:PUBLIC
DESCRIPTION:Comp wedstrijd 46: TD Decor - Omer Oliever
X-ALT-DESC;FMTTYPE=text/html:Comp wedstrijd 46: <b>TD Decor - Omer Oliever<
 /b> te Rollegem
X-MICROSOFT-CDO-BUSYSTATUS:FREE
X-MICROSOFT-CDO-INTENDEDSTATUS:FREE
DTSTAMP:20260423T092430Z
BEGIN:VALARM
TRIGGER:-P1D
ACTION:DISPLAY
DESCRIPTION:Comp wedstrijd 46: TD Decor - Omer Oliever
END:VALARM
END:VEVENT
BEGIN:VEVENT
UID:69e9e54ecf17a
DTSTART:20250922T190000Z
SEQUENCE:0
TRANSP:OPAQUE
LOCATION:Lagae
SUMMARY:Wedstrijd 64 KMVV
CLASS:PUBLIC
DESCRIPTION:Comp wedstrijd 64: De vagant - TD Decor
X-ALT-DESC;FMTTYPE=text/html:Comp wedstrijd 64: <b>De vagant - TD Decor</b>
  te Lagae
X-MICROSOFT-CDO-BUSYSTATUS:FREE
X-MICROSOFT-CDO-INTENDEDSTATUS:FREE
DTSTAMP:20260423T092430Z
BEGIN:VALARM
TRIGGER:-P1D
ACTION:DISPLAY
DESCRIPTION:Comp wedstrijd 64: De vagant - TD Decor
END:VALARM
END:VEVENT
BEGIN:VEVENT
UID:69e9e54ecf1b0
DTSTART:20251006T190000Z
SEQUENCE:0
TRANSP:OPAQUE
LOCATION:Rollegem
SUMMARY:Wedstrijd 108 KMVV
CLASS:PUBLIC
DESCRIPTION:Comp wedstrijd 108: TD Decor - Maba
X-ALT-DESC;FMTTYPE=text/html:Comp wedstrijd 108: <b>TD Decor - Maba</b> te 
 Rollegem
X-MICROSOFT-CDO-BUSYSTATUS:FREE
X-MICROSOFT-CDO-INTENDEDSTATUS:FREE
DTSTAMP:20260423T092430Z
BEGIN:VALARM
TRIGGER:-P1D
ACTION:DISPLAY
DESCRIPTION:Comp wedstrijd 108: TD Decor - Maba
END:VALARM
END:VEVENT
BEGIN:VEVENT
UID:69e9e54ecf1e4
DTSTART:20251015T180000Z
SEQUENCE:0
TRANSP:OPAQUE
LOCATION:Rollegem
SUMMARY:Wedstrijd 131 KMVV
CLASS:PUBLIC
DESCRIPTION:Comp wedstrijd 131: MVC Beauty & More - TD Decor
X-ALT-DESC;FMTTYPE=text/html:Comp wedstrijd 131: <b>MVC Beauty & More - TD 
 Decor</b> te Rollegem
X-MICROSOFT-CDO-BUSYSTATUS:FREE
X-MICROSOFT-CDO-INTENDEDSTATUS:FREE
DTSTAMP:20260423T092430Z
BEGIN:VALARM
TRIGGER:-P1D
ACTION:DISPLAY
DESCRIPTION:Comp wedstrijd 131: MVC Beauty & More - TD Decor
END:VALARM
END:VEVENT
BEGIN:VEVENT
UID:69e9e54ecf212
DTSTART:20251020T170000Z
SEQUENCE:0
TRANSP:OPAQUE
LOCATION:Rollegem
SUMMARY:Wedstrijd 146 KMVV
CLASS:PUBLIC
DESCRIPTION:Comp wedstrijd 146: TD Decor - Y.B.Speelplaneet
X-ALT-DESC;FMTTYPE=text/html:Comp wedstrijd 146: <b>TD Decor - Y.B.Speelpla
 neet</b> te Rollegem
X-MICROSOFT-CDO-BUSYSTATUS:FREE
X-MICROSOFT-CDO-INTENDEDSTATUS:FREE
DTSTAMP:20260423T092430Z
BEGIN:VALARM
TRIGGER:-P1D
ACTION:DISPLAY
DESCRIPTION:Comp wedstrijd 146: TD Decor - Y.B.Speelplaneet
END:VALARM
END:VEVENT
BEGIN:VEVENT
UID:69e9e54ecf250
DTSTART:20251107T170000Z
SEQUENCE:0
TRANSP:OPAQUE
LOCATION:Rollegem
SUMMARY:Wedstrijd 199 KMVV
CLASS:PUBLIC
DESCRIPTION:Comp wedstrijd 199: St Antonius/Den Hert - TD Decor
X-ALT-DESC;FMTTYPE=text/html:Comp wedstrijd 199: <b>St Antonius/Den Hert - 
 TD Decor</b> te Rollegem
X-MICROSOFT-CDO-BUSYSTATUS:FREE
X-MICROSOFT-CDO-INTENDEDSTATUS:FREE
DTSTAMP:20260423T092430Z
BEGIN:VALARM
TRIGGER:-P1D
ACTION:DISPLAY
DESCRIPTION:Comp wedstrijd 199: St Antonius/Den Hert - TD Decor
END:VALARM
END:VEVENT
BEGIN:VEVENT
UID:69e9e54ecf293
DTSTART:20251117T180000Z
SEQUENCE:0
TRANSP:OPAQUE
LOCATION:Lagae
SUMMARY:Wedstrijd 222 KMVV
CLASS:PUBLIC
DESCRIPTION:Comp wedstrijd 222: TD Decor - Lokomotiv Popo
X-ALT-DESC;FMTTYPE=text/html:Comp wedstrijd 222: <b>TD Decor - Lokomotiv Po
 po</b> te Lagae
X-MICROSOFT-CDO-BUSYSTATUS:FREE
X-MICROSOFT-CDO-INTENDEDSTATUS:FREE
DTSTAMP:20260423T092430Z
BEGIN:VALARM
TRIGGER:-P1D
ACTION:DISPLAY
DESCRIPTION:Comp wedstrijd 222: TD Decor - Lokomotiv Popo
END:VALARM
END:VEVENT
BEGIN:VEVENT
UID:69e9e54ecf2d1
DTSTART:20251205T170000Z
SEQUENCE:0
TRANSP:OPAQUE
LOCATION:Rollegem
SUMMARY:Wedstrijd 279 KMVV
CLASS:PUBLIC
DESCRIPTION:Comp wedstrijd 279: De Rooftoppers - TD Decor
X-ALT-DESC;FMTTYPE=text/html:Comp wedstrijd 279: <b>De Rooftoppers - TD Dec
 or</b> te Rollegem
X-MICROSOFT-CDO-BUSYSTATUS:FREE
X-MICROSOFT-CDO-INTENDEDSTATUS:FREE
DTSTAMP:20260423T092430Z
BEGIN:VALARM
TRIGGER:-P1D
ACTION:DISPLAY
DESCRIPTION:Comp wedstrijd 279: De Rooftoppers - TD Decor
END:VALARM
END:VEVENT
BEGIN:VEVENT
UID:69e9e54ecf313
DTSTART:20251208T180000Z
SEQUENCE:0
TRANSP:OPAQUE
LOCATION:Lagae
SUMMARY:Wedstrijd 283 KMVV
CLASS:PUBLIC
DESCRIPTION:Comp wedstrijd 283: TD Decor - Moterwalen '09
X-ALT-DESC;FMTTYPE=text/html:Comp wedstrijd 283: <b>TD Decor - Moterwalen '
 09</b> te Lagae
X-MICROSOFT-CDO-BUSYSTATUS:FREE
X-MICROSOFT-CDO-INTENDEDSTATUS:FREE
DTSTAMP:20260423T092430Z
BEGIN:VALARM
TRIGGER:-P1D
ACTION:DISPLAY
DESCRIPTION:Comp wedstrijd 283: TD Decor - Moterwalen '09
END:VALARM
END:VEVENT
BEGIN:VEVENT
UID:69e9e54ecf34a
DTSTART:20251222T200000Z
SEQUENCE:0
TRANSP:OPAQUE
LOCATION:Rollegem
SUMMARY:Wedstrijd 329 KMVV
CLASS:PUBLIC
DESCRIPTION:Comp wedstrijd 329: Bakkerij Bekaert - TD Decor
X-ALT-DESC;FMTTYPE=text/html:Comp wedstrijd 329: <b>Bakkerij Bekaert - TD D
 ecor</b> te Rollegem
X-MICROSOFT-CDO-BUSYSTATUS:FREE
X-MICROSOFT-CDO-INTENDEDSTATUS:FREE
DTSTAMP:20260423T092430Z
BEGIN:VALARM
TRIGGER:-P1D
ACTION:DISPLAY
DESCRIPTION:Comp wedstrijd 329: Bakkerij Bekaert - TD Decor
END:VALARM
END:VEVENT
BEGIN:VEVENT
UID:69e9e54ecf379
DTSTART:20260109T180000Z
SEQUENCE:0
TRANSP:OPAQUE
LOCATION:Rollegem
SUMMARY:Wedstrijd 357 KMVV
CLASS:PUBLIC
DESCRIPTION:Comp wedstrijd 357: TD Decor - FC White Star
X-ALT-DESC;FMTTYPE=text/html:Comp wedstrijd 357: <b>TD Decor - FC White Sta
 r</b> te Rollegem
X-MICROSOFT-CDO-BUSYSTATUS:FREE
X-MICROSOFT-CDO-INTENDEDSTATUS:FREE
DTSTAMP:20260423T092430Z
BEGIN:VALARM
TRIGGER:-P1D
ACTION:DISPLAY
DESCRIPTION:Comp wedstrijd 357: TD Decor - FC White Star
END:VALARM
END:VEVENT
BEGIN:VEVENT
UID:69e9e54ecf3a8
DTSTART:20260119T180000Z
SEQUENCE:0
TRANSP:OPAQUE
LOCATION:Rollegem
SUMMARY:Wedstrijd 385 KMVV
CLASS:PUBLIC
DESCRIPTION:Comp wedstrijd 385: Zakouzkys - TD Decor
X-ALT-DESC;FMTTYPE=text/html:Comp wedstrijd 385: <b>Zakouzkys - TD Decor</b
 > te Rollegem
X-MICROSOFT-CDO-BUSYSTATUS:FREE
X-MICROSOFT-CDO-INTENDEDSTATUS:FREE
DTSTAMP:20260423T092430Z
BEGIN:VALARM
TRIGGER:-P1D
ACTION:DISPLAY
DESCRIPTION:Comp wedstrijd 385: Zakouzkys - TD Decor
END:VALARM
END:VEVENT
BEGIN:VEVENT
UID:69e9e54ecf3d6
DTSTART:20260302T190000Z
SEQUENCE:0
TRANSP:OPAQUE
LOCATION:Rollegem
SUMMARY:Wedstrijd 454 KMVV
CLASS:PUBLIC
DESCRIPTION:Comp wedstrijd 454: Logiegrafix - TD Decor
X-ALT-DESC;FMTTYPE=text/html:Comp wedstrijd 454: <b>Logiegrafix - TD Decor<
 /b> te Rollegem
X-MICROSOFT-CDO-BUSYSTATUS:FREE
X-MICROSOFT-CDO-INTENDEDSTATUS:FREE
DTSTAMP:20260423T092430Z
BEGIN:VALARM
TRIGGER:-P1D
ACTION:DISPLAY
DESCRIPTION:Comp wedstrijd 454: Logiegrafix - TD Decor
END:VALARM
END:VEVENT
BEGIN:VEVENT
UID:69e9e54ecf403
DTSTART:20260311T190000Z
SEQUENCE:0
TRANSP:OPAQUE
LOCATION:Rollegem
SUMMARY:Wedstrijd 476 KMVV
CLASS:PUBLIC
DESCRIPTION:Comp wedstrijd 476: TD Decor - De vagant
X-ALT-DESC;FMTTYPE=text/html:Comp wedstrijd 476: <b>TD Decor - De vagant</b
 > te Rollegem
X-MICROSOFT-CDO-BUSYSTATUS:FREE
X-MICROSOFT-CDO-INTENDEDSTATUS:FREE
DTSTAMP:20260423T092430Z
BEGIN:VALARM
TRIGGER:-P1D
ACTION:DISPLAY
DESCRIPTION:Comp wedstrijd 476: TD Decor - De vagant
END:VALARM
END:VEVENT
BEGIN:VEVENT
UID:69e9e54ecf462
DTSTART:20260323T193000Z
SEQUENCE:0
TRANSP:OPAQUE
LOCATION:Bissegem
SUMMARY:Wedstrijd 506 KMVV
CLASS:PUBLIC
DESCRIPTION:Comp wedstrijd 506: Maba - TD Decor
X-ALT-DESC;FMTTYPE=text/html:Comp wedstrijd 506: <b>Maba - TD Decor</b> te 
 Bissegem
X-MICROSOFT-CDO-BUSYSTATUS:FREE
X-MICROSOFT-CDO-INTENDEDSTATUS:FREE
DTSTAMP:20260423T092430Z
BEGIN:VALARM
TRIGGER:-P1D
ACTION:DISPLAY
DESCRIPTION:Comp wedstrijd 506: Maba - TD Decor
END:VALARM
END:VEVENT
BEGIN:VEVENT
UID:69e9e54ecf492
DTSTART:20260415T190000Z
SEQUENCE:0
TRANSP:OPAQUE
LOCATION:Rollegem
SUMMARY:Wedstrijd 560 KMVV
CLASS:PUBLIC
DESCRIPTION:Comp wedstrijd 560: TD Decor - Goalkick Murphys
X-ALT-DESC;FMTTYPE=text/html:Comp wedstrijd 560: <b>TD Decor - Goalkick Mur
 phys</b> te Rollegem
X-MICROSOFT-CDO-BUSYSTATUS:FREE
X-MICROSOFT-CDO-INTENDEDSTATUS:FREE
DTSTAMP:20260423T092430Z
BEGIN:VALARM
TRIGGER:-P1D
ACTION:DISPLAY
DESCRIPTION:Comp wedstrijd 560: TD Decor - Goalkick Murphys
END:VALARM
END:VEVENT
BEGIN:VEVENT
UID:69e9e54ecf4bf
DTSTART:20260420T160000Z
SEQUENCE:0
TRANSP:OPAQUE
LOCATION:Rollegem
SUMMARY:Wedstrijd 573 KMVV
CLASS:PUBLIC
DESCRIPTION:Comp wedstrijd 573: Versa Vervacke - TD Decor
X-ALT-DESC;FMTTYPE=text/html:Comp wedstrijd 573: <b>Versa Vervacke - TD Dec
 or</b> te Rollegem
X-MICROSOFT-CDO-BUSYSTATUS:FREE
X-MICROSOFT-CDO-INTENDEDSTATUS:FREE
DTSTAMP:20260423T092430Z
BEGIN:VALARM
TRIGGER:-P1D
ACTION:DISPLAY
DESCRIPTION:Comp wedstrijd 573: Versa Vervacke - TD Decor
END:VALARM
END:VEVENT
BEGIN:VEVENT
UID:69e9e54ecf4ea
DTSTART:20260427T183000Z
SEQUENCE:0
TRANSP:OPAQUE
LOCATION:Bissegem
SUMMARY:Wedstrijd 589 KMVV
CLASS:PUBLIC
DESCRIPTION:Comp wedstrijd 589: TD Decor - De Interistas
X-ALT-DESC;FMTTYPE=text/html:Comp wedstrijd 589: <b>TD Decor - De Interista
 s</b> te Bissegem
X-MICROSOFT-CDO-BUSYSTATUS:FREE
X-MICROSOFT-CDO-INTENDEDSTATUS:FREE
DTSTAMP:20260423T092430Z
BEGIN:VALARM
TRIGGER:-P1D
ACTION:DISPLAY
DESCRIPTION:Comp wedstrijd 589: TD Decor - De Interistas
END:VALARM
END:VEVENT
BEGIN:VEVENT
UID:69e9e54ecf51f
DTSTART:20260511T180000Z
SEQUENCE:0
TRANSP:OPAQUE
LOCATION:Lagae
SUMMARY:Wedstrijd 632 KMVV
CLASS:PUBLIC
DESCRIPTION:Comp wedstrijd 632: Lokomotiv Popo - TD Decor
X-ALT-DESC;FMTTYPE=text/html:Comp wedstrijd 632: <b>Lokomotiv Popo - TD Dec
 or</b> te Lagae
X-MICROSOFT-CDO-BUSYSTATUS:FREE
X-MICROSOFT-CDO-INTENDEDSTATUS:FREE
DTSTAMP:20260423T092430Z
BEGIN:VALARM
TRIGGER:-P1D
ACTION:DISPLAY
DESCRIPTION:Comp wedstrijd 632: Lokomotiv Popo - TD Decor
END:VALARM
END:VEVENT
BEGIN:VEVENT
UID:69e9e54ecf54d
DTSTART:20260527T183000Z
SEQUENCE:0
TRANSP:OPAQUE
LOCATION:Rollegem
SUMMARY:Wedstrijd 670 KMVV
CLASS:PUBLIC
DESCRIPTION:Comp wedstrijd 670: TD Decor - Westerstrand
X-ALT-DESC;FMTTYPE=text/html:Comp wedstrijd 670: <b>TD Decor - Westerstrand
 </b> te Rollegem
X-MICROSOFT-CDO-BUSYSTATUS:FREE
X-MICROSOFT-CDO-INTENDEDSTATUS:FREE
DTSTAMP:20260423T092430Z
BEGIN:VALARM
TRIGGER:-P1D
ACTION:DISPLAY
DESCRIPTION:Comp wedstrijd 670: TD Decor - Westerstrand
END:VALARM
END:VEVENT
BEGIN:VEVENT
UID:69e9e54ecf57a
DTSTART:20260604T160000Z
SEQUENCE:0
TRANSP:OPAQUE
LOCATION:Lagae
SUMMARY:Wedstrijd 704 KMVV
CLASS:PUBLIC
DESCRIPTION:Comp wedstrijd 704: Moterwalen '09 - TD Decor
X-ALT-DESC;FMTTYPE=text/html:Comp wedstrijd 704: <b>Moterwalen '09 - TD Dec
 or</b> te Lagae
X-MICROSOFT-CDO-BUSYSTATUS:FREE
X-MICROSOFT-CDO-INTENDEDSTATUS:FREE
DTSTAMP:20260423T092430Z
BEGIN:VALARM
TRIGGER:-P1D
ACTION:DISPLAY
DESCRIPTION:Comp wedstrijd 704: Moterwalen '09 - TD Decor
END:VALARM
END:VEVENT
BEGIN:VEVENT
UID:69e9e54ecf5ae
DTSTART:20260608T190000Z
SEQUENCE:0
TRANSP:OPAQUE
LOCATION:Rollegem
SUMMARY:Wedstrijd 722 KMVV
CLASS:PUBLIC
DESCRIPTION:Comp wedstrijd 722: TD Decor - FuTurAc
X-ALT-DESC;FMTTYPE=text/html:Comp wedstrijd 722: <b>TD Decor - FuTurAc</b> 
 te Rollegem
X-MICROSOFT-CDO-BUSYSTATUS:FREE
X-MICROSOFT-CDO-INTENDEDSTATUS:FREE
DTSTAMP:20260423T092430Z
BEGIN:VALARM
TRIGGER:-P1D
ACTION:DISPLAY
DESCRIPTION:Comp wedstrijd 722: TD Decor - FuTurAc
END:VALARM
END:VEVENT
BEGIN:VEVENT
UID:69e9e54ecf5e5
DTSTART:20260619T190000Z
SEQUENCE:0
TRANSP:OPAQUE
LOCATION:Rollegem
SUMMARY:Wedstrijd 753 KMVV
CLASS:PUBLIC
DESCRIPTION:Comp wedstrijd 753: FC White Star - TD Decor
X-ALT-DESC;FMTTYPE=text/html:Comp wedstrijd 753: <b>FC White Star - TD Deco
 r</b> te Rollegem
X-MICROSOFT-CDO-BUSYSTATUS:FREE
X-MICROSOFT-CDO-INTENDEDSTATUS:FREE
DTSTAMP:20260423T092430Z
BEGIN:VALARM
TRIGGER:-P1D
ACTION:DISPLAY
DESCRIPTION:Comp wedstrijd 753: FC White Star - TD Decor
END:VALARM
END:VEVENT
BEGIN:VEVENT
UID:69e9e54ecf624
DTSTART:20260625T160000Z
SEQUENCE:0
TRANSP:OPAQUE
LOCATION:Lagae
SUMMARY:Wedstrijd 791 KMVV
CLASS:PUBLIC
DESCRIPTION:Comp wedstrijd 791: TD Decor - De Foodballers
X-ALT-DESC;FMTTYPE=text/html:Comp wedstrijd 791: <b>TD Decor - De Foodballe
 rs</b> te Lagae
X-MICROSOFT-CDO-BUSYSTATUS:FREE
X-MICROSOFT-CDO-INTENDEDSTATUS:FREE
DTSTAMP:20260423T092430Z
BEGIN:VALARM
TRIGGER:-P1D
ACTION:DISPLAY
DESCRIPTION:Comp wedstrijd 791: TD Decor - De Foodballers
END:VALARM
END:VEVENT
END:VCALENDAR