BEGIN:VCALENDAR
VERSION:2.0
PRODID:www.kmvv.be
BEGIN:VEVENT
UID:69e9e1486c2c4
DTSTART:20250903T180000Z
SEQUENCE:0
TRANSP:OPAQUE
LOCATION:Rollegem
SUMMARY:Wedstrijd 11 KMVV
CLASS:PUBLIC
DESCRIPTION:Comp wedstrijd 11: Versa Vervacke - BB FC
X-ALT-DESC;FMTTYPE=text/html:Comp wedstrijd 11: <b>Versa Vervacke - BB FC</
 b> te Rollegem
X-MICROSOFT-CDO-BUSYSTATUS:FREE
X-MICROSOFT-CDO-INTENDEDSTATUS:FREE
DTSTAMP:20260423T090720Z
BEGIN:VALARM
TRIGGER:-P1D
ACTION:DISPLAY
DESCRIPTION:Comp wedstrijd 11: Versa Vervacke - BB FC
END:VALARM
END:VEVENT
BEGIN:VEVENT
UID:69e9e1486c5bc
DTSTART:20250908T170000Z
SEQUENCE:0
TRANSP:OPAQUE
LOCATION:Rollegem
SUMMARY:Wedstrijd 26 KMVV
CLASS:PUBLIC
DESCRIPTION:Comp wedstrijd 26: Davabo-Smooth Surface - Versa Vervacke
X-ALT-DESC;FMTTYPE=text/html:Comp wedstrijd 26: <b>Davabo-Smooth Surface - 
 Versa Vervacke</b> te Rollegem
X-MICROSOFT-CDO-BUSYSTATUS:FREE
X-MICROSOFT-CDO-INTENDEDSTATUS:FREE
DTSTAMP:20260423T090720Z
BEGIN:VALARM
TRIGGER:-P1D
ACTION:DISPLAY
DESCRIPTION:Comp wedstrijd 26: Davabo-Smooth Surface - Versa Vervacke
END:VALARM
END:VEVENT
BEGIN:VEVENT
UID:69e9e1486c5df
DTSTART:20250922T180000Z
SEQUENCE:0
TRANSP:OPAQUE
LOCATION:Rollegem
SUMMARY:Wedstrijd 67 KMVV
CLASS:PUBLIC
DESCRIPTION:Comp wedstrijd 67: Versa Vervacke - Cafe 1917
X-ALT-DESC;FMTTYPE=text/html:Comp wedstrijd 67: <b>Versa Vervacke - Cafe 19
 17</b> te Rollegem
X-MICROSOFT-CDO-BUSYSTATUS:FREE
X-MICROSOFT-CDO-INTENDEDSTATUS:FREE
DTSTAMP:20260423T090720Z
BEGIN:VALARM
TRIGGER:-P1D
ACTION:DISPLAY
DESCRIPTION:Comp wedstrijd 67: Versa Vervacke - Cafe 1917
END:VALARM
END:VEVENT
BEGIN:VEVENT
UID:69e9e1486c5f6
DTSTART:20251001T180000Z
SEQUENCE:0
TRANSP:OPAQUE
LOCATION:Rollegem
SUMMARY:Wedstrijd 91 KMVV
CLASS:PUBLIC
DESCRIPTION:Comp wedstrijd 91: Westerstrand - Versa Vervacke
X-ALT-DESC;FMTTYPE=text/html:Comp wedstrijd 91: <b>Westerstrand - Versa Ver
 vacke</b> te Rollegem
X-MICROSOFT-CDO-BUSYSTATUS:FREE
X-MICROSOFT-CDO-INTENDEDSTATUS:FREE
DTSTAMP:20260423T090720Z
BEGIN:VALARM
TRIGGER:-P1D
ACTION:DISPLAY
DESCRIPTION:Comp wedstrijd 91: Westerstrand - Versa Vervacke
END:VALARM
END:VEVENT
BEGIN:VEVENT
UID:69e9e1486c60c
DTSTART:20251006T180000Z
SEQUENCE:0
TRANSP:OPAQUE
LOCATION:Rollegem
SUMMARY:Wedstrijd 107 KMVV
CLASS:PUBLIC
DESCRIPTION:Comp wedstrijd 107: Versa Vervacke - De Labberleute
X-ALT-DESC;FMTTYPE=text/html:Comp wedstrijd 107: <b>Versa Vervacke - De Lab
 berleute</b> te Rollegem
X-MICROSOFT-CDO-BUSYSTATUS:FREE
X-MICROSOFT-CDO-INTENDEDSTATUS:FREE
DTSTAMP:20260423T090720Z
BEGIN:VALARM
TRIGGER:-P1D
ACTION:DISPLAY
DESCRIPTION:Comp wedstrijd 107: Versa Vervacke - De Labberleute
END:VALARM
END:VEVENT
BEGIN:VEVENT
UID:69e9e1486c61f
DTSTART:20251027T203000Z
SEQUENCE:0
TRANSP:OPAQUE
LOCATION:Bissegem
SUMMARY:Wedstrijd 162 KMVV
CLASS:PUBLIC
DESCRIPTION:Comp wedstrijd 162: T-Team - Versa Vervacke
X-ALT-DESC;FMTTYPE=text/html:Comp wedstrijd 162: <b>T-Team - Versa Vervacke
 </b> te Bissegem
X-MICROSOFT-CDO-BUSYSTATUS:FREE
X-MICROSOFT-CDO-INTENDEDSTATUS:FREE
DTSTAMP:20260423T090720Z
BEGIN:VALARM
TRIGGER:-P1D
ACTION:DISPLAY
DESCRIPTION:Comp wedstrijd 162: T-Team - Versa Vervacke
END:VALARM
END:VEVENT
BEGIN:VEVENT
UID:69e9e1486c633
DTSTART:20251117T170000Z
SEQUENCE:0
TRANSP:OPAQUE
LOCATION:Rollegem
SUMMARY:Wedstrijd 225 KMVV
CLASS:PUBLIC
DESCRIPTION:Comp wedstrijd 225: Café Astor - Versa Vervacke
X-ALT-DESC;FMTTYPE=text/html:Comp wedstrijd 225: <b>Café Astor - Versa Ver
 vacke</b> te Rollegem
X-MICROSOFT-CDO-BUSYSTATUS:FREE
X-MICROSOFT-CDO-INTENDEDSTATUS:FREE
DTSTAMP:20260423T090720Z
BEGIN:VALARM
TRIGGER:-P1D
ACTION:DISPLAY
DESCRIPTION:Comp wedstrijd 225: Café Astor - Versa Vervacke
END:VALARM
END:VEVENT
BEGIN:VEVENT
UID:69e9e1486c646
DTSTART:20251124T190000Z
SEQUENCE:0
TRANSP:OPAQUE
LOCATION:Rollegem
SUMMARY:Wedstrijd 248 KMVV
CLASS:PUBLIC
DESCRIPTION:Comp wedstrijd 248: Versa Vervacke - FuTurAc
X-ALT-DESC;FMTTYPE=text/html:Comp wedstrijd 248: <b>Versa Vervacke - FuTurA
 c</b> te Rollegem
X-MICROSOFT-CDO-BUSYSTATUS:FREE
X-MICROSOFT-CDO-INTENDEDSTATUS:FREE
DTSTAMP:20260423T090720Z
BEGIN:VALARM
TRIGGER:-P1D
ACTION:DISPLAY
DESCRIPTION:Comp wedstrijd 248: Versa Vervacke - FuTurAc
END:VALARM
END:VEVENT
BEGIN:VEVENT
UID:69e9e1486c659
DTSTART:20251208T170000Z
SEQUENCE:0
TRANSP:OPAQUE
LOCATION:Rollegem
SUMMARY:Wedstrijd 286 KMVV
CLASS:PUBLIC
DESCRIPTION:Comp wedstrijd 286: La galaxie - Versa Vervacke
X-ALT-DESC;FMTTYPE=text/html:Comp wedstrijd 286: <b>La galaxie - Versa Verv
 acke</b> te Rollegem
X-MICROSOFT-CDO-BUSYSTATUS:FREE
X-MICROSOFT-CDO-INTENDEDSTATUS:FREE
DTSTAMP:20260423T090720Z
BEGIN:VALARM
TRIGGER:-P1D
ACTION:DISPLAY
DESCRIPTION:Comp wedstrijd 286: La galaxie - Versa Vervacke
END:VALARM
END:VEVENT
BEGIN:VEVENT
UID:69e9e1486c66d
DTSTART:20251217T190000Z
SEQUENCE:0
TRANSP:OPAQUE
LOCATION:Rollegem
SUMMARY:Wedstrijd 310 KMVV
CLASS:PUBLIC
DESCRIPTION:Comp wedstrijd 310: Versa Vervacke - MVC De Max
X-ALT-DESC;FMTTYPE=text/html:Comp wedstrijd 310: <b>Versa Vervacke - MVC De
  Max</b> te Rollegem
X-MICROSOFT-CDO-BUSYSTATUS:FREE
X-MICROSOFT-CDO-INTENDEDSTATUS:FREE
DTSTAMP:20260423T090720Z
BEGIN:VALARM
TRIGGER:-P1D
ACTION:DISPLAY
DESCRIPTION:Comp wedstrijd 310: Versa Vervacke - MVC De Max
END:VALARM
END:VEVENT
BEGIN:VEVENT
UID:69e9e1486c680
DTSTART:20260108T183000Z
SEQUENCE:0
TRANSP:OPAQUE
LOCATION:Bissegem
SUMMARY:Wedstrijd 351 KMVV
CLASS:PUBLIC
DESCRIPTION:Comp wedstrijd 351: Mex United - Versa Vervacke
X-ALT-DESC;FMTTYPE=text/html:Comp wedstrijd 351: <b>Mex United - Versa Verv
 acke</b> te Bissegem
X-MICROSOFT-CDO-BUSYSTATUS:FREE
X-MICROSOFT-CDO-INTENDEDSTATUS:FREE
DTSTAMP:20260423T090720Z
BEGIN:VALARM
TRIGGER:-P1D
ACTION:DISPLAY
DESCRIPTION:Comp wedstrijd 351: Mex United - Versa Vervacke
END:VALARM
END:VEVENT
BEGIN:VEVENT
UID:69e9e1486c693
DTSTART:20260119T170000Z
SEQUENCE:0
TRANSP:OPAQUE
LOCATION:Rollegem
SUMMARY:Wedstrijd 384 KMVV
CLASS:PUBLIC
DESCRIPTION:Comp wedstrijd 384: Versa Vervacke - Dumo's coppes
X-ALT-DESC;FMTTYPE=text/html:Comp wedstrijd 384: <b>Versa Vervacke - Dumo's
  coppes</b> te Rollegem
X-MICROSOFT-CDO-BUSYSTATUS:FREE
X-MICROSOFT-CDO-INTENDEDSTATUS:FREE
DTSTAMP:20260423T090720Z
BEGIN:VALARM
TRIGGER:-P1D
ACTION:DISPLAY
DESCRIPTION:Comp wedstrijd 384: Versa Vervacke - Dumo's coppes
END:VALARM
END:VEVENT
BEGIN:VEVENT
UID:69e9e1486c6a6
DTSTART:20260204T200000Z
SEQUENCE:0
TRANSP:OPAQUE
LOCATION:Rollegem
SUMMARY:Wedstrijd 196 KMVV
CLASS:PUBLIC
DESCRIPTION:Comp wedstrijd 196: Versa Vervacke - Santy Pils Marke
X-ALT-DESC;FMTTYPE=text/html:Comp wedstrijd 196: <b>Versa Vervacke - Santy 
 Pils Marke</b> te Rollegem
X-MICROSOFT-CDO-BUSYSTATUS:FREE
X-MICROSOFT-CDO-INTENDEDSTATUS:FREE
DTSTAMP:20260423T090720Z
BEGIN:VALARM
TRIGGER:-P1D
ACTION:DISPLAY
DESCRIPTION:Comp wedstrijd 196: Versa Vervacke - Santy Pils Marke
END:VALARM
END:VEVENT
BEGIN:VEVENT
UID:69e9e1486c6b9
DTSTART:20260218T190000Z
SEQUENCE:0
TRANSP:OPAQUE
LOCATION:Rollegem
SUMMARY:Wedstrijd 417 KMVV
CLASS:PUBLIC
DESCRIPTION:Comp wedstrijd 417: Versa Vervacke - Lokomotiv Popo
X-ALT-DESC;FMTTYPE=text/html:Comp wedstrijd 417: <b>Versa Vervacke - Lokomo
 tiv Popo</b> te Rollegem
X-MICROSOFT-CDO-BUSYSTATUS:FREE
X-MICROSOFT-CDO-INTENDEDSTATUS:FREE
DTSTAMP:20260423T090720Z
BEGIN:VALARM
TRIGGER:-P1D
ACTION:DISPLAY
DESCRIPTION:Comp wedstrijd 417: Versa Vervacke - Lokomotiv Popo
END:VALARM
END:VEVENT
BEGIN:VEVENT
UID:69e9e1486c6cb
DTSTART:20260302T170000Z
SEQUENCE:0
TRANSP:OPAQUE
LOCATION:Rollegem
SUMMARY:Wedstrijd 452 KMVV
CLASS:PUBLIC
DESCRIPTION:Comp wedstrijd 452: Versa Vervacke - Moterwalen '09
X-ALT-DESC;FMTTYPE=text/html:Comp wedstrijd 452: <b>Versa Vervacke - Moterw
 alen '09</b> te Rollegem
X-MICROSOFT-CDO-BUSYSTATUS:FREE
X-MICROSOFT-CDO-INTENDEDSTATUS:FREE
DTSTAMP:20260423T090720Z
BEGIN:VALARM
TRIGGER:-P1D
ACTION:DISPLAY
DESCRIPTION:Comp wedstrijd 452: Versa Vervacke - Moterwalen '09
END:VALARM
END:VEVENT
BEGIN:VEVENT
UID:69e9e1486c6dd
DTSTART:20260312T193000Z
SEQUENCE:0
TRANSP:OPAQUE
LOCATION:Rollegem
SUMMARY:Wedstrijd 483 KMVV
CLASS:PUBLIC
DESCRIPTION:Comp wedstrijd 483: FuTurAc - Versa Vervacke
X-ALT-DESC;FMTTYPE=text/html:Comp wedstrijd 483: <b>FuTurAc - Versa Vervack
 e</b> te Rollegem
X-MICROSOFT-CDO-BUSYSTATUS:FREE
X-MICROSOFT-CDO-INTENDEDSTATUS:FREE
DTSTAMP:20260423T090720Z
BEGIN:VALARM
TRIGGER:-P1D
ACTION:DISPLAY
DESCRIPTION:Comp wedstrijd 483: FuTurAc - Versa Vervacke
END:VALARM
END:VEVENT
BEGIN:VEVENT
UID:69e9e1486c6f0
DTSTART:20260323T170000Z
SEQUENCE:0
TRANSP:OPAQUE
LOCATION:Rollegem
SUMMARY:Wedstrijd 511 KMVV
CLASS:PUBLIC
DESCRIPTION:Comp wedstrijd 511: Versa Vervacke - FC White Star
X-ALT-DESC;FMTTYPE=text/html:Comp wedstrijd 511: <b>Versa Vervacke - FC Whi
 te Star</b> te Rollegem
X-MICROSOFT-CDO-BUSYSTATUS:FREE
X-MICROSOFT-CDO-INTENDEDSTATUS:FREE
DTSTAMP:20260423T090720Z
BEGIN:VALARM
TRIGGER:-P1D
ACTION:DISPLAY
DESCRIPTION:Comp wedstrijd 511: Versa Vervacke - FC White Star
END:VALARM
END:VEVENT
BEGIN:VEVENT
UID:69e9e1486c70e
DTSTART:20260420T160000Z
SEQUENCE:0
TRANSP:OPAQUE
LOCATION:Rollegem
SUMMARY:Wedstrijd 573 KMVV
CLASS:PUBLIC
DESCRIPTION:Comp wedstrijd 573: Versa Vervacke - TD Decor
X-ALT-DESC;FMTTYPE=text/html:Comp wedstrijd 573: <b>Versa Vervacke - TD Dec
 or</b> te Rollegem
X-MICROSOFT-CDO-BUSYSTATUS:FREE
X-MICROSOFT-CDO-INTENDEDSTATUS:FREE
DTSTAMP:20260423T090720Z
BEGIN:VALARM
TRIGGER:-P1D
ACTION:DISPLAY
DESCRIPTION:Comp wedstrijd 573: Versa Vervacke - TD Decor
END:VALARM
END:VEVENT
BEGIN:VEVENT
UID:69e9e1486c722
DTSTART:20260430T170000Z
SEQUENCE:0
TRANSP:OPAQUE
LOCATION:Lagae
SUMMARY:Wedstrijd 605 KMVV
CLASS:PUBLIC
DESCRIPTION:Comp wedstrijd 605: Logiegrafix - Versa Vervacke
X-ALT-DESC;FMTTYPE=text/html:Comp wedstrijd 605: <b>Logiegrafix - Versa Ver
 vacke</b> te Lagae
X-MICROSOFT-CDO-BUSYSTATUS:FREE
X-MICROSOFT-CDO-INTENDEDSTATUS:FREE
DTSTAMP:20260423T090720Z
BEGIN:VALARM
TRIGGER:-P1D
ACTION:DISPLAY
DESCRIPTION:Comp wedstrijd 605: Logiegrafix - Versa Vervacke
END:VALARM
END:VEVENT
BEGIN:VEVENT
UID:69e9e1486c735
DTSTART:20260513T193000Z
SEQUENCE:0
TRANSP:OPAQUE
LOCATION:Bissegem
SUMMARY:Wedstrijd 638 KMVV
CLASS:PUBLIC
DESCRIPTION:Comp wedstrijd 638: Versa Vervacke - De vagant
X-ALT-DESC;FMTTYPE=text/html:Comp wedstrijd 638: <b>Versa Vervacke - De vag
 ant</b> te Bissegem
X-MICROSOFT-CDO-BUSYSTATUS:FREE
X-MICROSOFT-CDO-INTENDEDSTATUS:FREE
DTSTAMP:20260423T090720Z
BEGIN:VALARM
TRIGGER:-P1D
ACTION:DISPLAY
DESCRIPTION:Comp wedstrijd 638: Versa Vervacke - De vagant
END:VALARM
END:VEVENT
BEGIN:VEVENT
UID:69e9e1486c747
DTSTART:20260528T180000Z
SEQUENCE:0
TRANSP:OPAQUE
LOCATION:Bissegem
SUMMARY:Wedstrijd 673 KMVV
CLASS:PUBLIC
DESCRIPTION:Comp wedstrijd 673: Maba - Versa Vervacke
X-ALT-DESC;FMTTYPE=text/html:Comp wedstrijd 673: <b>Maba - Versa Vervacke</
 b> te Bissegem
X-MICROSOFT-CDO-BUSYSTATUS:FREE
X-MICROSOFT-CDO-INTENDEDSTATUS:FREE
DTSTAMP:20260423T090720Z
BEGIN:VALARM
TRIGGER:-P1D
ACTION:DISPLAY
DESCRIPTION:Comp wedstrijd 673: Maba - Versa Vervacke
END:VALARM
END:VEVENT
BEGIN:VEVENT
UID:69e9e1486c759
DTSTART:20260601T170000Z
SEQUENCE:0
TRANSP:OPAQUE
LOCATION:Rollegem
SUMMARY:Wedstrijd 688 KMVV
CLASS:PUBLIC
DESCRIPTION:Comp wedstrijd 688: Versa Vervacke - Goalkick Murphys
X-ALT-DESC;FMTTYPE=text/html:Comp wedstrijd 688: <b>Versa Vervacke - Goalki
 ck Murphys</b> te Rollegem
X-MICROSOFT-CDO-BUSYSTATUS:FREE
X-MICROSOFT-CDO-INTENDEDSTATUS:FREE
DTSTAMP:20260423T090720Z
BEGIN:VALARM
TRIGGER:-P1D
ACTION:DISPLAY
DESCRIPTION:Comp wedstrijd 688: Versa Vervacke - Goalkick Murphys
END:VALARM
END:VEVENT
BEGIN:VEVENT
UID:69e9e1486c76b
DTSTART:20260610T160000Z
SEQUENCE:0
TRANSP:OPAQUE
LOCATION:Rollegem
SUMMARY:Wedstrijd 729 KMVV
CLASS:PUBLIC
DESCRIPTION:Comp wedstrijd 729: Versa Vervacke - De Foodballers
X-ALT-DESC;FMTTYPE=text/html:Comp wedstrijd 729: <b>Versa Vervacke - De Foo
 dballers</b> te Rollegem
X-MICROSOFT-CDO-BUSYSTATUS:FREE
X-MICROSOFT-CDO-INTENDEDSTATUS:FREE
DTSTAMP:20260423T090720Z
BEGIN:VALARM
TRIGGER:-P1D
ACTION:DISPLAY
DESCRIPTION:Comp wedstrijd 729: Versa Vervacke - De Foodballers
END:VALARM
END:VEVENT
BEGIN:VEVENT
UID:69e9e1486c77d
DTSTART:20260618T190000Z
SEQUENCE:0
TRANSP:OPAQUE
LOCATION:Bissegem
SUMMARY:Wedstrijd 752 KMVV
CLASS:PUBLIC
DESCRIPTION:Comp wedstrijd 752: De Interistas - Versa Vervacke
X-ALT-DESC;FMTTYPE=text/html:Comp wedstrijd 752: <b>De Interistas - Versa V
 ervacke</b> te Bissegem
X-MICROSOFT-CDO-BUSYSTATUS:FREE
X-MICROSOFT-CDO-INTENDEDSTATUS:FREE
DTSTAMP:20260423T090720Z
BEGIN:VALARM
TRIGGER:-P1D
ACTION:DISPLAY
DESCRIPTION:Comp wedstrijd 752: De Interistas - Versa Vervacke
END:VALARM
END:VEVENT
BEGIN:VEVENT
UID:69e9e1486c78f
DTSTART:20260622T190000Z
SEQUENCE:0
TRANSP:OPAQUE
LOCATION:Rollegem
SUMMARY:Wedstrijd 780 KMVV
CLASS:PUBLIC
DESCRIPTION:Comp wedstrijd 780: Westerstrand - Versa Vervacke
X-ALT-DESC;FMTTYPE=text/html:Comp wedstrijd 780: <b>Westerstrand - Versa Ve
 rvacke</b> te Rollegem
X-MICROSOFT-CDO-BUSYSTATUS:FREE
X-MICROSOFT-CDO-INTENDEDSTATUS:FREE
DTSTAMP:20260423T090720Z
BEGIN:VALARM
TRIGGER:-P1D
ACTION:DISPLAY
DESCRIPTION:Comp wedstrijd 780: Westerstrand - Versa Vervacke
END:VALARM
END:VEVENT
END:VCALENDAR