BEGIN:VCALENDAR
VERSION:2.0
PRODID:www.kmvv.be
BEGIN:VEVENT
UID:69e9e10589af3
DTSTART:20250912T160000Z
SEQUENCE:0
TRANSP:OPAQUE
LOCATION:Rollegem
SUMMARY:Wedstrijd 39 KMVV
CLASS:PUBLIC
DESCRIPTION:Comp wedstrijd 39: Café Dudu - Goalkick Murphys
X-ALT-DESC;FMTTYPE=text/html:Comp wedstrijd 39: <b>Café Dudu - Goalkick Mu
 rphys</b> te Rollegem
X-MICROSOFT-CDO-BUSYSTATUS:FREE
X-MICROSOFT-CDO-INTENDEDSTATUS:FREE
DTSTAMP:20260423T090613Z
BEGIN:VALARM
TRIGGER:-P1D
ACTION:DISPLAY
DESCRIPTION:Comp wedstrijd 39: Café Dudu - Goalkick Murphys
END:VALARM
END:VEVENT
BEGIN:VEVENT
UID:69e9e10589ef5
DTSTART:20250915T190000Z
SEQUENCE:0
TRANSP:OPAQUE
LOCATION:Lagae
SUMMARY:Wedstrijd 45 KMVV
CLASS:PUBLIC
DESCRIPTION:Comp wedstrijd 45: Café Dudu - FC Avanco
X-ALT-DESC;FMTTYPE=text/html:Comp wedstrijd 45: <b>Café Dudu - FC Avanco</
 b> te Lagae
X-MICROSOFT-CDO-BUSYSTATUS:FREE
X-MICROSOFT-CDO-INTENDEDSTATUS:FREE
DTSTAMP:20260423T090613Z
BEGIN:VALARM
TRIGGER:-P1D
ACTION:DISPLAY
DESCRIPTION:Comp wedstrijd 45: Café Dudu - FC Avanco
END:VALARM
END:VEVENT
BEGIN:VEVENT
UID:69e9e10589f29
DTSTART:20250926T160000Z
SEQUENCE:0
TRANSP:OPAQUE
LOCATION:Rollegem
SUMMARY:Wedstrijd 79 KMVV
CLASS:PUBLIC
DESCRIPTION:Comp wedstrijd 79: Café Dudu - De Foodballers
X-ALT-DESC;FMTTYPE=text/html:Comp wedstrijd 79: <b>Café Dudu - De Foodball
 ers</b> te Rollegem
X-MICROSOFT-CDO-BUSYSTATUS:FREE
X-MICROSOFT-CDO-INTENDEDSTATUS:FREE
DTSTAMP:20260423T090613Z
BEGIN:VALARM
TRIGGER:-P1D
ACTION:DISPLAY
DESCRIPTION:Comp wedstrijd 79: Café Dudu - De Foodballers
END:VALARM
END:VEVENT
BEGIN:VEVENT
UID:69e9e10589f4c
DTSTART:20251010T160000Z
SEQUENCE:0
TRANSP:OPAQUE
LOCATION:Rollegem
SUMMARY:Wedstrijd 119 KMVV
CLASS:PUBLIC
DESCRIPTION:Comp wedstrijd 119: Coiffeurs City - Café Dudu
X-ALT-DESC;FMTTYPE=text/html:Comp wedstrijd 119: <b>Coiffeurs City - Café 
 Dudu</b> te Rollegem
X-MICROSOFT-CDO-BUSYSTATUS:FREE
X-MICROSOFT-CDO-INTENDEDSTATUS:FREE
DTSTAMP:20260423T090613Z
BEGIN:VALARM
TRIGGER:-P1D
ACTION:DISPLAY
DESCRIPTION:Comp wedstrijd 119: Coiffeurs City - Café Dudu
END:VALARM
END:VEVENT
BEGIN:VEVENT
UID:69e9e10589f6e
DTSTART:20251013T170000Z
SEQUENCE:0
TRANSP:OPAQUE
LOCATION:Lagae
SUMMARY:Wedstrijd 123 KMVV
CLASS:PUBLIC
DESCRIPTION:Comp wedstrijd 123: Café Dudu - De fruitsjotters
X-ALT-DESC;FMTTYPE=text/html:Comp wedstrijd 123: <b>Café Dudu - De fruitsj
 otters</b> te Lagae
X-MICROSOFT-CDO-BUSYSTATUS:FREE
X-MICROSOFT-CDO-INTENDEDSTATUS:FREE
DTSTAMP:20260423T090613Z
BEGIN:VALARM
TRIGGER:-P1D
ACTION:DISPLAY
DESCRIPTION:Comp wedstrijd 123: Café Dudu - De fruitsjotters
END:VALARM
END:VEVENT
BEGIN:VEVENT
UID:69e9e10589f8f
DTSTART:20251031T180000Z
SEQUENCE:0
TRANSP:OPAQUE
LOCATION:Rollegem
SUMMARY:Wedstrijd 179 KMVV
CLASS:PUBLIC
DESCRIPTION:Comp wedstrijd 179: Incognito - Café Dudu
X-ALT-DESC;FMTTYPE=text/html:Comp wedstrijd 179: <b>Incognito - Café Dudu<
 /b> te Rollegem
X-MICROSOFT-CDO-BUSYSTATUS:FREE
X-MICROSOFT-CDO-INTENDEDSTATUS:FREE
DTSTAMP:20260423T090613Z
BEGIN:VALARM
TRIGGER:-P1D
ACTION:DISPLAY
DESCRIPTION:Comp wedstrijd 179: Incognito - Café Dudu
END:VALARM
END:VEVENT
BEGIN:VEVENT
UID:69e9e10589fb5
DTSTART:20251103T190000Z
SEQUENCE:0
TRANSP:OPAQUE
LOCATION:Lagae
SUMMARY:Wedstrijd 183 KMVV
CLASS:PUBLIC
DESCRIPTION:Comp wedstrijd 183: Café Dudu - Electro Labarque
X-ALT-DESC;FMTTYPE=text/html:Comp wedstrijd 183: <b>Café Dudu - Electro La
 barque</b> te Lagae
X-MICROSOFT-CDO-BUSYSTATUS:FREE
X-MICROSOFT-CDO-INTENDEDSTATUS:FREE
DTSTAMP:20260423T090613Z
BEGIN:VALARM
TRIGGER:-P1D
ACTION:DISPLAY
DESCRIPTION:Comp wedstrijd 183: Café Dudu - Electro Labarque
END:VALARM
END:VEVENT
BEGIN:VEVENT
UID:69e9e10589fd6
DTSTART:20251120T193000Z
SEQUENCE:0
TRANSP:OPAQUE
LOCATION:Rollegem
SUMMARY:Wedstrijd 237 KMVV
CLASS:PUBLIC
DESCRIPTION:Comp wedstrijd 237: The red bastards - Café Dudu
X-ALT-DESC;FMTTYPE=text/html:Comp wedstrijd 237: <b>The red bastards - Caf
 é Dudu</b> te Rollegem
X-MICROSOFT-CDO-BUSYSTATUS:FREE
X-MICROSOFT-CDO-INTENDEDSTATUS:FREE
DTSTAMP:20260423T090613Z
BEGIN:VALARM
TRIGGER:-P1D
ACTION:DISPLAY
DESCRIPTION:Comp wedstrijd 237: The red bastards - Café Dudu
END:VALARM
END:VEVENT
BEGIN:VEVENT
UID:69e9e10589ff6
DTSTART:20251204T170000Z
SEQUENCE:0
TRANSP:OPAQUE
LOCATION:Lagae
SUMMARY:Wedstrijd 275 KMVV
CLASS:PUBLIC
DESCRIPTION:Comp wedstrijd 275: Café Dudu - MVC Marreva
X-ALT-DESC;FMTTYPE=text/html:Comp wedstrijd 275: <b>Café Dudu - MVC Marrev
 a</b> te Lagae
X-MICROSOFT-CDO-BUSYSTATUS:FREE
X-MICROSOFT-CDO-INTENDEDSTATUS:FREE
DTSTAMP:20260423T090613Z
BEGIN:VALARM
TRIGGER:-P1D
ACTION:DISPLAY
DESCRIPTION:Comp wedstrijd 275: Café Dudu - MVC Marreva
END:VALARM
END:VEVENT
BEGIN:VEVENT
UID:69e9e1058a016
DTSTART:20251218T203000Z
SEQUENCE:0
TRANSP:OPAQUE
LOCATION:Bissegem
SUMMARY:Wedstrijd 314 KMVV
CLASS:PUBLIC
DESCRIPTION:Comp wedstrijd 314: Garfield '85 - Café Dudu
X-ALT-DESC;FMTTYPE=text/html:Comp wedstrijd 314: <b>Garfield '85 - Café Du
 du</b> te Bissegem
X-MICROSOFT-CDO-BUSYSTATUS:FREE
X-MICROSOFT-CDO-INTENDEDSTATUS:FREE
DTSTAMP:20260423T090613Z
BEGIN:VALARM
TRIGGER:-P1D
ACTION:DISPLAY
DESCRIPTION:Comp wedstrijd 314: Garfield '85 - Café Dudu
END:VALARM
END:VEVENT
BEGIN:VEVENT
UID:69e9e1058a037
DTSTART:20260109T170000Z
SEQUENCE:0
TRANSP:OPAQUE
LOCATION:Rollegem
SUMMARY:Wedstrijd 356 KMVV
CLASS:PUBLIC
DESCRIPTION:Comp wedstrijd 356: Café Dudu - De Interistas
X-ALT-DESC;FMTTYPE=text/html:Comp wedstrijd 356: <b>Café Dudu - De Interis
 tas</b> te Rollegem
X-MICROSOFT-CDO-BUSYSTATUS:FREE
X-MICROSOFT-CDO-INTENDEDSTATUS:FREE
DTSTAMP:20260423T090613Z
BEGIN:VALARM
TRIGGER:-P1D
ACTION:DISPLAY
DESCRIPTION:Comp wedstrijd 356: Café Dudu - De Interistas
END:VALARM
END:VEVENT
BEGIN:VEVENT
UID:69e9e1058a056
DTSTART:20260116T170000Z
SEQUENCE:0
TRANSP:OPAQUE
LOCATION:Rollegem
SUMMARY:Wedstrijd 377 KMVV
CLASS:PUBLIC
DESCRIPTION:Comp wedstrijd 377: Logiegrafix - Café Dudu
X-ALT-DESC;FMTTYPE=text/html:Comp wedstrijd 377: <b>Logiegrafix - Café Dud
 u</b> te Rollegem
X-MICROSOFT-CDO-BUSYSTATUS:FREE
X-MICROSOFT-CDO-INTENDEDSTATUS:FREE
DTSTAMP:20260423T090613Z
BEGIN:VALARM
TRIGGER:-P1D
ACTION:DISPLAY
DESCRIPTION:Comp wedstrijd 377: Logiegrafix - Café Dudu
END:VALARM
END:VEVENT
BEGIN:VEVENT
UID:69e9e1058a075
DTSTART:20260119T180000Z
SEQUENCE:0
TRANSP:OPAQUE
LOCATION:Lagae
SUMMARY:Wedstrijd 381 KMVV
CLASS:PUBLIC
DESCRIPTION:Comp wedstrijd 381: Rosseeuw interieurs - Café Dudu
X-ALT-DESC;FMTTYPE=text/html:Comp wedstrijd 381: <b>Rosseeuw interieurs - C
 afé Dudu</b> te Lagae
X-MICROSOFT-CDO-BUSYSTATUS:FREE
X-MICROSOFT-CDO-INTENDEDSTATUS:FREE
DTSTAMP:20260423T090613Z
BEGIN:VALARM
TRIGGER:-P1D
ACTION:DISPLAY
DESCRIPTION:Comp wedstrijd 381: Rosseeuw interieurs - Café Dudu
END:VALARM
END:VEVENT
BEGIN:VEVENT
UID:69e9e1058a0ba
DTSTART:20260220T180000Z
SEQUENCE:0
TRANSP:OPAQUE
LOCATION:Rollegem
SUMMARY:Wedstrijd 425 KMVV
CLASS:PUBLIC
DESCRIPTION:Comp wedstrijd 425: MVC Beauty & More - Café Dudu
X-ALT-DESC;FMTTYPE=text/html:Comp wedstrijd 425: <b>MVC Beauty & More - Caf
 é Dudu</b> te Rollegem
X-MICROSOFT-CDO-BUSYSTATUS:FREE
X-MICROSOFT-CDO-INTENDEDSTATUS:FREE
DTSTAMP:20260423T090613Z
BEGIN:VALARM
TRIGGER:-P1D
ACTION:DISPLAY
DESCRIPTION:Comp wedstrijd 425: MVC Beauty & More - Café Dudu
END:VALARM
END:VEVENT
BEGIN:VEVENT
UID:69e9e1058a0da
DTSTART:20260227T180000Z
SEQUENCE:0
TRANSP:OPAQUE
LOCATION:Rollegem
SUMMARY:Wedstrijd 446 KMVV
CLASS:PUBLIC
DESCRIPTION:Comp wedstrijd 446: FC Tamzakken - Café Dudu
X-ALT-DESC;FMTTYPE=text/html:Comp wedstrijd 446: <b>FC Tamzakken - Café Du
 du</b> te Rollegem
X-MICROSOFT-CDO-BUSYSTATUS:FREE
X-MICROSOFT-CDO-INTENDEDSTATUS:FREE
DTSTAMP:20260423T090613Z
BEGIN:VALARM
TRIGGER:-P1D
ACTION:DISPLAY
DESCRIPTION:Comp wedstrijd 446: FC Tamzakken - Café Dudu
END:VALARM
END:VEVENT
BEGIN:VEVENT
UID:69e9e1058a0f8
DTSTART:20260311T200000Z
SEQUENCE:0
TRANSP:OPAQUE
LOCATION:Rollegem
SUMMARY:Wedstrijd 477 KMVV
CLASS:PUBLIC
DESCRIPTION:Comp wedstrijd 477: Zakouzkys - Café Dudu
X-ALT-DESC;FMTTYPE=text/html:Comp wedstrijd 477: <b>Zakouzkys - Café Dudu<
 /b> te Rollegem
X-MICROSOFT-CDO-BUSYSTATUS:FREE
X-MICROSOFT-CDO-INTENDEDSTATUS:FREE
DTSTAMP:20260423T090613Z
BEGIN:VALARM
TRIGGER:-P1D
ACTION:DISPLAY
DESCRIPTION:Comp wedstrijd 477: Zakouzkys - Café Dudu
END:VALARM
END:VEVENT
BEGIN:VEVENT
UID:69e9e1058a116
DTSTART:20260409T160000Z
SEQUENCE:0
TRANSP:OPAQUE
LOCATION:Lagae
SUMMARY:Wedstrijd 545 KMVV
CLASS:PUBLIC
DESCRIPTION:Comp wedstrijd 545: De fruitsjotters - Café Dudu
X-ALT-DESC;FMTTYPE=text/html:Comp wedstrijd 545: <b>De fruitsjotters - Caf
 é Dudu</b> te Lagae
X-MICROSOFT-CDO-BUSYSTATUS:FREE
X-MICROSOFT-CDO-INTENDEDSTATUS:FREE
DTSTAMP:20260423T090613Z
BEGIN:VALARM
TRIGGER:-P1D
ACTION:DISPLAY
DESCRIPTION:Comp wedstrijd 545: De fruitsjotters - Café Dudu
END:VALARM
END:VEVENT
BEGIN:VEVENT
UID:69e9e1058a136
DTSTART:20260413T190000Z
SEQUENCE:0
TRANSP:OPAQUE
LOCATION:Lagae
SUMMARY:Wedstrijd 537 KMVV
CLASS:PUBLIC
DESCRIPTION:Comp wedstrijd 537: Café Dudu - Twentyone Kortrijk
X-ALT-DESC;FMTTYPE=text/html:Comp wedstrijd 537: <b>Café Dudu - Twentyone 
 Kortrijk</b> te Lagae
X-MICROSOFT-CDO-BUSYSTATUS:FREE
X-MICROSOFT-CDO-INTENDEDSTATUS:FREE
DTSTAMP:20260423T090613Z
BEGIN:VALARM
TRIGGER:-P1D
ACTION:DISPLAY
DESCRIPTION:Comp wedstrijd 537: Café Dudu - Twentyone Kortrijk
END:VALARM
END:VEVENT
BEGIN:VEVENT
UID:69e9e1058a155
DTSTART:20260423T170000Z
SEQUENCE:0
TRANSP:OPAQUE
LOCATION:Lagae
SUMMARY:Wedstrijd 584 KMVV
CLASS:PUBLIC
DESCRIPTION:Comp wedstrijd 584: Café Dudu - MVC Frères Des Bières
X-ALT-DESC;FMTTYPE=text/html:Comp wedstrijd 584: <b>Café Dudu - MVC Frère
 s Des Bières</b> te Lagae
X-MICROSOFT-CDO-BUSYSTATUS:FREE
X-MICROSOFT-CDO-INTENDEDSTATUS:FREE
DTSTAMP:20260423T090613Z
BEGIN:VALARM
TRIGGER:-P1D
ACTION:DISPLAY
DESCRIPTION:Comp wedstrijd 584: Café Dudu - MVC Frères Des Bières
END:VALARM
END:VEVENT
BEGIN:VEVENT
UID:69e9e1058a174
DTSTART:20260506T193000Z
SEQUENCE:0
TRANSP:OPAQUE
LOCATION:Bissegem
SUMMARY:Wedstrijd 615 KMVV
CLASS:PUBLIC
DESCRIPTION:Comp wedstrijd 615: Electro Labarque - Café Dudu
X-ALT-DESC;FMTTYPE=text/html:Comp wedstrijd 615: <b>Electro Labarque - Caf
 é Dudu</b> te Bissegem
X-MICROSOFT-CDO-BUSYSTATUS:FREE
X-MICROSOFT-CDO-INTENDEDSTATUS:FREE
DTSTAMP:20260423T090613Z
BEGIN:VALARM
TRIGGER:-P1D
ACTION:DISPLAY
DESCRIPTION:Comp wedstrijd 615: Electro Labarque - Café Dudu
END:VALARM
END:VEVENT
BEGIN:VEVENT
UID:69e9e1058a193
DTSTART:20260520T173000Z
SEQUENCE:0
TRANSP:OPAQUE
LOCATION:Rollegem
SUMMARY:Wedstrijd 651 KMVV
CLASS:PUBLIC
DESCRIPTION:Comp wedstrijd 651: Café Dudu - The red bastards
X-ALT-DESC;FMTTYPE=text/html:Comp wedstrijd 651: <b>Café Dudu - The red ba
 stards</b> te Rollegem
X-MICROSOFT-CDO-BUSYSTATUS:FREE
X-MICROSOFT-CDO-INTENDEDSTATUS:FREE
DTSTAMP:20260423T090613Z
BEGIN:VALARM
TRIGGER:-P1D
ACTION:DISPLAY
DESCRIPTION:Comp wedstrijd 651: Café Dudu - The red bastards
END:VALARM
END:VEVENT
BEGIN:VEVENT
UID:69e9e1058a1b1
DTSTART:20260527T180000Z
SEQUENCE:0
TRANSP:OPAQUE
LOCATION:Bissegem
SUMMARY:Wedstrijd 666 KMVV
CLASS:PUBLIC
DESCRIPTION:Comp wedstrijd 666: MVC Marreva - Café Dudu
X-ALT-DESC;FMTTYPE=text/html:Comp wedstrijd 666: <b>MVC Marreva - Café Dud
 u</b> te Bissegem
X-MICROSOFT-CDO-BUSYSTATUS:FREE
X-MICROSOFT-CDO-INTENDEDSTATUS:FREE
DTSTAMP:20260423T090613Z
BEGIN:VALARM
TRIGGER:-P1D
ACTION:DISPLAY
DESCRIPTION:Comp wedstrijd 666: MVC Marreva - Café Dudu
END:VALARM
END:VEVENT
BEGIN:VEVENT
UID:69e9e1058a1d0
DTSTART:20260603T170000Z
SEQUENCE:0
TRANSP:OPAQUE
LOCATION:Bissegem
SUMMARY:Wedstrijd 694 KMVV
CLASS:PUBLIC
DESCRIPTION:Comp wedstrijd 694: Café Dudu - Joga Bonito FC
X-ALT-DESC;FMTTYPE=text/html:Comp wedstrijd 694: <b>Café Dudu - Joga Bonit
 o FC</b> te Bissegem
X-MICROSOFT-CDO-BUSYSTATUS:FREE
X-MICROSOFT-CDO-INTENDEDSTATUS:FREE
DTSTAMP:20260423T090613Z
BEGIN:VALARM
TRIGGER:-P1D
ACTION:DISPLAY
DESCRIPTION:Comp wedstrijd 694: Café Dudu - Joga Bonito FC
END:VALARM
END:VEVENT
BEGIN:VEVENT
UID:69e9e1058a1ef
DTSTART:20260611T160000Z
SEQUENCE:0
TRANSP:OPAQUE
LOCATION:Lagae
SUMMARY:Wedstrijd 736 KMVV
CLASS:PUBLIC
DESCRIPTION:Comp wedstrijd 736: St Antonius/Den Hert - Café Dudu
X-ALT-DESC;FMTTYPE=text/html:Comp wedstrijd 736: <b>St Antonius/Den Hert - 
 Café Dudu</b> te Lagae
X-MICROSOFT-CDO-BUSYSTATUS:FREE
X-MICROSOFT-CDO-INTENDEDSTATUS:FREE
DTSTAMP:20260423T090613Z
BEGIN:VALARM
TRIGGER:-P1D
ACTION:DISPLAY
DESCRIPTION:Comp wedstrijd 736: St Antonius/Den Hert - Café Dudu
END:VALARM
END:VEVENT
BEGIN:VEVENT
UID:69e9e1058a20d
DTSTART:20260622T170000Z
SEQUENCE:0
TRANSP:OPAQUE
LOCATION:Rollegem
SUMMARY:Wedstrijd 778 KMVV
CLASS:PUBLIC
DESCRIPTION:Comp wedstrijd 778: Café Dudu - Rosseeuw interieurs
X-ALT-DESC;FMTTYPE=text/html:Comp wedstrijd 778: <b>Café Dudu - Rosseeuw i
 nterieurs</b> te Rollegem
X-MICROSOFT-CDO-BUSYSTATUS:FREE
X-MICROSOFT-CDO-INTENDEDSTATUS:FREE
DTSTAMP:20260423T090613Z
BEGIN:VALARM
TRIGGER:-P1D
ACTION:DISPLAY
DESCRIPTION:Comp wedstrijd 778: Café Dudu - Rosseeuw interieurs
END:VALARM
END:VEVENT
END:VCALENDAR