BEGIN:VCALENDAR
VERSION:2.0
PRODID:www.kmvv.be
BEGIN:VEVENT
UID:69e9e1e889ef6
DTSTART:20250904T170000Z
SEQUENCE:0
TRANSP:OPAQUE
LOCATION:Lagae
SUMMARY:Wedstrijd 17 KMVV
CLASS:PUBLIC
DESCRIPTION:Comp wedstrijd 17: De fruitsjotters - Garfield '85
X-ALT-DESC;FMTTYPE=text/html:Comp wedstrijd 17: <b>De fruitsjotters - Garfi
 eld '85</b> te Lagae
X-MICROSOFT-CDO-BUSYSTATUS:FREE
X-MICROSOFT-CDO-INTENDEDSTATUS:FREE
DTSTAMP:20260423T091000Z
BEGIN:VALARM
TRIGGER:-P1D
ACTION:DISPLAY
DESCRIPTION:Comp wedstrijd 17: De fruitsjotters - Garfield '85
END:VALARM
END:VEVENT
BEGIN:VEVENT
UID:69e9e1e88a207
DTSTART:20250908T180000Z
SEQUENCE:0
TRANSP:OPAQUE
LOCATION:Lagae
SUMMARY:Wedstrijd 44 KMVV
CLASS:PUBLIC
DESCRIPTION:Comp wedstrijd 44: De fruitsjotters - Logiegrafix
X-ALT-DESC;FMTTYPE=text/html:Comp wedstrijd 44: <b>De fruitsjotters - Logie
 grafix</b> te Lagae
X-MICROSOFT-CDO-BUSYSTATUS:FREE
X-MICROSOFT-CDO-INTENDEDSTATUS:FREE
DTSTAMP:20260423T091000Z
BEGIN:VALARM
TRIGGER:-P1D
ACTION:DISPLAY
DESCRIPTION:Comp wedstrijd 44: De fruitsjotters - Logiegrafix
END:VALARM
END:VEVENT
BEGIN:VEVENT
UID:69e9e1e88a22a
DTSTART:20250929T160000Z
SEQUENCE:0
TRANSP:OPAQUE
LOCATION:Rollegem
SUMMARY:Wedstrijd 86 KMVV
CLASS:PUBLIC
DESCRIPTION:Comp wedstrijd 86: Goalkick Murphys - De fruitsjotters
X-ALT-DESC;FMTTYPE=text/html:Comp wedstrijd 86: <b>Goalkick Murphys - De fr
 uitsjotters</b> te Rollegem
X-MICROSOFT-CDO-BUSYSTATUS:FREE
X-MICROSOFT-CDO-INTENDEDSTATUS:FREE
DTSTAMP:20260423T091000Z
BEGIN:VALARM
TRIGGER:-P1D
ACTION:DISPLAY
DESCRIPTION:Comp wedstrijd 86: Goalkick Murphys - De fruitsjotters
END:VALARM
END:VEVENT
BEGIN:VEVENT
UID:69e9e1e88a242
DTSTART:20251006T160000Z
SEQUENCE:0
TRANSP:OPAQUE
LOCATION:Rollegem
SUMMARY:Wedstrijd 105 KMVV
CLASS:PUBLIC
DESCRIPTION:Comp wedstrijd 105: De fruitsjotters - Rosseeuw interieurs
X-ALT-DESC;FMTTYPE=text/html:Comp wedstrijd 105: <b>De fruitsjotters - Ross
 eeuw interieurs</b> te Rollegem
X-MICROSOFT-CDO-BUSYSTATUS:FREE
X-MICROSOFT-CDO-INTENDEDSTATUS:FREE
DTSTAMP:20260423T091000Z
BEGIN:VALARM
TRIGGER:-P1D
ACTION:DISPLAY
DESCRIPTION:Comp wedstrijd 105: De fruitsjotters - Rosseeuw interieurs
END:VALARM
END:VEVENT
BEGIN:VEVENT
UID:69e9e1e88a258
DTSTART:20251013T170000Z
SEQUENCE:0
TRANSP:OPAQUE
LOCATION:Lagae
SUMMARY:Wedstrijd 123 KMVV
CLASS:PUBLIC
DESCRIPTION:Comp wedstrijd 123: Café Dudu - De fruitsjotters
X-ALT-DESC;FMTTYPE=text/html:Comp wedstrijd 123: <b>Café Dudu - De fruitsj
 otters</b> te Lagae
X-MICROSOFT-CDO-BUSYSTATUS:FREE
X-MICROSOFT-CDO-INTENDEDSTATUS:FREE
DTSTAMP:20260423T091000Z
BEGIN:VALARM
TRIGGER:-P1D
ACTION:DISPLAY
DESCRIPTION:Comp wedstrijd 123: Café Dudu - De fruitsjotters
END:VALARM
END:VEVENT
BEGIN:VEVENT
UID:69e9e1e88a26d
DTSTART:20251023T173000Z
SEQUENCE:0
TRANSP:OPAQUE
LOCATION:Bissegem
SUMMARY:Wedstrijd 152 KMVV
CLASS:PUBLIC
DESCRIPTION:Comp wedstrijd 152: De fruitsjotters - De Foodballers
X-ALT-DESC;FMTTYPE=text/html:Comp wedstrijd 152: <b>De fruitsjotters - De F
 oodballers</b> te Bissegem
X-MICROSOFT-CDO-BUSYSTATUS:FREE
X-MICROSOFT-CDO-INTENDEDSTATUS:FREE
DTSTAMP:20260423T091000Z
BEGIN:VALARM
TRIGGER:-P1D
ACTION:DISPLAY
DESCRIPTION:Comp wedstrijd 152: De fruitsjotters - De Foodballers
END:VALARM
END:VEVENT
BEGIN:VEVENT
UID:69e9e1e88a281
DTSTART:20251110T193000Z
SEQUENCE:0
TRANSP:OPAQUE
LOCATION:Bissegem
SUMMARY:Wedstrijd 201 KMVV
CLASS:PUBLIC
DESCRIPTION:Comp wedstrijd 201: Coiffeurs City - De fruitsjotters
X-ALT-DESC;FMTTYPE=text/html:Comp wedstrijd 201: <b>Coiffeurs City - De fru
 itsjotters</b> te Bissegem
X-MICROSOFT-CDO-BUSYSTATUS:FREE
X-MICROSOFT-CDO-INTENDEDSTATUS:FREE
DTSTAMP:20260423T091000Z
BEGIN:VALARM
TRIGGER:-P1D
ACTION:DISPLAY
DESCRIPTION:Comp wedstrijd 201: Coiffeurs City - De fruitsjotters
END:VALARM
END:VEVENT
BEGIN:VEVENT
UID:69e9e1e88a296
DTSTART:20251127T180000Z
SEQUENCE:0
TRANSP:OPAQUE
LOCATION:Lagae
SUMMARY:Wedstrijd 236 KMVV
CLASS:PUBLIC
DESCRIPTION:Comp wedstrijd 236: De fruitsjotters - FC Avanco
X-ALT-DESC;FMTTYPE=text/html:Comp wedstrijd 236: <b>De fruitsjotters - FC A
 vanco</b> te Lagae
X-MICROSOFT-CDO-BUSYSTATUS:FREE
X-MICROSOFT-CDO-INTENDEDSTATUS:FREE
DTSTAMP:20260423T091000Z
BEGIN:VALARM
TRIGGER:-P1D
ACTION:DISPLAY
DESCRIPTION:Comp wedstrijd 236: De fruitsjotters - FC Avanco
END:VALARM
END:VEVENT
BEGIN:VEVENT
UID:69e9e1e88a2a9
DTSTART:20251204T203000Z
SEQUENCE:0
TRANSP:OPAQUE
LOCATION:Rollegem
SUMMARY:Wedstrijd 278 KMVV
CLASS:PUBLIC
DESCRIPTION:Comp wedstrijd 278: De fruitsjotters - Incognito
X-ALT-DESC;FMTTYPE=text/html:Comp wedstrijd 278: <b>De fruitsjotters - Inco
 gnito</b> te Rollegem
X-MICROSOFT-CDO-BUSYSTATUS:FREE
X-MICROSOFT-CDO-INTENDEDSTATUS:FREE
DTSTAMP:20260423T091000Z
BEGIN:VALARM
TRIGGER:-P1D
ACTION:DISPLAY
DESCRIPTION:Comp wedstrijd 278: De fruitsjotters - Incognito
END:VALARM
END:VEVENT
BEGIN:VEVENT
UID:69e9e1e88a2bc
DTSTART:20251218T203000Z
SEQUENCE:0
TRANSP:OPAQUE
LOCATION:Rollegem
SUMMARY:Wedstrijd 318 KMVV
CLASS:PUBLIC
DESCRIPTION:Comp wedstrijd 318: Electro Labarque - De fruitsjotters
X-ALT-DESC;FMTTYPE=text/html:Comp wedstrijd 318: <b>Electro Labarque - De f
 ruitsjotters</b> te Rollegem
X-MICROSOFT-CDO-BUSYSTATUS:FREE
X-MICROSOFT-CDO-INTENDEDSTATUS:FREE
DTSTAMP:20260423T091000Z
BEGIN:VALARM
TRIGGER:-P1D
ACTION:DISPLAY
DESCRIPTION:Comp wedstrijd 318: Electro Labarque - De fruitsjotters
END:VALARM
END:VEVENT
BEGIN:VEVENT
UID:69e9e1e88a2d9
DTSTART:20260108T203000Z
SEQUENCE:0
TRANSP:OPAQUE
LOCATION:Bissegem
SUMMARY:Wedstrijd 353 KMVV
CLASS:PUBLIC
DESCRIPTION:Comp wedstrijd 353: De fruitsjotters - The red bastards
X-ALT-DESC;FMTTYPE=text/html:Comp wedstrijd 353: <b>De fruitsjotters - The 
 red bastards</b> te Bissegem
X-MICROSOFT-CDO-BUSYSTATUS:FREE
X-MICROSOFT-CDO-INTENDEDSTATUS:FREE
DTSTAMP:20260423T091000Z
BEGIN:VALARM
TRIGGER:-P1D
ACTION:DISPLAY
DESCRIPTION:Comp wedstrijd 353: De fruitsjotters - The red bastards
END:VALARM
END:VEVENT
BEGIN:VEVENT
UID:69e9e1e88a2ed
DTSTART:20260112T170000Z
SEQUENCE:0
TRANSP:OPAQUE
LOCATION:Rollegem
SUMMARY:Wedstrijd 363 KMVV
CLASS:PUBLIC
DESCRIPTION:Comp wedstrijd 363: MVC Marreva - De fruitsjotters
X-ALT-DESC;FMTTYPE=text/html:Comp wedstrijd 363: <b>MVC Marreva - De fruits
 jotters</b> te Rollegem
X-MICROSOFT-CDO-BUSYSTATUS:FREE
X-MICROSOFT-CDO-INTENDEDSTATUS:FREE
DTSTAMP:20260423T091000Z
BEGIN:VALARM
TRIGGER:-P1D
ACTION:DISPLAY
DESCRIPTION:Comp wedstrijd 363: MVC Marreva - De fruitsjotters
END:VALARM
END:VEVENT
BEGIN:VEVENT
UID:69e9e1e88a301
DTSTART:20260119T200000Z
SEQUENCE:0
TRANSP:OPAQUE
LOCATION:Lagae
SUMMARY:Wedstrijd 383 KMVV
CLASS:PUBLIC
DESCRIPTION:Comp wedstrijd 383: De Interistas - De fruitsjotters
X-ALT-DESC;FMTTYPE=text/html:Comp wedstrijd 383: <b>De Interistas - De frui
 tsjotters</b> te Lagae
X-MICROSOFT-CDO-BUSYSTATUS:FREE
X-MICROSOFT-CDO-INTENDEDSTATUS:FREE
DTSTAMP:20260423T091000Z
BEGIN:VALARM
TRIGGER:-P1D
ACTION:DISPLAY
DESCRIPTION:Comp wedstrijd 383: De Interistas - De fruitsjotters
END:VALARM
END:VEVENT
BEGIN:VEVENT
UID:69e9e1e88a317
DTSTART:20260216T193000Z
SEQUENCE:0
TRANSP:OPAQUE
LOCATION:Bissegem
SUMMARY:Wedstrijd 407 KMVV
CLASS:PUBLIC
DESCRIPTION:Comp wedstrijd 407: Joga Bonito FC - De fruitsjotters
X-ALT-DESC;FMTTYPE=text/html:Comp wedstrijd 407: <b>Joga Bonito FC - De fru
 itsjotters</b> te Bissegem
X-MICROSOFT-CDO-BUSYSTATUS:FREE
X-MICROSOFT-CDO-INTENDEDSTATUS:FREE
DTSTAMP:20260423T091000Z
BEGIN:VALARM
TRIGGER:-P1D
ACTION:DISPLAY
DESCRIPTION:Comp wedstrijd 407: Joga Bonito FC - De fruitsjotters
END:VALARM
END:VEVENT
BEGIN:VEVENT
UID:69e9e1e88a32b
DTSTART:20260312T183000Z
SEQUENCE:0
TRANSP:OPAQUE
LOCATION:Bissegem
SUMMARY:Wedstrijd 478 KMVV
CLASS:PUBLIC
DESCRIPTION:Comp wedstrijd 478: De fruitsjotters - MVC Beauty & More
X-ALT-DESC;FMTTYPE=text/html:Comp wedstrijd 478: <b>De fruitsjotters - MVC 
 Beauty & More</b> te Bissegem
X-MICROSOFT-CDO-BUSYSTATUS:FREE
X-MICROSOFT-CDO-INTENDEDSTATUS:FREE
DTSTAMP:20260423T091000Z
BEGIN:VALARM
TRIGGER:-P1D
ACTION:DISPLAY
DESCRIPTION:Comp wedstrijd 478: De fruitsjotters - MVC Beauty & More
END:VALARM
END:VEVENT
BEGIN:VEVENT
UID:69e9e1e88a33d
DTSTART:20260323T190000Z
SEQUENCE:0
TRANSP:OPAQUE
LOCATION:Lagae
SUMMARY:Wedstrijd 509 KMVV
CLASS:PUBLIC
DESCRIPTION:Comp wedstrijd 509: Rosseeuw interieurs - De fruitsjotters
X-ALT-DESC;FMTTYPE=text/html:Comp wedstrijd 509: <b>Rosseeuw interieurs - D
 e fruitsjotters</b> te Lagae
X-MICROSOFT-CDO-BUSYSTATUS:FREE
X-MICROSOFT-CDO-INTENDEDSTATUS:FREE
DTSTAMP:20260423T091000Z
BEGIN:VALARM
TRIGGER:-P1D
ACTION:DISPLAY
DESCRIPTION:Comp wedstrijd 509: Rosseeuw interieurs - De fruitsjotters
END:VALARM
END:VEVENT
BEGIN:VEVENT
UID:69e9e1e88a350
DTSTART:20260409T160000Z
SEQUENCE:0
TRANSP:OPAQUE
LOCATION:Lagae
SUMMARY:Wedstrijd 545 KMVV
CLASS:PUBLIC
DESCRIPTION:Comp wedstrijd 545: De fruitsjotters - Café Dudu
X-ALT-DESC;FMTTYPE=text/html:Comp wedstrijd 545: <b>De fruitsjotters - Caf
 é Dudu</b> te Lagae
X-MICROSOFT-CDO-BUSYSTATUS:FREE
X-MICROSOFT-CDO-INTENDEDSTATUS:FREE
DTSTAMP:20260423T091000Z
BEGIN:VALARM
TRIGGER:-P1D
ACTION:DISPLAY
DESCRIPTION:Comp wedstrijd 545: De fruitsjotters - Café Dudu
END:VALARM
END:VEVENT
BEGIN:VEVENT
UID:69e9e1e88a363
DTSTART:20260416T173000Z
SEQUENCE:0
TRANSP:OPAQUE
LOCATION:Bissegem
SUMMARY:Wedstrijd 561 KMVV
CLASS:PUBLIC
DESCRIPTION:Comp wedstrijd 561: Zakouzkys - De fruitsjotters
X-ALT-DESC;FMTTYPE=text/html:Comp wedstrijd 561: <b>Zakouzkys - De fruitsjo
 tters</b> te Bissegem
X-MICROSOFT-CDO-BUSYSTATUS:FREE
X-MICROSOFT-CDO-INTENDEDSTATUS:FREE
DTSTAMP:20260423T091000Z
BEGIN:VALARM
TRIGGER:-P1D
ACTION:DISPLAY
DESCRIPTION:Comp wedstrijd 561: Zakouzkys - De fruitsjotters
END:VALARM
END:VEVENT
BEGIN:VEVENT
UID:69e9e1e88a375
DTSTART:20260504T160000Z
SEQUENCE:0
TRANSP:OPAQUE
LOCATION:Rollegem
SUMMARY:Wedstrijd 611 KMVV
CLASS:PUBLIC
DESCRIPTION:Comp wedstrijd 611: De fruitsjotters - Twentyone Kortrijk
X-ALT-DESC;FMTTYPE=text/html:Comp wedstrijd 611: <b>De fruitsjotters - Twen
 tyone Kortrijk</b> te Rollegem
X-MICROSOFT-CDO-BUSYSTATUS:FREE
X-MICROSOFT-CDO-INTENDEDSTATUS:FREE
DTSTAMP:20260423T091000Z
BEGIN:VALARM
TRIGGER:-P1D
ACTION:DISPLAY
DESCRIPTION:Comp wedstrijd 611: De fruitsjotters - Twentyone Kortrijk
END:VALARM
END:VEVENT
BEGIN:VEVENT
UID:69e9e1e88a388
DTSTART:20260527T190000Z
SEQUENCE:0
TRANSP:OPAQUE
LOCATION:Bissegem
SUMMARY:Wedstrijd 667 KMVV
CLASS:PUBLIC
DESCRIPTION:Comp wedstrijd 667: FC Tamzakken - De fruitsjotters
X-ALT-DESC;FMTTYPE=text/html:Comp wedstrijd 667: <b>FC Tamzakken - De fruit
 sjotters</b> te Bissegem
X-MICROSOFT-CDO-BUSYSTATUS:FREE
X-MICROSOFT-CDO-INTENDEDSTATUS:FREE
DTSTAMP:20260423T091000Z
BEGIN:VALARM
TRIGGER:-P1D
ACTION:DISPLAY
DESCRIPTION:Comp wedstrijd 667: FC Tamzakken - De fruitsjotters
END:VALARM
END:VEVENT
BEGIN:VEVENT
UID:69e9e1e88a3a1
DTSTART:20260603T190000Z
SEQUENCE:0
TRANSP:OPAQUE
LOCATION:Bissegem
SUMMARY:Wedstrijd 696 KMVV
CLASS:PUBLIC
DESCRIPTION:Comp wedstrijd 696: De fruitsjotters - Electro Labarque
X-ALT-DESC;FMTTYPE=text/html:Comp wedstrijd 696: <b>De fruitsjotters - Elec
 tro Labarque</b> te Bissegem
X-MICROSOFT-CDO-BUSYSTATUS:FREE
X-MICROSOFT-CDO-INTENDEDSTATUS:FREE
DTSTAMP:20260423T091000Z
BEGIN:VALARM
TRIGGER:-P1D
ACTION:DISPLAY
DESCRIPTION:Comp wedstrijd 696: De fruitsjotters - Electro Labarque
END:VALARM
END:VEVENT
BEGIN:VEVENT
UID:69e9e1e88a3b4
DTSTART:20260608T183000Z
SEQUENCE:0
TRANSP:OPAQUE
LOCATION:Bissegem
SUMMARY:Wedstrijd 714 KMVV
CLASS:PUBLIC
DESCRIPTION:Comp wedstrijd 714: The red bastards - De fruitsjotters
X-ALT-DESC;FMTTYPE=text/html:Comp wedstrijd 714: <b>The red bastards - De f
 ruitsjotters</b> te Bissegem
X-MICROSOFT-CDO-BUSYSTATUS:FREE
X-MICROSOFT-CDO-INTENDEDSTATUS:FREE
DTSTAMP:20260423T091000Z
BEGIN:VALARM
TRIGGER:-P1D
ACTION:DISPLAY
DESCRIPTION:Comp wedstrijd 714: The red bastards - De fruitsjotters
END:VALARM
END:VEVENT
BEGIN:VEVENT
UID:69e9e1e88a3c6
DTSTART:20260618T180000Z
SEQUENCE:0
TRANSP:OPAQUE
LOCATION:Bissegem
SUMMARY:Wedstrijd 763 KMVV
CLASS:PUBLIC
DESCRIPTION:Comp wedstrijd 763: De fruitsjotters - MVC Marreva
X-ALT-DESC;FMTTYPE=text/html:Comp wedstrijd 763: <b>De fruitsjotters - MVC 
 Marreva</b> te Bissegem
X-MICROSOFT-CDO-BUSYSTATUS:FREE
X-MICROSOFT-CDO-INTENDEDSTATUS:FREE
DTSTAMP:20260423T091000Z
BEGIN:VALARM
TRIGGER:-P1D
ACTION:DISPLAY
DESCRIPTION:Comp wedstrijd 763: De fruitsjotters - MVC Marreva
END:VALARM
END:VEVENT
BEGIN:VEVENT
UID:69e9e1e88a3d8
DTSTART:20260622T170000Z
SEQUENCE:0
TRANSP:OPAQUE
LOCATION:Lagae
SUMMARY:Wedstrijd 775 KMVV
CLASS:PUBLIC
DESCRIPTION:Comp wedstrijd 775: De fruitsjotters - St Antonius/Den Hert
X-ALT-DESC;FMTTYPE=text/html:Comp wedstrijd 775: <b>De fruitsjotters - St A
 ntonius/Den Hert</b> te Lagae
X-MICROSOFT-CDO-BUSYSTATUS:FREE
X-MICROSOFT-CDO-INTENDEDSTATUS:FREE
DTSTAMP:20260423T091000Z
BEGIN:VALARM
TRIGGER:-P1D
ACTION:DISPLAY
DESCRIPTION:Comp wedstrijd 775: De fruitsjotters - St Antonius/Den Hert
END:VALARM
END:VEVENT
BEGIN:VEVENT
UID:69e9e1e88a3ea
DTSTART:20260629T193000Z
SEQUENCE:0
TRANSP:OPAQUE
LOCATION:Bissegem
SUMMARY:Wedstrijd 803 KMVV
CLASS:PUBLIC
DESCRIPTION:Comp wedstrijd 803: MVC Frères Des Bières - De fruitsjotters
X-ALT-DESC;FMTTYPE=text/html:Comp wedstrijd 803: <b>MVC Frères Des Bières
  - De fruitsjotters</b> te Bissegem
X-MICROSOFT-CDO-BUSYSTATUS:FREE
X-MICROSOFT-CDO-INTENDEDSTATUS:FREE
DTSTAMP:20260423T091000Z
BEGIN:VALARM
TRIGGER:-P1D
ACTION:DISPLAY
DESCRIPTION:Comp wedstrijd 803: MVC Frères Des Bières - De fruitsjotters
END:VALARM
END:VEVENT
END:VCALENDAR