BEGIN:VCALENDAR
VERSION:2.0
PRODID:www.kmvv.be
BEGIN:VEVENT
UID:69e9e2046d377
DTSTART:20250911T193000Z
SEQUENCE:0
TRANSP:OPAQUE
LOCATION:Bissegem
SUMMARY:Wedstrijd 34 KMVV
CLASS:PUBLIC
DESCRIPTION:Comp wedstrijd 34: Sporting Artois - MVC Frères Des Bières
X-ALT-DESC;FMTTYPE=text/html:Comp wedstrijd 34: <b>Sporting Artois - MVC Fr
 ères Des Bières</b> te Bissegem
X-MICROSOFT-CDO-BUSYSTATUS:FREE
X-MICROSOFT-CDO-INTENDEDSTATUS:FREE
DTSTAMP:20260423T091028Z
BEGIN:VALARM
TRIGGER:-P1D
ACTION:DISPLAY
DESCRIPTION:Comp wedstrijd 34: Sporting Artois - MVC Frères Des Bières
END:VALARM
END:VEVENT
BEGIN:VEVENT
UID:69e9e2046d6ce
DTSTART:20250918T173000Z
SEQUENCE:0
TRANSP:OPAQUE
LOCATION:Bissegem
SUMMARY:Wedstrijd 53 KMVV
CLASS:PUBLIC
DESCRIPTION:Comp wedstrijd 53: Pep.link - MVC Frères Des Bières
X-ALT-DESC;FMTTYPE=text/html:Comp wedstrijd 53: <b>Pep.link - MVC Frères D
 es Bières</b> te Bissegem
X-MICROSOFT-CDO-BUSYSTATUS:FREE
X-MICROSOFT-CDO-INTENDEDSTATUS:FREE
DTSTAMP:20260423T091028Z
BEGIN:VALARM
TRIGGER:-P1D
ACTION:DISPLAY
DESCRIPTION:Comp wedstrijd 53: Pep.link - MVC Frères Des Bières
END:VALARM
END:VEVENT
BEGIN:VEVENT
UID:69e9e2046d6fd
DTSTART:20251002T193000Z
SEQUENCE:0
TRANSP:OPAQUE
LOCATION:Bissegem
SUMMARY:Wedstrijd 95 KMVV
CLASS:PUBLIC
DESCRIPTION:Comp wedstrijd 95: MVC Frères Des Bières - KV Cortoriacum
X-ALT-DESC;FMTTYPE=text/html:Comp wedstrijd 95: <b>MVC Frères Des Bières 
 - KV Cortoriacum</b> te Bissegem
X-MICROSOFT-CDO-BUSYSTATUS:FREE
X-MICROSOFT-CDO-INTENDEDSTATUS:FREE
DTSTAMP:20260423T091028Z
BEGIN:VALARM
TRIGGER:-P1D
ACTION:DISPLAY
DESCRIPTION:Comp wedstrijd 95: MVC Frères Des Bières - KV Cortoriacum
END:VALARM
END:VEVENT
BEGIN:VEVENT
UID:69e9e2046d719
DTSTART:20251013T180000Z
SEQUENCE:0
TRANSP:OPAQUE
LOCATION:Lagae
SUMMARY:Wedstrijd 125 KMVV
CLASS:PUBLIC
DESCRIPTION:Comp wedstrijd 125: Descaplant - MVC Frères Des Bières
X-ALT-DESC;FMTTYPE=text/html:Comp wedstrijd 125: <b>Descaplant - MVC Frère
 s Des Bières</b> te Lagae
X-MICROSOFT-CDO-BUSYSTATUS:FREE
X-MICROSOFT-CDO-INTENDEDSTATUS:FREE
DTSTAMP:20260423T091028Z
BEGIN:VALARM
TRIGGER:-P1D
ACTION:DISPLAY
DESCRIPTION:Comp wedstrijd 125: Descaplant - MVC Frères Des Bières
END:VALARM
END:VEVENT
BEGIN:VEVENT
UID:69e9e2046d73d
DTSTART:20251024T170000Z
SEQUENCE:0
TRANSP:OPAQUE
LOCATION:Rollegem
SUMMARY:Wedstrijd 160 KMVV
CLASS:PUBLIC
DESCRIPTION:Comp wedstrijd 160: MVC Frères Des Bières - MVC Baliboys
X-ALT-DESC;FMTTYPE=text/html:Comp wedstrijd 160: <b>MVC Frères Des Bières
  - MVC Baliboys</b> te Rollegem
X-MICROSOFT-CDO-BUSYSTATUS:FREE
X-MICROSOFT-CDO-INTENDEDSTATUS:FREE
DTSTAMP:20260423T091028Z
BEGIN:VALARM
TRIGGER:-P1D
ACTION:DISPLAY
DESCRIPTION:Comp wedstrijd 160: MVC Frères Des Bières - MVC Baliboys
END:VALARM
END:VEVENT
BEGIN:VEVENT
UID:69e9e2046d75f
DTSTART:20251105T203000Z
SEQUENCE:0
TRANSP:OPAQUE
LOCATION:Bissegem
SUMMARY:Wedstrijd 189 KMVV
CLASS:PUBLIC
DESCRIPTION:Comp wedstrijd 189: Joga Bonito FC - MVC Frères Des Bières
X-ALT-DESC;FMTTYPE=text/html:Comp wedstrijd 189: <b>Joga Bonito FC - MVC Fr
 ères Des Bières</b> te Bissegem
X-MICROSOFT-CDO-BUSYSTATUS:FREE
X-MICROSOFT-CDO-INTENDEDSTATUS:FREE
DTSTAMP:20260423T091028Z
BEGIN:VALARM
TRIGGER:-P1D
ACTION:DISPLAY
DESCRIPTION:Comp wedstrijd 189: Joga Bonito FC - MVC Frères Des Bières
END:VALARM
END:VEVENT
BEGIN:VEVENT
UID:69e9e2046d77e
DTSTART:20251110T190000Z
SEQUENCE:0
TRANSP:OPAQUE
LOCATION:Lagae
SUMMARY:Wedstrijd 204 KMVV
CLASS:PUBLIC
DESCRIPTION:Comp wedstrijd 204: MVC Frères Des Bières - FC Tamzakken
X-ALT-DESC;FMTTYPE=text/html:Comp wedstrijd 204: <b>MVC Frères Des Bières
  - FC Tamzakken</b> te Lagae
X-MICROSOFT-CDO-BUSYSTATUS:FREE
X-MICROSOFT-CDO-INTENDEDSTATUS:FREE
DTSTAMP:20260423T091028Z
BEGIN:VALARM
TRIGGER:-P1D
ACTION:DISPLAY
DESCRIPTION:Comp wedstrijd 204: MVC Frères Des Bières - FC Tamzakken
END:VALARM
END:VEVENT
BEGIN:VEVENT
UID:69e9e2046d79d
DTSTART:20251127T193000Z
SEQUENCE:0
TRANSP:OPAQUE
LOCATION:Bissegem
SUMMARY:Wedstrijd 254 KMVV
CLASS:PUBLIC
DESCRIPTION:Comp wedstrijd 254: MVC 't Koningshof - MVC Frères Des Bières
X-ALT-DESC;FMTTYPE=text/html:Comp wedstrijd 254: <b>MVC 't Koningshof - MVC
  Frères Des Bières</b> te Bissegem
X-MICROSOFT-CDO-BUSYSTATUS:FREE
X-MICROSOFT-CDO-INTENDEDSTATUS:FREE
DTSTAMP:20260423T091028Z
BEGIN:VALARM
TRIGGER:-P1D
ACTION:DISPLAY
DESCRIPTION:Comp wedstrijd 254: MVC 't Koningshof - MVC Frères Des Bières
END:VALARM
END:VEVENT
BEGIN:VEVENT
UID:69e9e2046d7bb
DTSTART:20251201T190000Z
SEQUENCE:0
TRANSP:OPAQUE
LOCATION:Lagae
SUMMARY:Wedstrijd 263 KMVV
CLASS:PUBLIC
DESCRIPTION:Comp wedstrijd 263: MVC Frères Des Bières - CSR
X-ALT-DESC;FMTTYPE=text/html:Comp wedstrijd 263: <b>MVC Frères Des Bières
  - CSR</b> te Lagae
X-MICROSOFT-CDO-BUSYSTATUS:FREE
X-MICROSOFT-CDO-INTENDEDSTATUS:FREE
DTSTAMP:20260423T091028Z
BEGIN:VALARM
TRIGGER:-P1D
ACTION:DISPLAY
DESCRIPTION:Comp wedstrijd 263: MVC Frères Des Bières - CSR
END:VALARM
END:VEVENT
BEGIN:VEVENT
UID:69e9e2046d7db
DTSTART:20251215T203000Z
SEQUENCE:0
TRANSP:OPAQUE
LOCATION:Bissegem
SUMMARY:Wedstrijd 301 KMVV
CLASS:PUBLIC
DESCRIPTION:Comp wedstrijd 301: Twentyone Kortrijk - MVC Frères Des Bière
 s
X-ALT-DESC;FMTTYPE=text/html:Comp wedstrijd 301: <b>Twentyone Kortrijk - MV
 C Frères Des Bières</b> te Bissegem
X-MICROSOFT-CDO-BUSYSTATUS:FREE
X-MICROSOFT-CDO-INTENDEDSTATUS:FREE
DTSTAMP:20260423T091028Z
BEGIN:VALARM
TRIGGER:-P1D
ACTION:DISPLAY
DESCRIPTION:Comp wedstrijd 301: Twentyone Kortrijk - MVC Frères Des Bière
 s
END:VALARM
END:VEVENT
BEGIN:VEVENT
UID:69e9e2046d80c
DTSTART:20260114T203000Z
SEQUENCE:0
TRANSP:OPAQUE
LOCATION:Bissegem
SUMMARY:Wedstrijd 367 KMVV
CLASS:PUBLIC
DESCRIPTION:Comp wedstrijd 367: MVC Frères Des Bières - FC Eagles
X-ALT-DESC;FMTTYPE=text/html:Comp wedstrijd 367: <b>MVC Frères Des Bières
  - FC Eagles</b> te Bissegem
X-MICROSOFT-CDO-BUSYSTATUS:FREE
X-MICROSOFT-CDO-INTENDEDSTATUS:FREE
DTSTAMP:20260423T091028Z
BEGIN:VALARM
TRIGGER:-P1D
ACTION:DISPLAY
DESCRIPTION:Comp wedstrijd 367: MVC Frères Des Bières - FC Eagles
END:VALARM
END:VEVENT
BEGIN:VEVENT
UID:69e9e2046d82d
DTSTART:20260126T203000Z
SEQUENCE:0
TRANSP:OPAQUE
LOCATION:Bissegem
SUMMARY:Wedstrijd 399 KMVV
CLASS:PUBLIC
DESCRIPTION:Comp wedstrijd 399: MVC Frères Des Bières - MVC Eirekedeirie
X-ALT-DESC;FMTTYPE=text/html:Comp wedstrijd 399: <b>MVC Frères Des Bières
  - MVC Eirekedeirie</b> te Bissegem
X-MICROSOFT-CDO-BUSYSTATUS:FREE
X-MICROSOFT-CDO-INTENDEDSTATUS:FREE
DTSTAMP:20260423T091028Z
BEGIN:VALARM
TRIGGER:-P1D
ACTION:DISPLAY
DESCRIPTION:Comp wedstrijd 399: MVC Frères Des Bières - MVC Eirekedeirie
END:VALARM
END:VEVENT
BEGIN:VEVENT
UID:69e9e2046d84b
DTSTART:20260129T193000Z
SEQUENCE:0
TRANSP:OPAQUE
LOCATION:Rollegem
SUMMARY:Wedstrijd 348 KMVV
CLASS:PUBLIC
DESCRIPTION:Comp wedstrijd 348: Fintro Kortrijk-DMVD - MVC Frères Des Biè
 res
X-ALT-DESC;FMTTYPE=text/html:Comp wedstrijd 348: <b>Fintro Kortrijk-DMVD - 
 MVC Frères Des Bières</b> te Rollegem
X-MICROSOFT-CDO-BUSYSTATUS:FREE
X-MICROSOFT-CDO-INTENDEDSTATUS:FREE
DTSTAMP:20260423T091028Z
BEGIN:VALARM
TRIGGER:-P1D
ACTION:DISPLAY
DESCRIPTION:Comp wedstrijd 348: Fintro Kortrijk-DMVD - MVC Frères Des Biè
 res
END:VALARM
END:VEVENT
BEGIN:VEVENT
UID:69e9e2046d86b
DTSTART:20260225T200000Z
SEQUENCE:0
TRANSP:OPAQUE
LOCATION:Rollegem
SUMMARY:Wedstrijd 437 KMVV
CLASS:PUBLIC
DESCRIPTION:Comp wedstrijd 437: MVC Marreva - MVC Frères Des Bières
X-ALT-DESC;FMTTYPE=text/html:Comp wedstrijd 437: <b>MVC Marreva - MVC Frèr
 es Des Bières</b> te Rollegem
X-MICROSOFT-CDO-BUSYSTATUS:FREE
X-MICROSOFT-CDO-INTENDEDSTATUS:FREE
DTSTAMP:20260423T091028Z
BEGIN:VALARM
TRIGGER:-P1D
ACTION:DISPLAY
DESCRIPTION:Comp wedstrijd 437: MVC Marreva - MVC Frères Des Bières
END:VALARM
END:VEVENT
BEGIN:VEVENT
UID:69e9e2046d88b
DTSTART:20260305T193000Z
SEQUENCE:0
TRANSP:OPAQUE
LOCATION:Bissegem
SUMMARY:Wedstrijd 461 KMVV
CLASS:PUBLIC
DESCRIPTION:Comp wedstrijd 461: St Antonius/Den Hert - MVC Frères Des Biè
 res
X-ALT-DESC;FMTTYPE=text/html:Comp wedstrijd 461: <b>St Antonius/Den Hert - 
 MVC Frères Des Bières</b> te Bissegem
X-MICROSOFT-CDO-BUSYSTATUS:FREE
X-MICROSOFT-CDO-INTENDEDSTATUS:FREE
DTSTAMP:20260423T091028Z
BEGIN:VALARM
TRIGGER:-P1D
ACTION:DISPLAY
DESCRIPTION:Comp wedstrijd 461: St Antonius/Den Hert - MVC Frères Des Biè
 res
END:VALARM
END:VEVENT
BEGIN:VEVENT
UID:69e9e2046d8aa
DTSTART:20260410T160000Z
SEQUENCE:0
TRANSP:OPAQUE
LOCATION:Rollegem
SUMMARY:Wedstrijd 538 KMVV
CLASS:PUBLIC
DESCRIPTION:Comp wedstrijd 538: MVC Beauty & More - MVC Frères Des Bières
X-ALT-DESC;FMTTYPE=text/html:Comp wedstrijd 538: <b>MVC Beauty & More - MVC
  Frères Des Bières</b> te Rollegem
X-MICROSOFT-CDO-BUSYSTATUS:FREE
X-MICROSOFT-CDO-INTENDEDSTATUS:FREE
DTSTAMP:20260423T091028Z
BEGIN:VALARM
TRIGGER:-P1D
ACTION:DISPLAY
DESCRIPTION:Comp wedstrijd 538: MVC Beauty & More - MVC Frères Des Bières
END:VALARM
END:VEVENT
BEGIN:VEVENT
UID:69e9e2046d8cb
DTSTART:20260413T180000Z
SEQUENCE:0
TRANSP:OPAQUE
LOCATION:Lagae
SUMMARY:Wedstrijd 553 KMVV
CLASS:PUBLIC
DESCRIPTION:Comp wedstrijd 553: MVC Frères Des Bières - Rosseeuw interieu
 rs
X-ALT-DESC;FMTTYPE=text/html:Comp wedstrijd 553: <b>MVC Frères Des Bières
  - Rosseeuw interieurs</b> te Lagae
X-MICROSOFT-CDO-BUSYSTATUS:FREE
X-MICROSOFT-CDO-INTENDEDSTATUS:FREE
DTSTAMP:20260423T091028Z
BEGIN:VALARM
TRIGGER:-P1D
ACTION:DISPLAY
DESCRIPTION:Comp wedstrijd 553: MVC Frères Des Bières - Rosseeuw interieu
 rs
END:VALARM
END:VEVENT
BEGIN:VEVENT
UID:69e9e2046d8eb
DTSTART:20260423T170000Z
SEQUENCE:0
TRANSP:OPAQUE
LOCATION:Lagae
SUMMARY:Wedstrijd 584 KMVV
CLASS:PUBLIC
DESCRIPTION:Comp wedstrijd 584: Café Dudu - MVC Frères Des Bières
X-ALT-DESC;FMTTYPE=text/html:Comp wedstrijd 584: <b>Café Dudu - MVC Frère
 s Des Bières</b> te Lagae
X-MICROSOFT-CDO-BUSYSTATUS:FREE
X-MICROSOFT-CDO-INTENDEDSTATUS:FREE
DTSTAMP:20260423T091028Z
BEGIN:VALARM
TRIGGER:-P1D
ACTION:DISPLAY
DESCRIPTION:Comp wedstrijd 584: Café Dudu - MVC Frères Des Bières
END:VALARM
END:VEVENT
BEGIN:VEVENT
UID:69e9e2046d90b
DTSTART:20260507T173000Z
SEQUENCE:0
TRANSP:OPAQUE
LOCATION:Bissegem
SUMMARY:Wedstrijd 620 KMVV
CLASS:PUBLIC
DESCRIPTION:Comp wedstrijd 620: MVC Frères Des Bières - Zakouzkys
X-ALT-DESC;FMTTYPE=text/html:Comp wedstrijd 620: <b>MVC Frères Des Bières
  - Zakouzkys</b> te Bissegem
X-MICROSOFT-CDO-BUSYSTATUS:FREE
X-MICROSOFT-CDO-INTENDEDSTATUS:FREE
DTSTAMP:20260423T091028Z
BEGIN:VALARM
TRIGGER:-P1D
ACTION:DISPLAY
DESCRIPTION:Comp wedstrijd 620: MVC Frères Des Bières - Zakouzkys
END:VALARM
END:VEVENT
BEGIN:VEVENT
UID:69e9e2046d92a
DTSTART:20260522T170000Z
SEQUENCE:0
TRANSP:OPAQUE
LOCATION:Rollegem
SUMMARY:Wedstrijd 659 KMVV
CLASS:PUBLIC
DESCRIPTION:Comp wedstrijd 659: FC Tamzakken - MVC Frères Des Bières
X-ALT-DESC;FMTTYPE=text/html:Comp wedstrijd 659: <b>FC Tamzakken - MVC Frè
 res Des Bières</b> te Rollegem
X-MICROSOFT-CDO-BUSYSTATUS:FREE
X-MICROSOFT-CDO-INTENDEDSTATUS:FREE
DTSTAMP:20260423T091028Z
BEGIN:VALARM
TRIGGER:-P1D
ACTION:DISPLAY
DESCRIPTION:Comp wedstrijd 659: FC Tamzakken - MVC Frères Des Bières
END:VALARM
END:VEVENT
BEGIN:VEVENT
UID:69e9e2046d949
DTSTART:20260529T180000Z
SEQUENCE:0
TRANSP:OPAQUE
LOCATION:Bissegem
SUMMARY:Wedstrijd 678 KMVV
CLASS:PUBLIC
DESCRIPTION:Comp wedstrijd 678: Twentyone Kortrijk - MVC Frères Des Bière
 s
X-ALT-DESC;FMTTYPE=text/html:Comp wedstrijd 678: <b>Twentyone Kortrijk - MV
 C Frères Des Bières</b> te Bissegem
X-MICROSOFT-CDO-BUSYSTATUS:FREE
X-MICROSOFT-CDO-INTENDEDSTATUS:FREE
DTSTAMP:20260423T091028Z
BEGIN:VALARM
TRIGGER:-P1D
ACTION:DISPLAY
DESCRIPTION:Comp wedstrijd 678: Twentyone Kortrijk - MVC Frères Des Bière
 s
END:VALARM
END:VEVENT
BEGIN:VEVENT
UID:69e9e2046d969
DTSTART:20260610T190000Z
SEQUENCE:0
TRANSP:OPAQUE
LOCATION:Bissegem
SUMMARY:Wedstrijd 742 KMVV
CLASS:PUBLIC
DESCRIPTION:Comp wedstrijd 742: Electro Labarque - MVC Frères Des Bières
X-ALT-DESC;FMTTYPE=text/html:Comp wedstrijd 742: <b>Electro Labarque - MVC 
 Frères Des Bières</b> te Bissegem
X-MICROSOFT-CDO-BUSYSTATUS:FREE
X-MICROSOFT-CDO-INTENDEDSTATUS:FREE
DTSTAMP:20260423T091028Z
BEGIN:VALARM
TRIGGER:-P1D
ACTION:DISPLAY
DESCRIPTION:Comp wedstrijd 742: Electro Labarque - MVC Frères Des Bières
END:VALARM
END:VEVENT
BEGIN:VEVENT
UID:69e9e2046d987
DTSTART:20260615T170000Z
SEQUENCE:0
TRANSP:OPAQUE
LOCATION:Lagae
SUMMARY:Wedstrijd 747 KMVV
CLASS:PUBLIC
DESCRIPTION:Comp wedstrijd 747: MVC Frères Des Bières - The red bastards
X-ALT-DESC;FMTTYPE=text/html:Comp wedstrijd 747: <b>MVC Frères Des Bières
  - The red bastards</b> te Lagae
X-MICROSOFT-CDO-BUSYSTATUS:FREE
X-MICROSOFT-CDO-INTENDEDSTATUS:FREE
DTSTAMP:20260423T091028Z
BEGIN:VALARM
TRIGGER:-P1D
ACTION:DISPLAY
DESCRIPTION:Comp wedstrijd 747: MVC Frères Des Bières - The red bastards
END:VALARM
END:VEVENT
BEGIN:VEVENT
UID:69e9e2046d9a6
DTSTART:20260624T190000Z
SEQUENCE:0
TRANSP:OPAQUE
LOCATION:Bissegem
SUMMARY:Wedstrijd 783 KMVV
CLASS:PUBLIC
DESCRIPTION:Comp wedstrijd 783: MVC Frères Des Bières - Joga Bonito FC
X-ALT-DESC;FMTTYPE=text/html:Comp wedstrijd 783: <b>MVC Frères Des Bières
  - Joga Bonito FC</b> te Bissegem
X-MICROSOFT-CDO-BUSYSTATUS:FREE
X-MICROSOFT-CDO-INTENDEDSTATUS:FREE
DTSTAMP:20260423T091028Z
BEGIN:VALARM
TRIGGER:-P1D
ACTION:DISPLAY
DESCRIPTION:Comp wedstrijd 783: MVC Frères Des Bières - Joga Bonito FC
END:VALARM
END:VEVENT
BEGIN:VEVENT
UID:69e9e2046d9ea
DTSTART:20260629T193000Z
SEQUENCE:0
TRANSP:OPAQUE
LOCATION:Bissegem
SUMMARY:Wedstrijd 803 KMVV
CLASS:PUBLIC
DESCRIPTION:Comp wedstrijd 803: MVC Frères Des Bières - De fruitsjotters
X-ALT-DESC;FMTTYPE=text/html:Comp wedstrijd 803: <b>MVC Frères Des Bières
  - De fruitsjotters</b> te Bissegem
X-MICROSOFT-CDO-BUSYSTATUS:FREE
X-MICROSOFT-CDO-INTENDEDSTATUS:FREE
DTSTAMP:20260423T091028Z
BEGIN:VALARM
TRIGGER:-P1D
ACTION:DISPLAY
DESCRIPTION:Comp wedstrijd 803: MVC Frères Des Bières - De fruitsjotters
END:VALARM
END:VEVENT
END:VCALENDAR