BEGIN:VCALENDAR
VERSION:2.0
PRODID:www.kmvv.be
BEGIN:VEVENT
UID:69e9e39440340
DTSTART:20250904T160000Z
SEQUENCE:0
TRANSP:OPAQUE
LOCATION:Lagae
SUMMARY:Wedstrijd 16 KMVV
CLASS:PUBLIC
DESCRIPTION:Comp wedstrijd 16: Incognito - MVC Marreva
X-ALT-DESC;FMTTYPE=text/html:Comp wedstrijd 16: <b>Incognito - MVC Marreva<
 /b> te Lagae
X-MICROSOFT-CDO-BUSYSTATUS:FREE
X-MICROSOFT-CDO-INTENDEDSTATUS:FREE
DTSTAMP:20260423T091708Z
BEGIN:VALARM
TRIGGER:-P1D
ACTION:DISPLAY
DESCRIPTION:Comp wedstrijd 16: Incognito - MVC Marreva
END:VALARM
END:VEVENT
BEGIN:VEVENT
UID:69e9e3944067a
DTSTART:20250915T183000Z
SEQUENCE:0
TRANSP:OPAQUE
LOCATION:Bissegem
SUMMARY:Wedstrijd 41 KMVV
CLASS:PUBLIC
DESCRIPTION:Comp wedstrijd 41: The red bastards - MVC Marreva
X-ALT-DESC;FMTTYPE=text/html:Comp wedstrijd 41: <b>The red bastards - MVC M
 arreva</b> te Bissegem
X-MICROSOFT-CDO-BUSYSTATUS:FREE
X-MICROSOFT-CDO-INTENDEDSTATUS:FREE
DTSTAMP:20260423T091708Z
BEGIN:VALARM
TRIGGER:-P1D
ACTION:DISPLAY
DESCRIPTION:Comp wedstrijd 41: The red bastards - MVC Marreva
END:VALARM
END:VEVENT
BEGIN:VEVENT
UID:69e9e3944069c
DTSTART:20250929T180000Z
SEQUENCE:0
TRANSP:OPAQUE
LOCATION:Rollegem
SUMMARY:Wedstrijd 88 KMVV
CLASS:PUBLIC
DESCRIPTION:Comp wedstrijd 88: FC Avanco - MVC Marreva
X-ALT-DESC;FMTTYPE=text/html:Comp wedstrijd 88: <b>FC Avanco - MVC Marreva<
 /b> te Rollegem
X-MICROSOFT-CDO-BUSYSTATUS:FREE
X-MICROSOFT-CDO-INTENDEDSTATUS:FREE
DTSTAMP:20260423T091708Z
BEGIN:VALARM
TRIGGER:-P1D
ACTION:DISPLAY
DESCRIPTION:Comp wedstrijd 88: FC Avanco - MVC Marreva
END:VALARM
END:VEVENT
BEGIN:VEVENT
UID:69e9e394406b4
DTSTART:20251006T170000Z
SEQUENCE:0
TRANSP:OPAQUE
LOCATION:Lagae
SUMMARY:Wedstrijd 102 KMVV
CLASS:PUBLIC
DESCRIPTION:Comp wedstrijd 102: MVC Marreva - Garfield '85
X-ALT-DESC;FMTTYPE=text/html:Comp wedstrijd 102: <b>MVC Marreva - Garfield 
 '85</b> te Lagae
X-MICROSOFT-CDO-BUSYSTATUS:FREE
X-MICROSOFT-CDO-INTENDEDSTATUS:FREE
DTSTAMP:20260423T091708Z
BEGIN:VALARM
TRIGGER:-P1D
ACTION:DISPLAY
DESCRIPTION:Comp wedstrijd 102: MVC Marreva - Garfield '85
END:VALARM
END:VEVENT
BEGIN:VEVENT
UID:69e9e394406c9
DTSTART:20251020T160000Z
SEQUENCE:0
TRANSP:OPAQUE
LOCATION:Rollegem
SUMMARY:Wedstrijd 145 KMVV
CLASS:PUBLIC
DESCRIPTION:Comp wedstrijd 145: De Interistas - MVC Marreva
X-ALT-DESC;FMTTYPE=text/html:Comp wedstrijd 145: <b>De Interistas - MVC Mar
 reva</b> te Rollegem
X-MICROSOFT-CDO-BUSYSTATUS:FREE
X-MICROSOFT-CDO-INTENDEDSTATUS:FREE
DTSTAMP:20260423T091708Z
BEGIN:VALARM
TRIGGER:-P1D
ACTION:DISPLAY
DESCRIPTION:Comp wedstrijd 145: De Interistas - MVC Marreva
END:VALARM
END:VEVENT
BEGIN:VEVENT
UID:69e9e394406de
DTSTART:20251027T190000Z
SEQUENCE:0
TRANSP:OPAQUE
LOCATION:Rollegem
SUMMARY:Wedstrijd 168 KMVV
CLASS:PUBLIC
DESCRIPTION:Comp wedstrijd 168: MVC Marreva - Logiegrafix
X-ALT-DESC;FMTTYPE=text/html:Comp wedstrijd 168: <b>MVC Marreva - Logiegraf
 ix</b> te Rollegem
X-MICROSOFT-CDO-BUSYSTATUS:FREE
X-MICROSOFT-CDO-INTENDEDSTATUS:FREE
DTSTAMP:20260423T091708Z
BEGIN:VALARM
TRIGGER:-P1D
ACTION:DISPLAY
DESCRIPTION:Comp wedstrijd 168: MVC Marreva - Logiegrafix
END:VALARM
END:VEVENT
BEGIN:VEVENT
UID:69e9e394406f1
DTSTART:20251112T190000Z
SEQUENCE:0
TRANSP:OPAQUE
LOCATION:Rollegem
SUMMARY:Wedstrijd 211 KMVV
CLASS:PUBLIC
DESCRIPTION:Comp wedstrijd 211: Goalkick Murphys - MVC Marreva
X-ALT-DESC;FMTTYPE=text/html:Comp wedstrijd 211: <b>Goalkick Murphys - MVC 
 Marreva</b> te Rollegem
X-MICROSOFT-CDO-BUSYSTATUS:FREE
X-MICROSOFT-CDO-INTENDEDSTATUS:FREE
DTSTAMP:20260423T091708Z
BEGIN:VALARM
TRIGGER:-P1D
ACTION:DISPLAY
DESCRIPTION:Comp wedstrijd 211: Goalkick Murphys - MVC Marreva
END:VALARM
END:VEVENT
BEGIN:VEVENT
UID:69e9e39440705
DTSTART:20251117T190000Z
SEQUENCE:0
TRANSP:OPAQUE
LOCATION:Rollegem
SUMMARY:Wedstrijd 227 KMVV
CLASS:PUBLIC
DESCRIPTION:Comp wedstrijd 227: MVC Marreva - Rosseeuw interieurs
X-ALT-DESC;FMTTYPE=text/html:Comp wedstrijd 227: <b>MVC Marreva - Rosseeuw 
 interieurs</b> te Rollegem
X-MICROSOFT-CDO-BUSYSTATUS:FREE
X-MICROSOFT-CDO-INTENDEDSTATUS:FREE
DTSTAMP:20260423T091708Z
BEGIN:VALARM
TRIGGER:-P1D
ACTION:DISPLAY
DESCRIPTION:Comp wedstrijd 227: MVC Marreva - Rosseeuw interieurs
END:VALARM
END:VEVENT
BEGIN:VEVENT
UID:69e9e39440718
DTSTART:20251204T170000Z
SEQUENCE:0
TRANSP:OPAQUE
LOCATION:Lagae
SUMMARY:Wedstrijd 275 KMVV
CLASS:PUBLIC
DESCRIPTION:Comp wedstrijd 275: Café Dudu - MVC Marreva
X-ALT-DESC;FMTTYPE=text/html:Comp wedstrijd 275: <b>Café Dudu - MVC Marrev
 a</b> te Lagae
X-MICROSOFT-CDO-BUSYSTATUS:FREE
X-MICROSOFT-CDO-INTENDEDSTATUS:FREE
DTSTAMP:20260423T091708Z
BEGIN:VALARM
TRIGGER:-P1D
ACTION:DISPLAY
DESCRIPTION:Comp wedstrijd 275: Café Dudu - MVC Marreva
END:VALARM
END:VEVENT
BEGIN:VEVENT
UID:69e9e3944072c
DTSTART:20251215T180000Z
SEQUENCE:0
TRANSP:OPAQUE
LOCATION:Lagae
SUMMARY:Wedstrijd 302 KMVV
CLASS:PUBLIC
DESCRIPTION:Comp wedstrijd 302: MVC Marreva - De Foodballers
X-ALT-DESC;FMTTYPE=text/html:Comp wedstrijd 302: <b>MVC Marreva - De Foodba
 llers</b> te Lagae
X-MICROSOFT-CDO-BUSYSTATUS:FREE
X-MICROSOFT-CDO-INTENDEDSTATUS:FREE
DTSTAMP:20260423T091708Z
BEGIN:VALARM
TRIGGER:-P1D
ACTION:DISPLAY
DESCRIPTION:Comp wedstrijd 302: MVC Marreva - De Foodballers
END:VALARM
END:VEVENT
BEGIN:VEVENT
UID:69e9e39440764
DTSTART:20260105T200000Z
SEQUENCE:0
TRANSP:OPAQUE
LOCATION:Rollegem
SUMMARY:Wedstrijd 347 KMVV
CLASS:PUBLIC
DESCRIPTION:Comp wedstrijd 347: Coiffeurs City - MVC Marreva
X-ALT-DESC;FMTTYPE=text/html:Comp wedstrijd 347: <b>Coiffeurs City - MVC Ma
 rreva</b> te Rollegem
X-MICROSOFT-CDO-BUSYSTATUS:FREE
X-MICROSOFT-CDO-INTENDEDSTATUS:FREE
DTSTAMP:20260423T091708Z
BEGIN:VALARM
TRIGGER:-P1D
ACTION:DISPLAY
DESCRIPTION:Comp wedstrijd 347: Coiffeurs City - MVC Marreva
END:VALARM
END:VEVENT
BEGIN:VEVENT
UID:69e9e39440779
DTSTART:20260112T170000Z
SEQUENCE:0
TRANSP:OPAQUE
LOCATION:Rollegem
SUMMARY:Wedstrijd 363 KMVV
CLASS:PUBLIC
DESCRIPTION:Comp wedstrijd 363: MVC Marreva - De fruitsjotters
X-ALT-DESC;FMTTYPE=text/html:Comp wedstrijd 363: <b>MVC Marreva - De fruits
 jotters</b> te Rollegem
X-MICROSOFT-CDO-BUSYSTATUS:FREE
X-MICROSOFT-CDO-INTENDEDSTATUS:FREE
DTSTAMP:20260423T091708Z
BEGIN:VALARM
TRIGGER:-P1D
ACTION:DISPLAY
DESCRIPTION:Comp wedstrijd 363: MVC Marreva - De fruitsjotters
END:VALARM
END:VEVENT
BEGIN:VEVENT
UID:69e9e3944078d
DTSTART:20260119T203000Z
SEQUENCE:0
TRANSP:OPAQUE
LOCATION:Bissegem
SUMMARY:Wedstrijd 380 KMVV
CLASS:PUBLIC
DESCRIPTION:Comp wedstrijd 380: MVC Marreva - Electro Labarque
X-ALT-DESC;FMTTYPE=text/html:Comp wedstrijd 380: <b>MVC Marreva - Electro L
 abarque</b> te Bissegem
X-MICROSOFT-CDO-BUSYSTATUS:FREE
X-MICROSOFT-CDO-INTENDEDSTATUS:FREE
DTSTAMP:20260423T091708Z
BEGIN:VALARM
TRIGGER:-P1D
ACTION:DISPLAY
DESCRIPTION:Comp wedstrijd 380: MVC Marreva - Electro Labarque
END:VALARM
END:VEVENT
BEGIN:VEVENT
UID:69e9e394407a0
DTSTART:20260225T200000Z
SEQUENCE:0
TRANSP:OPAQUE
LOCATION:Rollegem
SUMMARY:Wedstrijd 437 KMVV
CLASS:PUBLIC
DESCRIPTION:Comp wedstrijd 437: MVC Marreva - MVC Frères Des Bières
X-ALT-DESC;FMTTYPE=text/html:Comp wedstrijd 437: <b>MVC Marreva - MVC Frèr
 es Des Bières</b> te Rollegem
X-MICROSOFT-CDO-BUSYSTATUS:FREE
X-MICROSOFT-CDO-INTENDEDSTATUS:FREE
DTSTAMP:20260423T091708Z
BEGIN:VALARM
TRIGGER:-P1D
ACTION:DISPLAY
DESCRIPTION:Comp wedstrijd 437: MVC Marreva - MVC Frères Des Bières
END:VALARM
END:VEVENT
BEGIN:VEVENT
UID:69e9e394407b3
DTSTART:20260302T203000Z
SEQUENCE:0
TRANSP:OPAQUE
LOCATION:Bissegem
SUMMARY:Wedstrijd 448 KMVV
CLASS:PUBLIC
DESCRIPTION:Comp wedstrijd 448: MVC Marreva - The red bastards
X-ALT-DESC;FMTTYPE=text/html:Comp wedstrijd 448: <b>MVC Marreva - The red b
 astards</b> te Bissegem
X-MICROSOFT-CDO-BUSYSTATUS:FREE
X-MICROSOFT-CDO-INTENDEDSTATUS:FREE
DTSTAMP:20260423T091708Z
BEGIN:VALARM
TRIGGER:-P1D
ACTION:DISPLAY
DESCRIPTION:Comp wedstrijd 448: MVC Marreva - The red bastards
END:VALARM
END:VEVENT
BEGIN:VEVENT
UID:69e9e394407c6
DTSTART:20260316T190000Z
SEQUENCE:0
TRANSP:OPAQUE
LOCATION:Rollegem
SUMMARY:Wedstrijd 494 KMVV
CLASS:PUBLIC
DESCRIPTION:Comp wedstrijd 494: MVC Marreva - FC Tamzakken
X-ALT-DESC;FMTTYPE=text/html:Comp wedstrijd 494: <b>MVC Marreva - FC Tamzak
 ken</b> te Rollegem
X-MICROSOFT-CDO-BUSYSTATUS:FREE
X-MICROSOFT-CDO-INTENDEDSTATUS:FREE
DTSTAMP:20260423T091708Z
BEGIN:VALARM
TRIGGER:-P1D
ACTION:DISPLAY
DESCRIPTION:Comp wedstrijd 494: MVC Marreva - FC Tamzakken
END:VALARM
END:VEVENT
BEGIN:VEVENT
UID:69e9e394407d8
DTSTART:20260327T170000Z
SEQUENCE:0
TRANSP:OPAQUE
LOCATION:Rollegem
SUMMARY:Wedstrijd 518 KMVV
CLASS:PUBLIC
DESCRIPTION:Comp wedstrijd 518: Joga Bonito FC - MVC Marreva
X-ALT-DESC;FMTTYPE=text/html:Comp wedstrijd 518: <b>Joga Bonito FC - MVC Ma
 rreva</b> te Rollegem
X-MICROSOFT-CDO-BUSYSTATUS:FREE
X-MICROSOFT-CDO-INTENDEDSTATUS:FREE
DTSTAMP:20260423T091708Z
BEGIN:VALARM
TRIGGER:-P1D
ACTION:DISPLAY
DESCRIPTION:Comp wedstrijd 518: Joga Bonito FC - MVC Marreva
END:VALARM
END:VEVENT
BEGIN:VEVENT
UID:69e9e394407fe
DTSTART:20260427T190000Z
SEQUENCE:0
TRANSP:OPAQUE
LOCATION:Lagae
SUMMARY:Wedstrijd 526 KMVV
CLASS:PUBLIC
DESCRIPTION:Comp wedstrijd 526: MVC Marreva - St Antonius/Den Hert
X-ALT-DESC;FMTTYPE=text/html:Comp wedstrijd 526: <b>MVC Marreva - St Antoni
 us/Den Hert</b> te Lagae
X-MICROSOFT-CDO-BUSYSTATUS:FREE
X-MICROSOFT-CDO-INTENDEDSTATUS:FREE
DTSTAMP:20260423T091708Z
BEGIN:VALARM
TRIGGER:-P1D
ACTION:DISPLAY
DESCRIPTION:Comp wedstrijd 526: MVC Marreva - St Antonius/Den Hert
END:VALARM
END:VEVENT
BEGIN:VEVENT
UID:69e9e39440813
DTSTART:20260506T173000Z
SEQUENCE:0
TRANSP:OPAQUE
LOCATION:Rollegem
SUMMARY:Wedstrijd 617 KMVV
CLASS:PUBLIC
DESCRIPTION:Comp wedstrijd 617: MVC Marreva - MVC Beauty & More
X-ALT-DESC;FMTTYPE=text/html:Comp wedstrijd 617: <b>MVC Marreva - MVC Beaut
 y & More</b> te Rollegem
X-MICROSOFT-CDO-BUSYSTATUS:FREE
X-MICROSOFT-CDO-INTENDEDSTATUS:FREE
DTSTAMP:20260423T091708Z
BEGIN:VALARM
TRIGGER:-P1D
ACTION:DISPLAY
DESCRIPTION:Comp wedstrijd 617: MVC Marreva - MVC Beauty & More
END:VALARM
END:VEVENT
BEGIN:VEVENT
UID:69e9e39440826
DTSTART:20260521T160000Z
SEQUENCE:0
TRANSP:OPAQUE
LOCATION:Lagae
SUMMARY:Wedstrijd 654 KMVV
CLASS:PUBLIC
DESCRIPTION:Comp wedstrijd 654: Rosseeuw interieurs - MVC Marreva
X-ALT-DESC;FMTTYPE=text/html:Comp wedstrijd 654: <b>Rosseeuw interieurs - M
 VC Marreva</b> te Lagae
X-MICROSOFT-CDO-BUSYSTATUS:FREE
X-MICROSOFT-CDO-INTENDEDSTATUS:FREE
DTSTAMP:20260423T091708Z
BEGIN:VALARM
TRIGGER:-P1D
ACTION:DISPLAY
DESCRIPTION:Comp wedstrijd 654: Rosseeuw interieurs - MVC Marreva
END:VALARM
END:VEVENT
BEGIN:VEVENT
UID:69e9e39440838
DTSTART:20260527T180000Z
SEQUENCE:0
TRANSP:OPAQUE
LOCATION:Bissegem
SUMMARY:Wedstrijd 666 KMVV
CLASS:PUBLIC
DESCRIPTION:Comp wedstrijd 666: MVC Marreva - Café Dudu
X-ALT-DESC;FMTTYPE=text/html:Comp wedstrijd 666: <b>MVC Marreva - Café Dud
 u</b> te Bissegem
X-MICROSOFT-CDO-BUSYSTATUS:FREE
X-MICROSOFT-CDO-INTENDEDSTATUS:FREE
DTSTAMP:20260423T091708Z
BEGIN:VALARM
TRIGGER:-P1D
ACTION:DISPLAY
DESCRIPTION:Comp wedstrijd 666: MVC Marreva - Café Dudu
END:VALARM
END:VEVENT
BEGIN:VEVENT
UID:69e9e3944084a
DTSTART:20260601T190000Z
SEQUENCE:0
TRANSP:OPAQUE
LOCATION:Lagae
SUMMARY:Wedstrijd 686 KMVV
CLASS:PUBLIC
DESCRIPTION:Comp wedstrijd 686: Zakouzkys - MVC Marreva
X-ALT-DESC;FMTTYPE=text/html:Comp wedstrijd 686: <b>Zakouzkys - MVC Marreva
 </b> te Lagae
X-MICROSOFT-CDO-BUSYSTATUS:FREE
X-MICROSOFT-CDO-INTENDEDSTATUS:FREE
DTSTAMP:20260423T091708Z
BEGIN:VALARM
TRIGGER:-P1D
ACTION:DISPLAY
DESCRIPTION:Comp wedstrijd 686: Zakouzkys - MVC Marreva
END:VALARM
END:VEVENT
BEGIN:VEVENT
UID:69e9e3944085e
DTSTART:20260608T170000Z
SEQUENCE:0
TRANSP:OPAQUE
LOCATION:Lagae
SUMMARY:Wedstrijd 716 KMVV
CLASS:PUBLIC
DESCRIPTION:Comp wedstrijd 716: MVC Marreva - Twentyone Kortrijk
X-ALT-DESC;FMTTYPE=text/html:Comp wedstrijd 716: <b>MVC Marreva - Twentyone
  Kortrijk</b> te Lagae
X-MICROSOFT-CDO-BUSYSTATUS:FREE
X-MICROSOFT-CDO-INTENDEDSTATUS:FREE
DTSTAMP:20260423T091708Z
BEGIN:VALARM
TRIGGER:-P1D
ACTION:DISPLAY
DESCRIPTION:Comp wedstrijd 716: MVC Marreva - Twentyone Kortrijk
END:VALARM
END:VEVENT
BEGIN:VEVENT
UID:69e9e39440870
DTSTART:20260618T180000Z
SEQUENCE:0
TRANSP:OPAQUE
LOCATION:Bissegem
SUMMARY:Wedstrijd 763 KMVV
CLASS:PUBLIC
DESCRIPTION:Comp wedstrijd 763: De fruitsjotters - MVC Marreva
X-ALT-DESC;FMTTYPE=text/html:Comp wedstrijd 763: <b>De fruitsjotters - MVC 
 Marreva</b> te Bissegem
X-MICROSOFT-CDO-BUSYSTATUS:FREE
X-MICROSOFT-CDO-INTENDEDSTATUS:FREE
DTSTAMP:20260423T091708Z
BEGIN:VALARM
TRIGGER:-P1D
ACTION:DISPLAY
DESCRIPTION:Comp wedstrijd 763: De fruitsjotters - MVC Marreva
END:VALARM
END:VEVENT
BEGIN:VEVENT
UID:69e9e39440882
DTSTART:20260625T190000Z
SEQUENCE:0
TRANSP:OPAQUE
LOCATION:Bissegem
SUMMARY:Wedstrijd 790 KMVV
CLASS:PUBLIC
DESCRIPTION:Comp wedstrijd 790: Electro Labarque - MVC Marreva
X-ALT-DESC;FMTTYPE=text/html:Comp wedstrijd 790: <b>Electro Labarque - MVC 
 Marreva</b> te Bissegem
X-MICROSOFT-CDO-BUSYSTATUS:FREE
X-MICROSOFT-CDO-INTENDEDSTATUS:FREE
DTSTAMP:20260423T091708Z
BEGIN:VALARM
TRIGGER:-P1D
ACTION:DISPLAY
DESCRIPTION:Comp wedstrijd 790: Electro Labarque - MVC Marreva
END:VALARM
END:VEVENT
END:VCALENDAR