BEGIN:VCALENDAR
VERSION:2.0
PRODID:www.kmvv.be
BEGIN:VEVENT
UID:69e9e5c13ef5f
DTSTART:20250901T180000Z
SEQUENCE:0
TRANSP:OPAQUE
LOCATION:Lagae
SUMMARY:Wedstrijd 4 KMVV
CLASS:PUBLIC
DESCRIPTION:Comp wedstrijd 4: St Antonius/Den Hert - Zakouzkys
X-ALT-DESC;FMTTYPE=text/html:Comp wedstrijd 4: <b>St Antonius/Den Hert - Za
 kouzkys</b> te Lagae
X-MICROSOFT-CDO-BUSYSTATUS:FREE
X-MICROSOFT-CDO-INTENDEDSTATUS:FREE
DTSTAMP:20260423T092625Z
BEGIN:VALARM
TRIGGER:-P1D
ACTION:DISPLAY
DESCRIPTION:Comp wedstrijd 4: St Antonius/Den Hert - Zakouzkys
END:VALARM
END:VEVENT
BEGIN:VEVENT
UID:69e9e5c13f25a
DTSTART:20250911T160000Z
SEQUENCE:0
TRANSP:OPAQUE
LOCATION:Lagae
SUMMARY:Wedstrijd 35 KMVV
CLASS:PUBLIC
DESCRIPTION:Comp wedstrijd 35: De Rooftoppers - St Antonius/Den Hert
X-ALT-DESC;FMTTYPE=text/html:Comp wedstrijd 35: <b>De Rooftoppers - St Anto
 nius/Den Hert</b> te Lagae
X-MICROSOFT-CDO-BUSYSTATUS:FREE
X-MICROSOFT-CDO-INTENDEDSTATUS:FREE
DTSTAMP:20260423T092625Z
BEGIN:VALARM
TRIGGER:-P1D
ACTION:DISPLAY
DESCRIPTION:Comp wedstrijd 35: De Rooftoppers - St Antonius/Den Hert
END:VALARM
END:VEVENT
BEGIN:VEVENT
UID:69e9e5c13f27d
DTSTART:20250925T160000Z
SEQUENCE:0
TRANSP:OPAQUE
LOCATION:Lagae
SUMMARY:Wedstrijd 75 KMVV
CLASS:PUBLIC
DESCRIPTION:Comp wedstrijd 75: St Antonius/Den Hert - Moterwalen '09
X-ALT-DESC;FMTTYPE=text/html:Comp wedstrijd 75: <b>St Antonius/Den Hert - M
 oterwalen '09</b> te Lagae
X-MICROSOFT-CDO-BUSYSTATUS:FREE
X-MICROSOFT-CDO-INTENDEDSTATUS:FREE
DTSTAMP:20260423T092625Z
BEGIN:VALARM
TRIGGER:-P1D
ACTION:DISPLAY
DESCRIPTION:Comp wedstrijd 75: St Antonius/Den Hert - Moterwalen '09
END:VALARM
END:VEVENT
BEGIN:VEVENT
UID:69e9e5c13f294
DTSTART:20251006T170000Z
SEQUENCE:0
TRANSP:OPAQUE
LOCATION:Rollegem
SUMMARY:Wedstrijd 106 KMVV
CLASS:PUBLIC
DESCRIPTION:Comp wedstrijd 106: Bakkerij Bekaert - St Antonius/Den Hert
X-ALT-DESC;FMTTYPE=text/html:Comp wedstrijd 106: <b>Bakkerij Bekaert - St A
 ntonius/Den Hert</b> te Rollegem
X-MICROSOFT-CDO-BUSYSTATUS:FREE
X-MICROSOFT-CDO-INTENDEDSTATUS:FREE
DTSTAMP:20260423T092625Z
BEGIN:VALARM
TRIGGER:-P1D
ACTION:DISPLAY
DESCRIPTION:Comp wedstrijd 106: Bakkerij Bekaert - St Antonius/Den Hert
END:VALARM
END:VEVENT
BEGIN:VEVENT
UID:69e9e5c13f2aa
DTSTART:20251017T160000Z
SEQUENCE:0
TRANSP:OPAQUE
LOCATION:Rollegem
SUMMARY:Wedstrijd 138 KMVV
CLASS:PUBLIC
DESCRIPTION:Comp wedstrijd 138: St Antonius/Den Hert - FC White Star
X-ALT-DESC;FMTTYPE=text/html:Comp wedstrijd 138: <b>St Antonius/Den Hert - 
 FC White Star</b> te Rollegem
X-MICROSOFT-CDO-BUSYSTATUS:FREE
X-MICROSOFT-CDO-INTENDEDSTATUS:FREE
DTSTAMP:20260423T092625Z
BEGIN:VALARM
TRIGGER:-P1D
ACTION:DISPLAY
DESCRIPTION:Comp wedstrijd 138: St Antonius/Den Hert - FC White Star
END:VALARM
END:VEVENT
BEGIN:VEVENT
UID:69e9e5c13f2be
DTSTART:20251030T193000Z
SEQUENCE:0
TRANSP:OPAQUE
LOCATION:Bissegem
SUMMARY:Wedstrijd 174 KMVV
CLASS:PUBLIC
DESCRIPTION:Comp wedstrijd 174: Blacks - St Antonius/Den Hert
X-ALT-DESC;FMTTYPE=text/html:Comp wedstrijd 174: <b>Blacks - St Antonius/De
 n Hert</b> te Bissegem
X-MICROSOFT-CDO-BUSYSTATUS:FREE
X-MICROSOFT-CDO-INTENDEDSTATUS:FREE
DTSTAMP:20260423T092625Z
BEGIN:VALARM
TRIGGER:-P1D
ACTION:DISPLAY
DESCRIPTION:Comp wedstrijd 174: Blacks - St Antonius/Den Hert
END:VALARM
END:VEVENT
BEGIN:VEVENT
UID:69e9e5c13f2d2
DTSTART:20251107T170000Z
SEQUENCE:0
TRANSP:OPAQUE
LOCATION:Rollegem
SUMMARY:Wedstrijd 199 KMVV
CLASS:PUBLIC
DESCRIPTION:Comp wedstrijd 199: St Antonius/Den Hert - TD Decor
X-ALT-DESC;FMTTYPE=text/html:Comp wedstrijd 199: <b>St Antonius/Den Hert - 
 TD Decor</b> te Rollegem
X-MICROSOFT-CDO-BUSYSTATUS:FREE
X-MICROSOFT-CDO-INTENDEDSTATUS:FREE
DTSTAMP:20260423T092625Z
BEGIN:VALARM
TRIGGER:-P1D
ACTION:DISPLAY
DESCRIPTION:Comp wedstrijd 199: St Antonius/Den Hert - TD Decor
END:VALARM
END:VEVENT
BEGIN:VEVENT
UID:69e9e5c13f2e6
DTSTART:20251120T193000Z
SEQUENCE:0
TRANSP:OPAQUE
LOCATION:Bissegem
SUMMARY:Wedstrijd 233 KMVV
CLASS:PUBLIC
DESCRIPTION:Comp wedstrijd 233: Omer Oliever - St Antonius/Den Hert
X-ALT-DESC;FMTTYPE=text/html:Comp wedstrijd 233: <b>Omer Oliever - St Anton
 ius/Den Hert</b> te Bissegem
X-MICROSOFT-CDO-BUSYSTATUS:FREE
X-MICROSOFT-CDO-INTENDEDSTATUS:FREE
DTSTAMP:20260423T092625Z
BEGIN:VALARM
TRIGGER:-P1D
ACTION:DISPLAY
DESCRIPTION:Comp wedstrijd 233: Omer Oliever - St Antonius/Den Hert
END:VALARM
END:VEVENT
BEGIN:VEVENT
UID:69e9e5c13f2f9
DTSTART:20251204T183000Z
SEQUENCE:0
TRANSP:OPAQUE
LOCATION:Bissegem
SUMMARY:Wedstrijd 272 KMVV
CLASS:PUBLIC
DESCRIPTION:Comp wedstrijd 272: St Antonius/Den Hert - De vagant
X-ALT-DESC;FMTTYPE=text/html:Comp wedstrijd 272: <b>St Antonius/Den Hert - 
 De vagant</b> te Bissegem
X-MICROSOFT-CDO-BUSYSTATUS:FREE
X-MICROSOFT-CDO-INTENDEDSTATUS:FREE
DTSTAMP:20260423T092625Z
BEGIN:VALARM
TRIGGER:-P1D
ACTION:DISPLAY
DESCRIPTION:Comp wedstrijd 272: St Antonius/Den Hert - De vagant
END:VALARM
END:VEVENT
BEGIN:VEVENT
UID:69e9e5c13f30d
DTSTART:20251208T193000Z
SEQUENCE:0
TRANSP:OPAQUE
LOCATION:Bissegem
SUMMARY:Wedstrijd 281 KMVV
CLASS:PUBLIC
DESCRIPTION:Comp wedstrijd 281: Maba - St Antonius/Den Hert
X-ALT-DESC;FMTTYPE=text/html:Comp wedstrijd 281: <b>Maba - St Antonius/Den 
 Hert</b> te Bissegem
X-MICROSOFT-CDO-BUSYSTATUS:FREE
X-MICROSOFT-CDO-INTENDEDSTATUS:FREE
DTSTAMP:20260423T092625Z
BEGIN:VALARM
TRIGGER:-P1D
ACTION:DISPLAY
DESCRIPTION:Comp wedstrijd 281: Maba - St Antonius/Den Hert
END:VALARM
END:VEVENT
BEGIN:VEVENT
UID:69e9e5c13f335
DTSTART:20251222T203000Z
SEQUENCE:0
TRANSP:OPAQUE
LOCATION:Bissegem
SUMMARY:Wedstrijd 322 KMVV
CLASS:PUBLIC
DESCRIPTION:Comp wedstrijd 322: St Antonius/Den Hert - MVC Beauty & More
X-ALT-DESC;FMTTYPE=text/html:Comp wedstrijd 322: <b>St Antonius/Den Hert - 
 MVC Beauty & More</b> te Bissegem
X-MICROSOFT-CDO-BUSYSTATUS:FREE
X-MICROSOFT-CDO-INTENDEDSTATUS:FREE
DTSTAMP:20260423T092625Z
BEGIN:VALARM
TRIGGER:-P1D
ACTION:DISPLAY
DESCRIPTION:Comp wedstrijd 322: St Antonius/Den Hert - MVC Beauty & More
END:VALARM
END:VEVENT
BEGIN:VEVENT
UID:69e9e5c13f34b
DTSTART:20260115T170000Z
SEQUENCE:0
TRANSP:OPAQUE
LOCATION:Lagae
SUMMARY:Wedstrijd 373 KMVV
CLASS:PUBLIC
DESCRIPTION:Comp wedstrijd 373: Y.B.Speelplaneet - St Antonius/Den Hert
X-ALT-DESC;FMTTYPE=text/html:Comp wedstrijd 373: <b>Y.B.Speelplaneet - St A
 ntonius/Den Hert</b> te Lagae
X-MICROSOFT-CDO-BUSYSTATUS:FREE
X-MICROSOFT-CDO-INTENDEDSTATUS:FREE
DTSTAMP:20260423T092625Z
BEGIN:VALARM
TRIGGER:-P1D
ACTION:DISPLAY
DESCRIPTION:Comp wedstrijd 373: Y.B.Speelplaneet - St Antonius/Den Hert
END:VALARM
END:VEVENT
BEGIN:VEVENT
UID:69e9e5c13f35f
DTSTART:20260122T203000Z
SEQUENCE:0
TRANSP:OPAQUE
LOCATION:Bissegem
SUMMARY:Wedstrijd 393 KMVV
CLASS:PUBLIC
DESCRIPTION:Comp wedstrijd 393: St Antonius/Den Hert - Lokomotiv Popo
X-ALT-DESC;FMTTYPE=text/html:Comp wedstrijd 393: <b>St Antonius/Den Hert - 
 Lokomotiv Popo</b> te Bissegem
X-MICROSOFT-CDO-BUSYSTATUS:FREE
X-MICROSOFT-CDO-INTENDEDSTATUS:FREE
DTSTAMP:20260423T092625Z
BEGIN:VALARM
TRIGGER:-P1D
ACTION:DISPLAY
DESCRIPTION:Comp wedstrijd 393: St Antonius/Den Hert - Lokomotiv Popo
END:VALARM
END:VEVENT
BEGIN:VEVENT
UID:69e9e5c13f376
DTSTART:20260223T200000Z
SEQUENCE:0
TRANSP:OPAQUE
LOCATION:Rollegem
SUMMARY:Wedstrijd 434 KMVV
CLASS:PUBLIC
DESCRIPTION:Comp wedstrijd 434: St Antonius/Den Hert - Twentyone Kortrijk
X-ALT-DESC;FMTTYPE=text/html:Comp wedstrijd 434: <b>St Antonius/Den Hert - 
 Twentyone Kortrijk</b> te Rollegem
X-MICROSOFT-CDO-BUSYSTATUS:FREE
X-MICROSOFT-CDO-INTENDEDSTATUS:FREE
DTSTAMP:20260423T092625Z
BEGIN:VALARM
TRIGGER:-P1D
ACTION:DISPLAY
DESCRIPTION:Comp wedstrijd 434: St Antonius/Den Hert - Twentyone Kortrijk
END:VALARM
END:VEVENT
BEGIN:VEVENT
UID:69e9e5c13f389
DTSTART:20260305T193000Z
SEQUENCE:0
TRANSP:OPAQUE
LOCATION:Bissegem
SUMMARY:Wedstrijd 461 KMVV
CLASS:PUBLIC
DESCRIPTION:Comp wedstrijd 461: St Antonius/Den Hert - MVC Frères Des Biè
 res
X-ALT-DESC;FMTTYPE=text/html:Comp wedstrijd 461: <b>St Antonius/Den Hert - 
 MVC Frères Des Bières</b> te Bissegem
X-MICROSOFT-CDO-BUSYSTATUS:FREE
X-MICROSOFT-CDO-INTENDEDSTATUS:FREE
DTSTAMP:20260423T092625Z
BEGIN:VALARM
TRIGGER:-P1D
ACTION:DISPLAY
DESCRIPTION:Comp wedstrijd 461: St Antonius/Den Hert - MVC Frères Des Biè
 res
END:VALARM
END:VEVENT
BEGIN:VEVENT
UID:69e9e5c13f39c
DTSTART:20260312T193000Z
SEQUENCE:0
TRANSP:OPAQUE
LOCATION:Bissegem
SUMMARY:Wedstrijd 479 KMVV
CLASS:PUBLIC
DESCRIPTION:Comp wedstrijd 479: Electro Labarque - St Antonius/Den Hert
X-ALT-DESC;FMTTYPE=text/html:Comp wedstrijd 479: <b>Electro Labarque - St A
 ntonius/Den Hert</b> te Bissegem
X-MICROSOFT-CDO-BUSYSTATUS:FREE
X-MICROSOFT-CDO-INTENDEDSTATUS:FREE
DTSTAMP:20260423T092625Z
BEGIN:VALARM
TRIGGER:-P1D
ACTION:DISPLAY
DESCRIPTION:Comp wedstrijd 479: Electro Labarque - St Antonius/Den Hert
END:VALARM
END:VEVENT
BEGIN:VEVENT
UID:69e9e5c13f3ae
DTSTART:20260323T200000Z
SEQUENCE:0
TRANSP:OPAQUE
LOCATION:Rollegem
SUMMARY:Wedstrijd 514 KMVV
CLASS:PUBLIC
DESCRIPTION:Comp wedstrijd 514: St Antonius/Den Hert - The red bastards
X-ALT-DESC;FMTTYPE=text/html:Comp wedstrijd 514: <b>St Antonius/Den Hert - 
 The red bastards</b> te Rollegem
X-MICROSOFT-CDO-BUSYSTATUS:FREE
X-MICROSOFT-CDO-INTENDEDSTATUS:FREE
DTSTAMP:20260423T092625Z
BEGIN:VALARM
TRIGGER:-P1D
ACTION:DISPLAY
DESCRIPTION:Comp wedstrijd 514: St Antonius/Den Hert - The red bastards
END:VALARM
END:VEVENT
BEGIN:VEVENT
UID:69e9e5c13f3c1
DTSTART:20260420T180000Z
SEQUENCE:0
TRANSP:OPAQUE
LOCATION:Rollegem
SUMMARY:Wedstrijd 575 KMVV
CLASS:PUBLIC
DESCRIPTION:Comp wedstrijd 575: St Antonius/Den Hert - Joga Bonito FC
X-ALT-DESC;FMTTYPE=text/html:Comp wedstrijd 575: <b>St Antonius/Den Hert - 
 Joga Bonito FC</b> te Rollegem
X-MICROSOFT-CDO-BUSYSTATUS:FREE
X-MICROSOFT-CDO-INTENDEDSTATUS:FREE
DTSTAMP:20260423T092625Z
BEGIN:VALARM
TRIGGER:-P1D
ACTION:DISPLAY
DESCRIPTION:Comp wedstrijd 575: St Antonius/Den Hert - Joga Bonito FC
END:VALARM
END:VEVENT
BEGIN:VEVENT
UID:69e9e5c13f3d4
DTSTART:20260427T190000Z
SEQUENCE:0
TRANSP:OPAQUE
LOCATION:Lagae
SUMMARY:Wedstrijd 526 KMVV
CLASS:PUBLIC
DESCRIPTION:Comp wedstrijd 526: MVC Marreva - St Antonius/Den Hert
X-ALT-DESC;FMTTYPE=text/html:Comp wedstrijd 526: <b>MVC Marreva - St Antoni
 us/Den Hert</b> te Lagae
X-MICROSOFT-CDO-BUSYSTATUS:FREE
X-MICROSOFT-CDO-INTENDEDSTATUS:FREE
DTSTAMP:20260423T092625Z
BEGIN:VALARM
TRIGGER:-P1D
ACTION:DISPLAY
DESCRIPTION:Comp wedstrijd 526: MVC Marreva - St Antonius/Den Hert
END:VALARM
END:VEVENT
BEGIN:VEVENT
UID:69e9e5c13f3e7
DTSTART:20260507T160000Z
SEQUENCE:0
TRANSP:OPAQUE
LOCATION:Lagae
SUMMARY:Wedstrijd 623 KMVV
CLASS:PUBLIC
DESCRIPTION:Comp wedstrijd 623: St Antonius/Den Hert - FC Tamzakken
X-ALT-DESC;FMTTYPE=text/html:Comp wedstrijd 623: <b>St Antonius/Den Hert - 
 FC Tamzakken</b> te Lagae
X-MICROSOFT-CDO-BUSYSTATUS:FREE
X-MICROSOFT-CDO-INTENDEDSTATUS:FREE
DTSTAMP:20260423T092625Z
BEGIN:VALARM
TRIGGER:-P1D
ACTION:DISPLAY
DESCRIPTION:Comp wedstrijd 623: St Antonius/Den Hert - FC Tamzakken
END:VALARM
END:VEVENT
BEGIN:VEVENT
UID:69e9e5c13f3f9
DTSTART:20260528T170000Z
SEQUENCE:0
TRANSP:OPAQUE
LOCATION:Lagae
SUMMARY:Wedstrijd 674 KMVV
CLASS:PUBLIC
DESCRIPTION:Comp wedstrijd 674: St Antonius/Den Hert - MVC Beauty & More
X-ALT-DESC;FMTTYPE=text/html:Comp wedstrijd 674: <b>St Antonius/Den Hert - 
 MVC Beauty & More</b> te Lagae
X-MICROSOFT-CDO-BUSYSTATUS:FREE
X-MICROSOFT-CDO-INTENDEDSTATUS:FREE
DTSTAMP:20260423T092625Z
BEGIN:VALARM
TRIGGER:-P1D
ACTION:DISPLAY
DESCRIPTION:Comp wedstrijd 674: St Antonius/Den Hert - MVC Beauty & More
END:VALARM
END:VEVENT
BEGIN:VEVENT
UID:69e9e5c13f40b
DTSTART:20260604T170000Z
SEQUENCE:0
TRANSP:OPAQUE
LOCATION:Bissegem
SUMMARY:Wedstrijd 701 KMVV
CLASS:PUBLIC
DESCRIPTION:Comp wedstrijd 701: Rosseeuw interieurs - St Antonius/Den Hert
X-ALT-DESC;FMTTYPE=text/html:Comp wedstrijd 701: <b>Rosseeuw interieurs - S
 t Antonius/Den Hert</b> te Bissegem
X-MICROSOFT-CDO-BUSYSTATUS:FREE
X-MICROSOFT-CDO-INTENDEDSTATUS:FREE
DTSTAMP:20260423T092625Z
BEGIN:VALARM
TRIGGER:-P1D
ACTION:DISPLAY
DESCRIPTION:Comp wedstrijd 701: Rosseeuw interieurs - St Antonius/Den Hert
END:VALARM
END:VEVENT
BEGIN:VEVENT
UID:69e9e5c13f41d
DTSTART:20260611T160000Z
SEQUENCE:0
TRANSP:OPAQUE
LOCATION:Lagae
SUMMARY:Wedstrijd 736 KMVV
CLASS:PUBLIC
DESCRIPTION:Comp wedstrijd 736: St Antonius/Den Hert - Café Dudu
X-ALT-DESC;FMTTYPE=text/html:Comp wedstrijd 736: <b>St Antonius/Den Hert - 
 Café Dudu</b> te Lagae
X-MICROSOFT-CDO-BUSYSTATUS:FREE
X-MICROSOFT-CDO-INTENDEDSTATUS:FREE
DTSTAMP:20260423T092625Z
BEGIN:VALARM
TRIGGER:-P1D
ACTION:DISPLAY
DESCRIPTION:Comp wedstrijd 736: St Antonius/Den Hert - Café Dudu
END:VALARM
END:VEVENT
BEGIN:VEVENT
UID:69e9e5c13f42e
DTSTART:20260618T170000Z
SEQUENCE:0
TRANSP:OPAQUE
LOCATION:Bissegem
SUMMARY:Wedstrijd 762 KMVV
CLASS:PUBLIC
DESCRIPTION:Comp wedstrijd 762: Zakouzkys - St Antonius/Den Hert
X-ALT-DESC;FMTTYPE=text/html:Comp wedstrijd 762: <b>Zakouzkys - St Antonius
 /Den Hert</b> te Bissegem
X-MICROSOFT-CDO-BUSYSTATUS:FREE
X-MICROSOFT-CDO-INTENDEDSTATUS:FREE
DTSTAMP:20260423T092625Z
BEGIN:VALARM
TRIGGER:-P1D
ACTION:DISPLAY
DESCRIPTION:Comp wedstrijd 762: Zakouzkys - St Antonius/Den Hert
END:VALARM
END:VEVENT
BEGIN:VEVENT
UID:69e9e5c13f440
DTSTART:20260622T170000Z
SEQUENCE:0
TRANSP:OPAQUE
LOCATION:Lagae
SUMMARY:Wedstrijd 775 KMVV
CLASS:PUBLIC
DESCRIPTION:Comp wedstrijd 775: De fruitsjotters - St Antonius/Den Hert
X-ALT-DESC;FMTTYPE=text/html:Comp wedstrijd 775: <b>De fruitsjotters - St A
 ntonius/Den Hert</b> te Lagae
X-MICROSOFT-CDO-BUSYSTATUS:FREE
X-MICROSOFT-CDO-INTENDEDSTATUS:FREE
DTSTAMP:20260423T092625Z
BEGIN:VALARM
TRIGGER:-P1D
ACTION:DISPLAY
DESCRIPTION:Comp wedstrijd 775: De fruitsjotters - St Antonius/Den Hert
END:VALARM
END:VEVENT
END:VCALENDAR