BEGIN:VCALENDAR
VERSION:2.0
PRODID:www.kmvv.be
BEGIN:VEVENT
UID:69e9e1968f8d6
DTSTART:20250908T190000Z
SEQUENCE:0
TRANSP:OPAQUE
LOCATION:Rollegem
SUMMARY:Wedstrijd 28 KMVV
CLASS:PUBLIC
DESCRIPTION:Comp wedstrijd 28: MVC Eirekedeirie - Twentyone Kortrijk
X-ALT-DESC;FMTTYPE=text/html:Comp wedstrijd 28: <b>MVC Eirekedeirie - Twent
 yone Kortrijk</b> te Rollegem
X-MICROSOFT-CDO-BUSYSTATUS:FREE
X-MICROSOFT-CDO-INTENDEDSTATUS:FREE
DTSTAMP:20260423T090838Z
BEGIN:VALARM
TRIGGER:-P1D
ACTION:DISPLAY
DESCRIPTION:Comp wedstrijd 28: MVC Eirekedeirie - Twentyone Kortrijk
END:VALARM
END:VEVENT
BEGIN:VEVENT
UID:69e9e1968fbc4
DTSTART:20250915T193000Z
SEQUENCE:0
TRANSP:OPAQUE
LOCATION:Bissegem
SUMMARY:Wedstrijd 42 KMVV
CLASS:PUBLIC
DESCRIPTION:Comp wedstrijd 42: KV Cortoriacum - Twentyone Kortrijk
X-ALT-DESC;FMTTYPE=text/html:Comp wedstrijd 42: <b>KV Cortoriacum - Twentyo
 ne Kortrijk</b> te Bissegem
X-MICROSOFT-CDO-BUSYSTATUS:FREE
X-MICROSOFT-CDO-INTENDEDSTATUS:FREE
DTSTAMP:20260423T090838Z
BEGIN:VALARM
TRIGGER:-P1D
ACTION:DISPLAY
DESCRIPTION:Comp wedstrijd 42: KV Cortoriacum - Twentyone Kortrijk
END:VALARM
END:VEVENT
BEGIN:VEVENT
UID:69e9e1968fbe8
DTSTART:20250929T190000Z
SEQUENCE:0
TRANSP:OPAQUE
LOCATION:Rollegem
SUMMARY:Wedstrijd 89 KMVV
CLASS:PUBLIC
DESCRIPTION:Comp wedstrijd 89: Twentyone Kortrijk - Descaplant
X-ALT-DESC;FMTTYPE=text/html:Comp wedstrijd 89: <b>Twentyone Kortrijk - Des
 caplant</b> te Rollegem
X-MICROSOFT-CDO-BUSYSTATUS:FREE
X-MICROSOFT-CDO-INTENDEDSTATUS:FREE
DTSTAMP:20260423T090838Z
BEGIN:VALARM
TRIGGER:-P1D
ACTION:DISPLAY
DESCRIPTION:Comp wedstrijd 89: Twentyone Kortrijk - Descaplant
END:VALARM
END:VEVENT
BEGIN:VEVENT
UID:69e9e1968fc0d
DTSTART:20251013T180000Z
SEQUENCE:0
TRANSP:OPAQUE
LOCATION:Rollegem
SUMMARY:Wedstrijd 128 KMVV
CLASS:PUBLIC
DESCRIPTION:Comp wedstrijd 128: MVC Baliboys - Twentyone Kortrijk
X-ALT-DESC;FMTTYPE=text/html:Comp wedstrijd 128: <b>MVC Baliboys - Twentyon
 e Kortrijk</b> te Rollegem
X-MICROSOFT-CDO-BUSYSTATUS:FREE
X-MICROSOFT-CDO-INTENDEDSTATUS:FREE
DTSTAMP:20260423T090838Z
BEGIN:VALARM
TRIGGER:-P1D
ACTION:DISPLAY
DESCRIPTION:Comp wedstrijd 128: MVC Baliboys - Twentyone Kortrijk
END:VALARM
END:VEVENT
BEGIN:VEVENT
UID:69e9e1968fc24
DTSTART:20251020T180000Z
SEQUENCE:0
TRANSP:OPAQUE
LOCATION:Rollegem
SUMMARY:Wedstrijd 147 KMVV
CLASS:PUBLIC
DESCRIPTION:Comp wedstrijd 147: Twentyone Kortrijk - Joga Bonito FC
X-ALT-DESC;FMTTYPE=text/html:Comp wedstrijd 147: <b>Twentyone Kortrijk - Jo
 ga Bonito FC</b> te Rollegem
X-MICROSOFT-CDO-BUSYSTATUS:FREE
X-MICROSOFT-CDO-INTENDEDSTATUS:FREE
DTSTAMP:20260423T090838Z
BEGIN:VALARM
TRIGGER:-P1D
ACTION:DISPLAY
DESCRIPTION:Comp wedstrijd 147: Twentyone Kortrijk - Joga Bonito FC
END:VALARM
END:VEVENT
BEGIN:VEVENT
UID:69e9e1968fc38
DTSTART:20251103T180000Z
SEQUENCE:0
TRANSP:OPAQUE
LOCATION:Lagae
SUMMARY:Wedstrijd 182 KMVV
CLASS:PUBLIC
DESCRIPTION:Comp wedstrijd 182: FC Tamzakken - Twentyone Kortrijk
X-ALT-DESC;FMTTYPE=text/html:Comp wedstrijd 182: <b>FC Tamzakken - Twentyon
 e Kortrijk</b> te Lagae
X-MICROSOFT-CDO-BUSYSTATUS:FREE
X-MICROSOFT-CDO-INTENDEDSTATUS:FREE
DTSTAMP:20260423T090838Z
BEGIN:VALARM
TRIGGER:-P1D
ACTION:DISPLAY
DESCRIPTION:Comp wedstrijd 182: FC Tamzakken - Twentyone Kortrijk
END:VALARM
END:VEVENT
BEGIN:VEVENT
UID:69e9e1968fc4b
DTSTART:20251124T200000Z
SEQUENCE:0
TRANSP:OPAQUE
LOCATION:Rollegem
SUMMARY:Wedstrijd 249 KMVV
CLASS:PUBLIC
DESCRIPTION:Comp wedstrijd 249: CSR - Twentyone Kortrijk
X-ALT-DESC;FMTTYPE=text/html:Comp wedstrijd 249: <b>CSR - Twentyone Kortrij
 k</b> te Rollegem
X-MICROSOFT-CDO-BUSYSTATUS:FREE
X-MICROSOFT-CDO-INTENDEDSTATUS:FREE
DTSTAMP:20260423T090838Z
BEGIN:VALARM
TRIGGER:-P1D
ACTION:DISPLAY
DESCRIPTION:Comp wedstrijd 249: CSR - Twentyone Kortrijk
END:VALARM
END:VEVENT
BEGIN:VEVENT
UID:69e9e1968fc5e
DTSTART:20251201T180000Z
SEQUENCE:0
TRANSP:OPAQUE
LOCATION:Rollegem
SUMMARY:Wedstrijd 266 KMVV
CLASS:PUBLIC
DESCRIPTION:Comp wedstrijd 266: Fintro Kortrijk-DMVD - Twentyone Kortrijk
X-ALT-DESC;FMTTYPE=text/html:Comp wedstrijd 266: <b>Fintro Kortrijk-DMVD - 
 Twentyone Kortrijk</b> te Rollegem
X-MICROSOFT-CDO-BUSYSTATUS:FREE
X-MICROSOFT-CDO-INTENDEDSTATUS:FREE
DTSTAMP:20260423T090838Z
BEGIN:VALARM
TRIGGER:-P1D
ACTION:DISPLAY
DESCRIPTION:Comp wedstrijd 266: Fintro Kortrijk-DMVD - Twentyone Kortrijk
END:VALARM
END:VEVENT
BEGIN:VEVENT
UID:69e9e1968fc72
DTSTART:20251215T203000Z
SEQUENCE:0
TRANSP:OPAQUE
LOCATION:Bissegem
SUMMARY:Wedstrijd 301 KMVV
CLASS:PUBLIC
DESCRIPTION:Comp wedstrijd 301: Twentyone Kortrijk - MVC Frères Des Bière
 s
X-ALT-DESC;FMTTYPE=text/html:Comp wedstrijd 301: <b>Twentyone Kortrijk - MV
 C Frères Des Bières</b> te Bissegem
X-MICROSOFT-CDO-BUSYSTATUS:FREE
X-MICROSOFT-CDO-INTENDEDSTATUS:FREE
DTSTAMP:20260423T090838Z
BEGIN:VALARM
TRIGGER:-P1D
ACTION:DISPLAY
DESCRIPTION:Comp wedstrijd 301: Twentyone Kortrijk - MVC Frères Des Bière
 s
END:VALARM
END:VEVENT
BEGIN:VEVENT
UID:69e9e1968fc85
DTSTART:20260105T200000Z
SEQUENCE:0
TRANSP:OPAQUE
LOCATION:Lagae
SUMMARY:Wedstrijd 343 KMVV
CLASS:PUBLIC
DESCRIPTION:Comp wedstrijd 343: FC Eagles - Twentyone Kortrijk
X-ALT-DESC;FMTTYPE=text/html:Comp wedstrijd 343: <b>FC Eagles - Twentyone K
 ortrijk</b> te Lagae
X-MICROSOFT-CDO-BUSYSTATUS:FREE
X-MICROSOFT-CDO-INTENDEDSTATUS:FREE
DTSTAMP:20260423T090838Z
BEGIN:VALARM
TRIGGER:-P1D
ACTION:DISPLAY
DESCRIPTION:Comp wedstrijd 343: FC Eagles - Twentyone Kortrijk
END:VALARM
END:VEVENT
BEGIN:VEVENT
UID:69e9e1968fcbd
DTSTART:20260112T190000Z
SEQUENCE:0
TRANSP:OPAQUE
LOCATION:Lagae
SUMMARY:Wedstrijd 361 KMVV
CLASS:PUBLIC
DESCRIPTION:Comp wedstrijd 361: Twentyone Kortrijk - Sporting Artois
X-ALT-DESC;FMTTYPE=text/html:Comp wedstrijd 361: <b>Twentyone Kortrijk - Sp
 orting Artois</b> te Lagae
X-MICROSOFT-CDO-BUSYSTATUS:FREE
X-MICROSOFT-CDO-INTENDEDSTATUS:FREE
DTSTAMP:20260423T090838Z
BEGIN:VALARM
TRIGGER:-P1D
ACTION:DISPLAY
DESCRIPTION:Comp wedstrijd 361: Twentyone Kortrijk - Sporting Artois
END:VALARM
END:VEVENT
BEGIN:VEVENT
UID:69e9e1968fcd1
DTSTART:20260126T170000Z
SEQUENCE:0
TRANSP:OPAQUE
LOCATION:Rollegem
SUMMARY:Wedstrijd 403 KMVV
CLASS:PUBLIC
DESCRIPTION:Comp wedstrijd 403: Twentyone Kortrijk - Pep.link
X-ALT-DESC;FMTTYPE=text/html:Comp wedstrijd 403: <b>Twentyone Kortrijk - Pe
 p.link</b> te Rollegem
X-MICROSOFT-CDO-BUSYSTATUS:FREE
X-MICROSOFT-CDO-INTENDEDSTATUS:FREE
DTSTAMP:20260423T090838Z
BEGIN:VALARM
TRIGGER:-P1D
ACTION:DISPLAY
DESCRIPTION:Comp wedstrijd 403: Twentyone Kortrijk - Pep.link
END:VALARM
END:VEVENT
BEGIN:VEVENT
UID:69e9e1968fce5
DTSTART:20260202T200000Z
SEQUENCE:0
TRANSP:OPAQUE
LOCATION:Lagae
SUMMARY:Wedstrijd 203 KMVV
CLASS:PUBLIC
DESCRIPTION:Comp wedstrijd 203: Twentyone Kortrijk - MVC 't Koningshof
X-ALT-DESC;FMTTYPE=text/html:Comp wedstrijd 203: <b>Twentyone Kortrijk - MV
 C 't Koningshof</b> te Lagae
X-MICROSOFT-CDO-BUSYSTATUS:FREE
X-MICROSOFT-CDO-INTENDEDSTATUS:FREE
DTSTAMP:20260423T090838Z
BEGIN:VALARM
TRIGGER:-P1D
ACTION:DISPLAY
DESCRIPTION:Comp wedstrijd 203: Twentyone Kortrijk - MVC 't Koningshof
END:VALARM
END:VEVENT
BEGIN:VEVENT
UID:69e9e1968fcf8
DTSTART:20260223T200000Z
SEQUENCE:0
TRANSP:OPAQUE
LOCATION:Rollegem
SUMMARY:Wedstrijd 434 KMVV
CLASS:PUBLIC
DESCRIPTION:Comp wedstrijd 434: St Antonius/Den Hert - Twentyone Kortrijk
X-ALT-DESC;FMTTYPE=text/html:Comp wedstrijd 434: <b>St Antonius/Den Hert - 
 Twentyone Kortrijk</b> te Rollegem
X-MICROSOFT-CDO-BUSYSTATUS:FREE
X-MICROSOFT-CDO-INTENDEDSTATUS:FREE
DTSTAMP:20260423T090838Z
BEGIN:VALARM
TRIGGER:-P1D
ACTION:DISPLAY
DESCRIPTION:Comp wedstrijd 434: St Antonius/Den Hert - Twentyone Kortrijk
END:VALARM
END:VEVENT
BEGIN:VEVENT
UID:69e9e1968fd0b
DTSTART:20260304T190000Z
SEQUENCE:0
TRANSP:OPAQUE
LOCATION:Rollegem
SUMMARY:Wedstrijd 457 KMVV
CLASS:PUBLIC
DESCRIPTION:Comp wedstrijd 457: MVC Beauty & More - Twentyone Kortrijk
X-ALT-DESC;FMTTYPE=text/html:Comp wedstrijd 457: <b>MVC Beauty & More - Twe
 ntyone Kortrijk</b> te Rollegem
X-MICROSOFT-CDO-BUSYSTATUS:FREE
X-MICROSOFT-CDO-INTENDEDSTATUS:FREE
DTSTAMP:20260423T090838Z
BEGIN:VALARM
TRIGGER:-P1D
ACTION:DISPLAY
DESCRIPTION:Comp wedstrijd 457: MVC Beauty & More - Twentyone Kortrijk
END:VALARM
END:VEVENT
BEGIN:VEVENT
UID:69e9e1968fd1e
DTSTART:20260309T200000Z
SEQUENCE:0
TRANSP:OPAQUE
LOCATION:Lagae
SUMMARY:Wedstrijd 470 KMVV
CLASS:PUBLIC
DESCRIPTION:Comp wedstrijd 470: Twentyone Kortrijk - Rosseeuw interieurs
X-ALT-DESC;FMTTYPE=text/html:Comp wedstrijd 470: <b>Twentyone Kortrijk - Ro
 sseeuw interieurs</b> te Lagae
X-MICROSOFT-CDO-BUSYSTATUS:FREE
X-MICROSOFT-CDO-INTENDEDSTATUS:FREE
DTSTAMP:20260423T090838Z
BEGIN:VALARM
TRIGGER:-P1D
ACTION:DISPLAY
DESCRIPTION:Comp wedstrijd 470: Twentyone Kortrijk - Rosseeuw interieurs
END:VALARM
END:VEVENT
BEGIN:VEVENT
UID:69e9e1968fd30
DTSTART:20260413T190000Z
SEQUENCE:0
TRANSP:OPAQUE
LOCATION:Lagae
SUMMARY:Wedstrijd 537 KMVV
CLASS:PUBLIC
DESCRIPTION:Comp wedstrijd 537: Café Dudu - Twentyone Kortrijk
X-ALT-DESC;FMTTYPE=text/html:Comp wedstrijd 537: <b>Café Dudu - Twentyone 
 Kortrijk</b> te Lagae
X-MICROSOFT-CDO-BUSYSTATUS:FREE
X-MICROSOFT-CDO-INTENDEDSTATUS:FREE
DTSTAMP:20260423T090838Z
BEGIN:VALARM
TRIGGER:-P1D
ACTION:DISPLAY
DESCRIPTION:Comp wedstrijd 537: Café Dudu - Twentyone Kortrijk
END:VALARM
END:VEVENT
BEGIN:VEVENT
UID:69e9e1968fd43
DTSTART:20260422T180000Z
SEQUENCE:0
TRANSP:OPAQUE
LOCATION:Rollegem
SUMMARY:Wedstrijd 578 KMVV
CLASS:PUBLIC
DESCRIPTION:Comp wedstrijd 578: Twentyone Kortrijk - Zakouzkys
X-ALT-DESC;FMTTYPE=text/html:Comp wedstrijd 578: <b>Twentyone Kortrijk - Za
 kouzkys</b> te Rollegem
X-MICROSOFT-CDO-BUSYSTATUS:FREE
X-MICROSOFT-CDO-INTENDEDSTATUS:FREE
DTSTAMP:20260423T090838Z
BEGIN:VALARM
TRIGGER:-P1D
ACTION:DISPLAY
DESCRIPTION:Comp wedstrijd 578: Twentyone Kortrijk - Zakouzkys
END:VALARM
END:VEVENT
BEGIN:VEVENT
UID:69e9e1968fd55
DTSTART:20260427T160000Z
SEQUENCE:0
TRANSP:OPAQUE
LOCATION:Rollegem
SUMMARY:Wedstrijd 594 KMVV
CLASS:PUBLIC
DESCRIPTION:Comp wedstrijd 594: FC Tamzakken - Twentyone Kortrijk
X-ALT-DESC;FMTTYPE=text/html:Comp wedstrijd 594: <b>FC Tamzakken - Twentyon
 e Kortrijk</b> te Rollegem
X-MICROSOFT-CDO-BUSYSTATUS:FREE
X-MICROSOFT-CDO-INTENDEDSTATUS:FREE
DTSTAMP:20260423T090838Z
BEGIN:VALARM
TRIGGER:-P1D
ACTION:DISPLAY
DESCRIPTION:Comp wedstrijd 594: FC Tamzakken - Twentyone Kortrijk
END:VALARM
END:VEVENT
BEGIN:VEVENT
UID:69e9e1968fd6e
DTSTART:20260504T160000Z
SEQUENCE:0
TRANSP:OPAQUE
LOCATION:Rollegem
SUMMARY:Wedstrijd 611 KMVV
CLASS:PUBLIC
DESCRIPTION:Comp wedstrijd 611: De fruitsjotters - Twentyone Kortrijk
X-ALT-DESC;FMTTYPE=text/html:Comp wedstrijd 611: <b>De fruitsjotters - Twen
 tyone Kortrijk</b> te Rollegem
X-MICROSOFT-CDO-BUSYSTATUS:FREE
X-MICROSOFT-CDO-INTENDEDSTATUS:FREE
DTSTAMP:20260423T090838Z
BEGIN:VALARM
TRIGGER:-P1D
ACTION:DISPLAY
DESCRIPTION:Comp wedstrijd 611: De fruitsjotters - Twentyone Kortrijk
END:VALARM
END:VEVENT
BEGIN:VEVENT
UID:69e9e1968fd80
DTSTART:20260513T183000Z
SEQUENCE:0
TRANSP:OPAQUE
LOCATION:Rollegem
SUMMARY:Wedstrijd 641 KMVV
CLASS:PUBLIC
DESCRIPTION:Comp wedstrijd 641: Electro Labarque - Twentyone Kortrijk
X-ALT-DESC;FMTTYPE=text/html:Comp wedstrijd 641: <b>Electro Labarque - Twen
 tyone Kortrijk</b> te Rollegem
X-MICROSOFT-CDO-BUSYSTATUS:FREE
X-MICROSOFT-CDO-INTENDEDSTATUS:FREE
DTSTAMP:20260423T090838Z
BEGIN:VALARM
TRIGGER:-P1D
ACTION:DISPLAY
DESCRIPTION:Comp wedstrijd 641: Electro Labarque - Twentyone Kortrijk
END:VALARM
END:VEVENT
BEGIN:VEVENT
UID:69e9e1968fd93
DTSTART:20260529T180000Z
SEQUENCE:0
TRANSP:OPAQUE
LOCATION:Bissegem
SUMMARY:Wedstrijd 678 KMVV
CLASS:PUBLIC
DESCRIPTION:Comp wedstrijd 678: Twentyone Kortrijk - MVC Frères Des Bière
 s
X-ALT-DESC;FMTTYPE=text/html:Comp wedstrijd 678: <b>Twentyone Kortrijk - MV
 C Frères Des Bières</b> te Bissegem
X-MICROSOFT-CDO-BUSYSTATUS:FREE
X-MICROSOFT-CDO-INTENDEDSTATUS:FREE
DTSTAMP:20260423T090838Z
BEGIN:VALARM
TRIGGER:-P1D
ACTION:DISPLAY
DESCRIPTION:Comp wedstrijd 678: Twentyone Kortrijk - MVC Frères Des Bière
 s
END:VALARM
END:VEVENT
BEGIN:VEVENT
UID:69e9e1968fda6
DTSTART:20260601T180000Z
SEQUENCE:0
TRANSP:OPAQUE
LOCATION:Rollegem
SUMMARY:Wedstrijd 689 KMVV
CLASS:PUBLIC
DESCRIPTION:Comp wedstrijd 689: Twentyone Kortrijk - The red bastards
X-ALT-DESC;FMTTYPE=text/html:Comp wedstrijd 689: <b>Twentyone Kortrijk - Th
 e red bastards</b> te Rollegem
X-MICROSOFT-CDO-BUSYSTATUS:FREE
X-MICROSOFT-CDO-INTENDEDSTATUS:FREE
DTSTAMP:20260423T090838Z
BEGIN:VALARM
TRIGGER:-P1D
ACTION:DISPLAY
DESCRIPTION:Comp wedstrijd 689: Twentyone Kortrijk - The red bastards
END:VALARM
END:VEVENT
BEGIN:VEVENT
UID:69e9e1968fdb8
DTSTART:20260608T170000Z
SEQUENCE:0
TRANSP:OPAQUE
LOCATION:Lagae
SUMMARY:Wedstrijd 716 KMVV
CLASS:PUBLIC
DESCRIPTION:Comp wedstrijd 716: MVC Marreva - Twentyone Kortrijk
X-ALT-DESC;FMTTYPE=text/html:Comp wedstrijd 716: <b>MVC Marreva - Twentyone
  Kortrijk</b> te Lagae
X-MICROSOFT-CDO-BUSYSTATUS:FREE
X-MICROSOFT-CDO-INTENDEDSTATUS:FREE
DTSTAMP:20260423T090838Z
BEGIN:VALARM
TRIGGER:-P1D
ACTION:DISPLAY
DESCRIPTION:Comp wedstrijd 716: MVC Marreva - Twentyone Kortrijk
END:VALARM
END:VEVENT
BEGIN:VEVENT
UID:69e9e1968fdca
DTSTART:20260619T170000Z
SEQUENCE:0
TRANSP:OPAQUE
LOCATION:Rollegem
SUMMARY:Wedstrijd 772 KMVV
CLASS:PUBLIC
DESCRIPTION:Comp wedstrijd 772: Twentyone Kortrijk - Joga Bonito FC
X-ALT-DESC;FMTTYPE=text/html:Comp wedstrijd 772: <b>Twentyone Kortrijk - Jo
 ga Bonito FC</b> te Rollegem
X-MICROSOFT-CDO-BUSYSTATUS:FREE
X-MICROSOFT-CDO-INTENDEDSTATUS:FREE
DTSTAMP:20260423T090838Z
BEGIN:VALARM
TRIGGER:-P1D
ACTION:DISPLAY
DESCRIPTION:Comp wedstrijd 772: Twentyone Kortrijk - Joga Bonito FC
END:VALARM
END:VEVENT
END:VCALENDAR