BEGIN:VCALENDAR
VERSION:2.0
PRODID:www.kmvv.be
BEGIN:VEVENT
UID:69e9e3da9de66
DTSTART:20250901T180000Z
SEQUENCE:0
TRANSP:OPAQUE
LOCATION:Lagae
SUMMARY:Wedstrijd 4 KMVV
CLASS:PUBLIC
DESCRIPTION:Comp wedstrijd 4: St Antonius/Den Hert - Zakouzkys
X-ALT-DESC;FMTTYPE=text/html:Comp wedstrijd 4: <b>St Antonius/Den Hert - Za
 kouzkys</b> te Lagae
X-MICROSOFT-CDO-BUSYSTATUS:FREE
X-MICROSOFT-CDO-INTENDEDSTATUS:FREE
DTSTAMP:20260423T091818Z
BEGIN:VALARM
TRIGGER:-P1D
ACTION:DISPLAY
DESCRIPTION:Comp wedstrijd 4: St Antonius/Den Hert - Zakouzkys
END:VALARM
END:VEVENT
BEGIN:VEVENT
UID:69e9e3da9e43c
DTSTART:20250915T180000Z
SEQUENCE:0
TRANSP:OPAQUE
LOCATION:Lagae
SUMMARY:Wedstrijd 23 KMVV
CLASS:PUBLIC
DESCRIPTION:Comp wedstrijd 23: Lokomotiv Popo - Zakouzkys
X-ALT-DESC;FMTTYPE=text/html:Comp wedstrijd 23: <b>Lokomotiv Popo - Zakouzk
 ys</b> te Lagae
X-MICROSOFT-CDO-BUSYSTATUS:FREE
X-MICROSOFT-CDO-INTENDEDSTATUS:FREE
DTSTAMP:20260423T091818Z
BEGIN:VALARM
TRIGGER:-P1D
ACTION:DISPLAY
DESCRIPTION:Comp wedstrijd 23: Lokomotiv Popo - Zakouzkys
END:VALARM
END:VEVENT
BEGIN:VEVENT
UID:69e9e3da9e46b
DTSTART:20250925T193000Z
SEQUENCE:0
TRANSP:OPAQUE
LOCATION:Bissegem
SUMMARY:Wedstrijd 74 KMVV
CLASS:PUBLIC
DESCRIPTION:Comp wedstrijd 74: Zakouzkys - Omer Oliever
X-ALT-DESC;FMTTYPE=text/html:Comp wedstrijd 74: <b>Zakouzkys - Omer Oliever
 </b> te Bissegem
X-MICROSOFT-CDO-BUSYSTATUS:FREE
X-MICROSOFT-CDO-INTENDEDSTATUS:FREE
DTSTAMP:20260423T091818Z
BEGIN:VALARM
TRIGGER:-P1D
ACTION:DISPLAY
DESCRIPTION:Comp wedstrijd 74: Zakouzkys - Omer Oliever
END:VALARM
END:VEVENT
BEGIN:VEVENT
UID:69e9e3da9e484
DTSTART:20251009T183000Z
SEQUENCE:0
TRANSP:OPAQUE
LOCATION:Rollegem
SUMMARY:Wedstrijd 117 KMVV
CLASS:PUBLIC
DESCRIPTION:Comp wedstrijd 117: De Rooftoppers - Zakouzkys
X-ALT-DESC;FMTTYPE=text/html:Comp wedstrijd 117: <b>De Rooftoppers - Zakouz
 kys</b> te Rollegem
X-MICROSOFT-CDO-BUSYSTATUS:FREE
X-MICROSOFT-CDO-INTENDEDSTATUS:FREE
DTSTAMP:20260423T091818Z
BEGIN:VALARM
TRIGGER:-P1D
ACTION:DISPLAY
DESCRIPTION:Comp wedstrijd 117: De Rooftoppers - Zakouzkys
END:VALARM
END:VEVENT
BEGIN:VEVENT
UID:69e9e3da9e49b
DTSTART:20251023T193000Z
SEQUENCE:0
TRANSP:OPAQUE
LOCATION:Bissegem
SUMMARY:Wedstrijd 151 KMVV
CLASS:PUBLIC
DESCRIPTION:Comp wedstrijd 151: Zakouzkys - De vagant
X-ALT-DESC;FMTTYPE=text/html:Comp wedstrijd 151: <b>Zakouzkys - De vagant</
 b> te Bissegem
X-MICROSOFT-CDO-BUSYSTATUS:FREE
X-MICROSOFT-CDO-INTENDEDSTATUS:FREE
DTSTAMP:20260423T091818Z
BEGIN:VALARM
TRIGGER:-P1D
ACTION:DISPLAY
DESCRIPTION:Comp wedstrijd 151: Zakouzkys - De vagant
END:VALARM
END:VEVENT
BEGIN:VEVENT
UID:69e9e3da9e4af
DTSTART:20251030T183000Z
SEQUENCE:0
TRANSP:OPAQUE
LOCATION:Bissegem
SUMMARY:Wedstrijd 173 KMVV
CLASS:PUBLIC
DESCRIPTION:Comp wedstrijd 173: Moterwalen '09 - Zakouzkys
X-ALT-DESC;FMTTYPE=text/html:Comp wedstrijd 173: <b>Moterwalen '09 - Zakouz
 kys</b> te Bissegem
X-MICROSOFT-CDO-BUSYSTATUS:FREE
X-MICROSOFT-CDO-INTENDEDSTATUS:FREE
DTSTAMP:20260423T091818Z
BEGIN:VALARM
TRIGGER:-P1D
ACTION:DISPLAY
DESCRIPTION:Comp wedstrijd 173: Moterwalen '09 - Zakouzkys
END:VALARM
END:VEVENT
BEGIN:VEVENT
UID:69e9e3da9e4c3
DTSTART:20251112T200000Z
SEQUENCE:0
TRANSP:OPAQUE
LOCATION:Rollegem
SUMMARY:Wedstrijd 212 KMVV
CLASS:PUBLIC
DESCRIPTION:Comp wedstrijd 212: Zakouzkys - Maba
X-ALT-DESC;FMTTYPE=text/html:Comp wedstrijd 212: <b>Zakouzkys - Maba</b> te
  Rollegem
X-MICROSOFT-CDO-BUSYSTATUS:FREE
X-MICROSOFT-CDO-INTENDEDSTATUS:FREE
DTSTAMP:20260423T091818Z
BEGIN:VALARM
TRIGGER:-P1D
ACTION:DISPLAY
DESCRIPTION:Comp wedstrijd 212: Zakouzkys - Maba
END:VALARM
END:VEVENT
BEGIN:VEVENT
UID:69e9e3da9e4d6
DTSTART:20251119T200000Z
SEQUENCE:0
TRANSP:OPAQUE
LOCATION:Rollegem
SUMMARY:Wedstrijd 231 KMVV
CLASS:PUBLIC
DESCRIPTION:Comp wedstrijd 231: Bakkerij Bekaert - Zakouzkys
X-ALT-DESC;FMTTYPE=text/html:Comp wedstrijd 231: <b>Bakkerij Bekaert - Zako
 uzkys</b> te Rollegem
X-MICROSOFT-CDO-BUSYSTATUS:FREE
X-MICROSOFT-CDO-INTENDEDSTATUS:FREE
DTSTAMP:20260423T091818Z
BEGIN:VALARM
TRIGGER:-P1D
ACTION:DISPLAY
DESCRIPTION:Comp wedstrijd 231: Bakkerij Bekaert - Zakouzkys
END:VALARM
END:VEVENT
BEGIN:VEVENT
UID:69e9e3da9e4e9
DTSTART:20251203T200000Z
SEQUENCE:0
TRANSP:OPAQUE
LOCATION:Rollegem
SUMMARY:Wedstrijd 271 KMVV
CLASS:PUBLIC
DESCRIPTION:Comp wedstrijd 271: Zakouzkys - MVC Beauty & More
X-ALT-DESC;FMTTYPE=text/html:Comp wedstrijd 271: <b>Zakouzkys - MVC Beauty 
 & More</b> te Rollegem
X-MICROSOFT-CDO-BUSYSTATUS:FREE
X-MICROSOFT-CDO-INTENDEDSTATUS:FREE
DTSTAMP:20260423T091818Z
BEGIN:VALARM
TRIGGER:-P1D
ACTION:DISPLAY
DESCRIPTION:Comp wedstrijd 271: Zakouzkys - MVC Beauty & More
END:VALARM
END:VEVENT
BEGIN:VEVENT
UID:69e9e3da9e4fc
DTSTART:20251211T180000Z
SEQUENCE:0
TRANSP:OPAQUE
LOCATION:Lagae
SUMMARY:Wedstrijd 297 KMVV
CLASS:PUBLIC
DESCRIPTION:Comp wedstrijd 297: FC White Star - Zakouzkys
X-ALT-DESC;FMTTYPE=text/html:Comp wedstrijd 297: <b>FC White Star - Zakouzk
 ys</b> te Lagae
X-MICROSOFT-CDO-BUSYSTATUS:FREE
X-MICROSOFT-CDO-INTENDEDSTATUS:FREE
DTSTAMP:20260423T091818Z
BEGIN:VALARM
TRIGGER:-P1D
ACTION:DISPLAY
DESCRIPTION:Comp wedstrijd 297: FC White Star - Zakouzkys
END:VALARM
END:VEVENT
BEGIN:VEVENT
UID:69e9e3da9e50f
DTSTART:20251222T180000Z
SEQUENCE:0
TRANSP:OPAQUE
LOCATION:Rollegem
SUMMARY:Wedstrijd 323 KMVV
CLASS:PUBLIC
DESCRIPTION:Comp wedstrijd 323: Zakouzkys - Y.B.Speelplaneet
X-ALT-DESC;FMTTYPE=text/html:Comp wedstrijd 323: <b>Zakouzkys - Y.B.Speelpl
 aneet</b> te Rollegem
X-MICROSOFT-CDO-BUSYSTATUS:FREE
X-MICROSOFT-CDO-INTENDEDSTATUS:FREE
DTSTAMP:20260423T091818Z
BEGIN:VALARM
TRIGGER:-P1D
ACTION:DISPLAY
DESCRIPTION:Comp wedstrijd 323: Zakouzkys - Y.B.Speelplaneet
END:VALARM
END:VEVENT
BEGIN:VEVENT
UID:69e9e3da9e522
DTSTART:20260115T203000Z
SEQUENCE:0
TRANSP:OPAQUE
LOCATION:Bissegem
SUMMARY:Wedstrijd 372 KMVV
CLASS:PUBLIC
DESCRIPTION:Comp wedstrijd 372: Zakouzkys - Blacks
X-ALT-DESC;FMTTYPE=text/html:Comp wedstrijd 372: <b>Zakouzkys - Blacks</b> 
 te Bissegem
X-MICROSOFT-CDO-BUSYSTATUS:FREE
X-MICROSOFT-CDO-INTENDEDSTATUS:FREE
DTSTAMP:20260423T091818Z
BEGIN:VALARM
TRIGGER:-P1D
ACTION:DISPLAY
DESCRIPTION:Comp wedstrijd 372: Zakouzkys - Blacks
END:VALARM
END:VEVENT
BEGIN:VEVENT
UID:69e9e3da9e535
DTSTART:20260119T180000Z
SEQUENCE:0
TRANSP:OPAQUE
LOCATION:Rollegem
SUMMARY:Wedstrijd 385 KMVV
CLASS:PUBLIC
DESCRIPTION:Comp wedstrijd 385: Zakouzkys - TD Decor
X-ALT-DESC;FMTTYPE=text/html:Comp wedstrijd 385: <b>Zakouzkys - TD Decor</b
 > te Rollegem
X-MICROSOFT-CDO-BUSYSTATUS:FREE
X-MICROSOFT-CDO-INTENDEDSTATUS:FREE
DTSTAMP:20260423T091818Z
BEGIN:VALARM
TRIGGER:-P1D
ACTION:DISPLAY
DESCRIPTION:Comp wedstrijd 385: Zakouzkys - TD Decor
END:VALARM
END:VEVENT
BEGIN:VEVENT
UID:69e9e3da9e549
DTSTART:20260302T200000Z
SEQUENCE:0
TRANSP:OPAQUE
LOCATION:Lagae
SUMMARY:Wedstrijd 451 KMVV
CLASS:PUBLIC
DESCRIPTION:Comp wedstrijd 451: Rosseeuw interieurs - Zakouzkys
X-ALT-DESC;FMTTYPE=text/html:Comp wedstrijd 451: <b>Rosseeuw interieurs - Z
 akouzkys</b> te Lagae
X-MICROSOFT-CDO-BUSYSTATUS:FREE
X-MICROSOFT-CDO-INTENDEDSTATUS:FREE
DTSTAMP:20260423T091818Z
BEGIN:VALARM
TRIGGER:-P1D
ACTION:DISPLAY
DESCRIPTION:Comp wedstrijd 451: Rosseeuw interieurs - Zakouzkys
END:VALARM
END:VEVENT
BEGIN:VEVENT
UID:69e9e3da9e55c
DTSTART:20260311T200000Z
SEQUENCE:0
TRANSP:OPAQUE
LOCATION:Rollegem
SUMMARY:Wedstrijd 477 KMVV
CLASS:PUBLIC
DESCRIPTION:Comp wedstrijd 477: Zakouzkys - Café Dudu
X-ALT-DESC;FMTTYPE=text/html:Comp wedstrijd 477: <b>Zakouzkys - Café Dudu<
 /b> te Rollegem
X-MICROSOFT-CDO-BUSYSTATUS:FREE
X-MICROSOFT-CDO-INTENDEDSTATUS:FREE
DTSTAMP:20260423T091818Z
BEGIN:VALARM
TRIGGER:-P1D
ACTION:DISPLAY
DESCRIPTION:Comp wedstrijd 477: Zakouzkys - Café Dudu
END:VALARM
END:VEVENT
BEGIN:VEVENT
UID:69e9e3da9e56e
DTSTART:20260323T180000Z
SEQUENCE:0
TRANSP:OPAQUE
LOCATION:Rollegem
SUMMARY:Wedstrijd 512 KMVV
CLASS:PUBLIC
DESCRIPTION:Comp wedstrijd 512: FC Tamzakken - Zakouzkys
X-ALT-DESC;FMTTYPE=text/html:Comp wedstrijd 512: <b>FC Tamzakken - Zakouzky
 s</b> te Rollegem
X-MICROSOFT-CDO-BUSYSTATUS:FREE
X-MICROSOFT-CDO-INTENDEDSTATUS:FREE
DTSTAMP:20260423T091818Z
BEGIN:VALARM
TRIGGER:-P1D
ACTION:DISPLAY
DESCRIPTION:Comp wedstrijd 512: FC Tamzakken - Zakouzkys
END:VALARM
END:VEVENT
BEGIN:VEVENT
UID:69e9e3da9e580
DTSTART:20260416T173000Z
SEQUENCE:0
TRANSP:OPAQUE
LOCATION:Bissegem
SUMMARY:Wedstrijd 561 KMVV
CLASS:PUBLIC
DESCRIPTION:Comp wedstrijd 561: Zakouzkys - De fruitsjotters
X-ALT-DESC;FMTTYPE=text/html:Comp wedstrijd 561: <b>Zakouzkys - De fruitsjo
 tters</b> te Bissegem
X-MICROSOFT-CDO-BUSYSTATUS:FREE
X-MICROSOFT-CDO-INTENDEDSTATUS:FREE
DTSTAMP:20260423T091818Z
BEGIN:VALARM
TRIGGER:-P1D
ACTION:DISPLAY
DESCRIPTION:Comp wedstrijd 561: Zakouzkys - De fruitsjotters
END:VALARM
END:VEVENT
BEGIN:VEVENT
UID:69e9e3da9e592
DTSTART:20260422T180000Z
SEQUENCE:0
TRANSP:OPAQUE
LOCATION:Rollegem
SUMMARY:Wedstrijd 578 KMVV
CLASS:PUBLIC
DESCRIPTION:Comp wedstrijd 578: Twentyone Kortrijk - Zakouzkys
X-ALT-DESC;FMTTYPE=text/html:Comp wedstrijd 578: <b>Twentyone Kortrijk - Za
 kouzkys</b> te Rollegem
X-MICROSOFT-CDO-BUSYSTATUS:FREE
X-MICROSOFT-CDO-INTENDEDSTATUS:FREE
DTSTAMP:20260423T091818Z
BEGIN:VALARM
TRIGGER:-P1D
ACTION:DISPLAY
DESCRIPTION:Comp wedstrijd 578: Twentyone Kortrijk - Zakouzkys
END:VALARM
END:VEVENT
BEGIN:VEVENT
UID:69e9e3da9e5a4
DTSTART:20260507T173000Z
SEQUENCE:0
TRANSP:OPAQUE
LOCATION:Bissegem
SUMMARY:Wedstrijd 620 KMVV
CLASS:PUBLIC
DESCRIPTION:Comp wedstrijd 620: MVC Frères Des Bières - Zakouzkys
X-ALT-DESC;FMTTYPE=text/html:Comp wedstrijd 620: <b>MVC Frères Des Bières
  - Zakouzkys</b> te Bissegem
X-MICROSOFT-CDO-BUSYSTATUS:FREE
X-MICROSOFT-CDO-INTENDEDSTATUS:FREE
DTSTAMP:20260423T091818Z
BEGIN:VALARM
TRIGGER:-P1D
ACTION:DISPLAY
DESCRIPTION:Comp wedstrijd 620: MVC Frères Des Bières - Zakouzkys
END:VALARM
END:VEVENT
BEGIN:VEVENT
UID:69e9e3da9e5b6
DTSTART:20260521T183000Z
SEQUENCE:0
TRANSP:OPAQUE
LOCATION:Rollegem
SUMMARY:Wedstrijd 656 KMVV
CLASS:PUBLIC
DESCRIPTION:Comp wedstrijd 656: Zakouzkys - Electro Labarque
X-ALT-DESC;FMTTYPE=text/html:Comp wedstrijd 656: <b>Zakouzkys - Electro Lab
 arque</b> te Rollegem
X-MICROSOFT-CDO-BUSYSTATUS:FREE
X-MICROSOFT-CDO-INTENDEDSTATUS:FREE
DTSTAMP:20260423T091818Z
BEGIN:VALARM
TRIGGER:-P1D
ACTION:DISPLAY
DESCRIPTION:Comp wedstrijd 656: Zakouzkys - Electro Labarque
END:VALARM
END:VEVENT
BEGIN:VEVENT
UID:69e9e3da9e5c8
DTSTART:20260527T170000Z
SEQUENCE:0
TRANSP:OPAQUE
LOCATION:Bissegem
SUMMARY:Wedstrijd 665 KMVV
CLASS:PUBLIC
DESCRIPTION:Comp wedstrijd 665: The red bastards - Zakouzkys
X-ALT-DESC;FMTTYPE=text/html:Comp wedstrijd 665: <b>The red bastards - Zako
 uzkys</b> te Bissegem
X-MICROSOFT-CDO-BUSYSTATUS:FREE
X-MICROSOFT-CDO-INTENDEDSTATUS:FREE
DTSTAMP:20260423T091818Z
BEGIN:VALARM
TRIGGER:-P1D
ACTION:DISPLAY
DESCRIPTION:Comp wedstrijd 665: The red bastards - Zakouzkys
END:VALARM
END:VEVENT
BEGIN:VEVENT
UID:69e9e3da9e5db
DTSTART:20260601T190000Z
SEQUENCE:0
TRANSP:OPAQUE
LOCATION:Lagae
SUMMARY:Wedstrijd 686 KMVV
CLASS:PUBLIC
DESCRIPTION:Comp wedstrijd 686: Zakouzkys - MVC Marreva
X-ALT-DESC;FMTTYPE=text/html:Comp wedstrijd 686: <b>Zakouzkys - MVC Marreva
 </b> te Lagae
X-MICROSOFT-CDO-BUSYSTATUS:FREE
X-MICROSOFT-CDO-INTENDEDSTATUS:FREE
DTSTAMP:20260423T091818Z
BEGIN:VALARM
TRIGGER:-P1D
ACTION:DISPLAY
DESCRIPTION:Comp wedstrijd 686: Zakouzkys - MVC Marreva
END:VALARM
END:VEVENT
BEGIN:VEVENT
UID:69e9e3da9e5ec
DTSTART:20260612T190000Z
SEQUENCE:0
TRANSP:OPAQUE
LOCATION:Bissegem
SUMMARY:Wedstrijd 740 KMVV
CLASS:PUBLIC
DESCRIPTION:Comp wedstrijd 740: Joga Bonito FC - Zakouzkys
X-ALT-DESC;FMTTYPE=text/html:Comp wedstrijd 740: <b>Joga Bonito FC - Zakouz
 kys</b> te Bissegem
X-MICROSOFT-CDO-BUSYSTATUS:FREE
X-MICROSOFT-CDO-INTENDEDSTATUS:FREE
DTSTAMP:20260423T091818Z
BEGIN:VALARM
TRIGGER:-P1D
ACTION:DISPLAY
DESCRIPTION:Comp wedstrijd 740: Joga Bonito FC - Zakouzkys
END:VALARM
END:VEVENT
BEGIN:VEVENT
UID:69e9e3da9e5fe
DTSTART:20260618T170000Z
SEQUENCE:0
TRANSP:OPAQUE
LOCATION:Bissegem
SUMMARY:Wedstrijd 762 KMVV
CLASS:PUBLIC
DESCRIPTION:Comp wedstrijd 762: Zakouzkys - St Antonius/Den Hert
X-ALT-DESC;FMTTYPE=text/html:Comp wedstrijd 762: <b>Zakouzkys - St Antonius
 /Den Hert</b> te Bissegem
X-MICROSOFT-CDO-BUSYSTATUS:FREE
X-MICROSOFT-CDO-INTENDEDSTATUS:FREE
DTSTAMP:20260423T091818Z
BEGIN:VALARM
TRIGGER:-P1D
ACTION:DISPLAY
DESCRIPTION:Comp wedstrijd 762: Zakouzkys - St Antonius/Den Hert
END:VALARM
END:VEVENT
BEGIN:VEVENT
UID:69e9e3da9e610
DTSTART:20260625T180000Z
SEQUENCE:0
TRANSP:OPAQUE
LOCATION:Bissegem
SUMMARY:Wedstrijd 789 KMVV
CLASS:PUBLIC
DESCRIPTION:Comp wedstrijd 789: Zakouzkys - MVC Beauty & More
X-ALT-DESC;FMTTYPE=text/html:Comp wedstrijd 789: <b>Zakouzkys - MVC Beauty 
 & More</b> te Bissegem
X-MICROSOFT-CDO-BUSYSTATUS:FREE
X-MICROSOFT-CDO-INTENDEDSTATUS:FREE
DTSTAMP:20260423T091818Z
BEGIN:VALARM
TRIGGER:-P1D
ACTION:DISPLAY
DESCRIPTION:Comp wedstrijd 789: Zakouzkys - MVC Beauty & More
END:VALARM
END:VEVENT
END:VCALENDAR