BEGIN:VCALENDAR
VERSION:2.0
PRODID:www.kmvv.be
BEGIN:VEVENT
UID:69e9e1050e490
DTSTART:20250904T160000Z
SEQUENCE:0
TRANSP:OPAQUE
LOCATION:Lagae
SUMMARY:Wedstrijd 16 KMVV
CLASS:PUBLIC
DESCRIPTION:Comp wedstrijd 16: Incognito - MVC Marreva
X-ALT-DESC;FMTTYPE=text/html:Comp wedstrijd 16: <b>Incognito - MVC Marreva<
 /b> te Lagae
X-MICROSOFT-CDO-BUSYSTATUS:FREE
X-MICROSOFT-CDO-INTENDEDSTATUS:FREE
DTSTAMP:20260423T090613Z
BEGIN:VALARM
TRIGGER:-P1D
ACTION:DISPLAY
DESCRIPTION:Comp wedstrijd 16: Incognito - MVC Marreva
END:VALARM
END:VEVENT
BEGIN:VEVENT
UID:69e9e1050ea74
DTSTART:20250917T193000Z
SEQUENCE:0
TRANSP:OPAQUE
LOCATION:Bissegem
SUMMARY:Wedstrijd 50 KMVV
CLASS:PUBLIC
DESCRIPTION:Comp wedstrijd 50: Incognito - De Interistas
X-ALT-DESC;FMTTYPE=text/html:Comp wedstrijd 50: <b>Incognito - De Interista
 s</b> te Bissegem
X-MICROSOFT-CDO-BUSYSTATUS:FREE
X-MICROSOFT-CDO-INTENDEDSTATUS:FREE
DTSTAMP:20260423T090613Z
BEGIN:VALARM
TRIGGER:-P1D
ACTION:DISPLAY
DESCRIPTION:Comp wedstrijd 50: Incognito - De Interistas
END:VALARM
END:VEVENT
BEGIN:VEVENT
UID:69e9e1050eaa6
DTSTART:20251008T180000Z
SEQUENCE:0
TRANSP:OPAQUE
LOCATION:Rollegem
SUMMARY:Wedstrijd 110 KMVV
CLASS:PUBLIC
DESCRIPTION:Comp wedstrijd 110: Incognito - Goalkick Murphys
X-ALT-DESC;FMTTYPE=text/html:Comp wedstrijd 110: <b>Incognito - Goalkick Mu
 rphys</b> te Rollegem
X-MICROSOFT-CDO-BUSYSTATUS:FREE
X-MICROSOFT-CDO-INTENDEDSTATUS:FREE
DTSTAMP:20260423T090613Z
BEGIN:VALARM
TRIGGER:-P1D
ACTION:DISPLAY
DESCRIPTION:Comp wedstrijd 110: Incognito - Goalkick Murphys
END:VALARM
END:VEVENT
BEGIN:VEVENT
UID:69e9e1050eac1
DTSTART:20251022T180000Z
SEQUENCE:0
TRANSP:OPAQUE
LOCATION:Rollegem
SUMMARY:Wedstrijd 150 KMVV
CLASS:PUBLIC
DESCRIPTION:Comp wedstrijd 150: Rosseeuw interieurs - Incognito
X-ALT-DESC;FMTTYPE=text/html:Comp wedstrijd 150: <b>Rosseeuw interieurs - I
 ncognito</b> te Rollegem
X-MICROSOFT-CDO-BUSYSTATUS:FREE
X-MICROSOFT-CDO-INTENDEDSTATUS:FREE
DTSTAMP:20260423T090613Z
BEGIN:VALARM
TRIGGER:-P1D
ACTION:DISPLAY
DESCRIPTION:Comp wedstrijd 150: Rosseeuw interieurs - Incognito
END:VALARM
END:VEVENT
BEGIN:VEVENT
UID:69e9e1050ead7
DTSTART:20251031T180000Z
SEQUENCE:0
TRANSP:OPAQUE
LOCATION:Rollegem
SUMMARY:Wedstrijd 179 KMVV
CLASS:PUBLIC
DESCRIPTION:Comp wedstrijd 179: Incognito - Café Dudu
X-ALT-DESC;FMTTYPE=text/html:Comp wedstrijd 179: <b>Incognito - Café Dudu<
 /b> te Rollegem
X-MICROSOFT-CDO-BUSYSTATUS:FREE
X-MICROSOFT-CDO-INTENDEDSTATUS:FREE
DTSTAMP:20260423T090613Z
BEGIN:VALARM
TRIGGER:-P1D
ACTION:DISPLAY
DESCRIPTION:Comp wedstrijd 179: Incognito - Café Dudu
END:VALARM
END:VEVENT
BEGIN:VEVENT
UID:69e9e1050eaec
DTSTART:20251113T183000Z
SEQUENCE:0
TRANSP:OPAQUE
LOCATION:Bissegem
SUMMARY:Wedstrijd 213 KMVV
CLASS:PUBLIC
DESCRIPTION:Comp wedstrijd 213: De Foodballers - Incognito
X-ALT-DESC;FMTTYPE=text/html:Comp wedstrijd 213: <b>De Foodballers - Incogn
 ito</b> te Bissegem
X-MICROSOFT-CDO-BUSYSTATUS:FREE
X-MICROSOFT-CDO-INTENDEDSTATUS:FREE
DTSTAMP:20260423T090613Z
BEGIN:VALARM
TRIGGER:-P1D
ACTION:DISPLAY
DESCRIPTION:Comp wedstrijd 213: De Foodballers - Incognito
END:VALARM
END:VEVENT
BEGIN:VEVENT
UID:69e9e1050eb0b
DTSTART:20251121T170000Z
SEQUENCE:0
TRANSP:OPAQUE
LOCATION:Rollegem
SUMMARY:Wedstrijd 239 KMVV
CLASS:PUBLIC
DESCRIPTION:Comp wedstrijd 239: Incognito - Coiffeurs City
X-ALT-DESC;FMTTYPE=text/html:Comp wedstrijd 239: <b>Incognito - Coiffeurs C
 ity</b> te Rollegem
X-MICROSOFT-CDO-BUSYSTATUS:FREE
X-MICROSOFT-CDO-INTENDEDSTATUS:FREE
DTSTAMP:20260423T090613Z
BEGIN:VALARM
TRIGGER:-P1D
ACTION:DISPLAY
DESCRIPTION:Comp wedstrijd 239: Incognito - Coiffeurs City
END:VALARM
END:VEVENT
BEGIN:VEVENT
UID:69e9e1050eb20
DTSTART:20251204T203000Z
SEQUENCE:0
TRANSP:OPAQUE
LOCATION:Rollegem
SUMMARY:Wedstrijd 278 KMVV
CLASS:PUBLIC
DESCRIPTION:Comp wedstrijd 278: De fruitsjotters - Incognito
X-ALT-DESC;FMTTYPE=text/html:Comp wedstrijd 278: <b>De fruitsjotters - Inco
 gnito</b> te Rollegem
X-MICROSOFT-CDO-BUSYSTATUS:FREE
X-MICROSOFT-CDO-INTENDEDSTATUS:FREE
DTSTAMP:20260423T090613Z
BEGIN:VALARM
TRIGGER:-P1D
ACTION:DISPLAY
DESCRIPTION:Comp wedstrijd 278: De fruitsjotters - Incognito
END:VALARM
END:VEVENT
BEGIN:VEVENT
UID:69e9e1050eb34
DTSTART:20251218T193000Z
SEQUENCE:0
TRANSP:OPAQUE
LOCATION:Rollegem
SUMMARY:Wedstrijd 317 KMVV
CLASS:PUBLIC
DESCRIPTION:Comp wedstrijd 317: Incognito - FC Avanco
X-ALT-DESC;FMTTYPE=text/html:Comp wedstrijd 317: <b>Incognito - FC Avanco</
 b> te Rollegem
X-MICROSOFT-CDO-BUSYSTATUS:FREE
X-MICROSOFT-CDO-INTENDEDSTATUS:FREE
DTSTAMP:20260423T090613Z
BEGIN:VALARM
TRIGGER:-P1D
ACTION:DISPLAY
DESCRIPTION:Comp wedstrijd 317: Incognito - FC Avanco
END:VALARM
END:VEVENT
BEGIN:VEVENT
UID:69e9e1050eb47
DTSTART:20260108T193000Z
SEQUENCE:0
TRANSP:OPAQUE
LOCATION:Bissegem
SUMMARY:Wedstrijd 352 KMVV
CLASS:PUBLIC
DESCRIPTION:Comp wedstrijd 352: Incognito - Electro Labarque
X-ALT-DESC;FMTTYPE=text/html:Comp wedstrijd 352: <b>Incognito - Electro Lab
 arque</b> te Bissegem
X-MICROSOFT-CDO-BUSYSTATUS:FREE
X-MICROSOFT-CDO-INTENDEDSTATUS:FREE
DTSTAMP:20260423T090613Z
BEGIN:VALARM
TRIGGER:-P1D
ACTION:DISPLAY
DESCRIPTION:Comp wedstrijd 352: Incognito - Electro Labarque
END:VALARM
END:VEVENT
BEGIN:VEVENT
UID:69e9e1050eb5c
DTSTART:20260114T200000Z
SEQUENCE:0
TRANSP:OPAQUE
LOCATION:Rollegem
SUMMARY:Wedstrijd 369 KMVV
CLASS:PUBLIC
DESCRIPTION:Comp wedstrijd 369: The red bastards - Incognito
X-ALT-DESC;FMTTYPE=text/html:Comp wedstrijd 369: <b>The red bastards - Inco
 gnito</b> te Rollegem
X-MICROSOFT-CDO-BUSYSTATUS:FREE
X-MICROSOFT-CDO-INTENDEDSTATUS:FREE
DTSTAMP:20260423T090613Z
BEGIN:VALARM
TRIGGER:-P1D
ACTION:DISPLAY
DESCRIPTION:Comp wedstrijd 369: The red bastards - Incognito
END:VALARM
END:VEVENT
BEGIN:VEVENT
UID:69e9e1050eb6f
DTSTART:20260121T200000Z
SEQUENCE:0
TRANSP:OPAQUE
LOCATION:Rollegem
SUMMARY:Wedstrijd 390 KMVV
CLASS:PUBLIC
DESCRIPTION:Comp wedstrijd 390: Garfield '85 - Incognito
X-ALT-DESC;FMTTYPE=text/html:Comp wedstrijd 390: <b>Garfield '85 - Incognit
 o</b> te Rollegem
X-MICROSOFT-CDO-BUSYSTATUS:FREE
X-MICROSOFT-CDO-INTENDEDSTATUS:FREE
DTSTAMP:20260423T090613Z
BEGIN:VALARM
TRIGGER:-P1D
ACTION:DISPLAY
DESCRIPTION:Comp wedstrijd 390: Garfield '85 - Incognito
END:VALARM
END:VEVENT
BEGIN:VEVENT
UID:69e9e1050eb82
DTSTART:20260204T190000Z
SEQUENCE:0
TRANSP:OPAQUE
LOCATION:Rollegem
SUMMARY:Wedstrijd 96 KMVV
CLASS:PUBLIC
DESCRIPTION:Comp wedstrijd 96: Logiegrafix - Incognito
X-ALT-DESC;FMTTYPE=text/html:Comp wedstrijd 96: <b>Logiegrafix - Incognito<
 /b> te Rollegem
X-MICROSOFT-CDO-BUSYSTATUS:FREE
X-MICROSOFT-CDO-INTENDEDSTATUS:FREE
DTSTAMP:20260423T090613Z
BEGIN:VALARM
TRIGGER:-P1D
ACTION:DISPLAY
DESCRIPTION:Comp wedstrijd 96: Logiegrafix - Incognito
END:VALARM
END:VEVENT
BEGIN:VEVENT
UID:69e9e1050eb95
DTSTART:20260219T170000Z
SEQUENCE:0
TRANSP:OPAQUE
LOCATION:Lagae
SUMMARY:Wedstrijd 422 KMVV
CLASS:PUBLIC
DESCRIPTION:Comp wedstrijd 422: Incognito - Sporting Artois
X-ALT-DESC;FMTTYPE=text/html:Comp wedstrijd 422: <b>Incognito - Sporting Ar
 tois</b> te Lagae
X-MICROSOFT-CDO-BUSYSTATUS:FREE
X-MICROSOFT-CDO-INTENDEDSTATUS:FREE
DTSTAMP:20260423T090613Z
BEGIN:VALARM
TRIGGER:-P1D
ACTION:DISPLAY
DESCRIPTION:Comp wedstrijd 422: Incognito - Sporting Artois
END:VALARM
END:VEVENT
BEGIN:VEVENT
UID:69e9e1050eba8
DTSTART:20260226T170000Z
SEQUENCE:0
TRANSP:OPAQUE
LOCATION:Lagae
SUMMARY:Wedstrijd 441 KMVV
CLASS:PUBLIC
DESCRIPTION:Comp wedstrijd 441: Incognito - Pep.link
X-ALT-DESC;FMTTYPE=text/html:Comp wedstrijd 441: <b>Incognito - Pep.link</b
 > te Lagae
X-MICROSOFT-CDO-BUSYSTATUS:FREE
X-MICROSOFT-CDO-INTENDEDSTATUS:FREE
DTSTAMP:20260423T090613Z
BEGIN:VALARM
TRIGGER:-P1D
ACTION:DISPLAY
DESCRIPTION:Comp wedstrijd 441: Incognito - Pep.link
END:VALARM
END:VEVENT
BEGIN:VEVENT
UID:69e9e1050ebba
DTSTART:20260319T183000Z
SEQUENCE:0
TRANSP:OPAQUE
LOCATION:Bissegem
SUMMARY:Wedstrijd 499 KMVV
CLASS:PUBLIC
DESCRIPTION:Comp wedstrijd 499: KV Cortoriacum - Incognito
X-ALT-DESC;FMTTYPE=text/html:Comp wedstrijd 499: <b>KV Cortoriacum - Incogn
 ito</b> te Bissegem
X-MICROSOFT-CDO-BUSYSTATUS:FREE
X-MICROSOFT-CDO-INTENDEDSTATUS:FREE
DTSTAMP:20260423T090613Z
BEGIN:VALARM
TRIGGER:-P1D
ACTION:DISPLAY
DESCRIPTION:Comp wedstrijd 499: KV Cortoriacum - Incognito
END:VALARM
END:VEVENT
BEGIN:VEVENT
UID:69e9e1050ebcd
DTSTART:20260402T173000Z
SEQUENCE:0
TRANSP:OPAQUE
LOCATION:Bissegem
SUMMARY:Wedstrijd 532 KMVV
CLASS:PUBLIC
DESCRIPTION:Comp wedstrijd 532: Incognito - Descaplant
X-ALT-DESC;FMTTYPE=text/html:Comp wedstrijd 532: <b>Incognito - Descaplant<
 /b> te Bissegem
X-MICROSOFT-CDO-BUSYSTATUS:FREE
X-MICROSOFT-CDO-INTENDEDSTATUS:FREE
DTSTAMP:20260423T090613Z
BEGIN:VALARM
TRIGGER:-P1D
ACTION:DISPLAY
DESCRIPTION:Comp wedstrijd 532: Incognito - Descaplant
END:VALARM
END:VEVENT
BEGIN:VEVENT
UID:69e9e1050ebe1
DTSTART:20260409T193000Z
SEQUENCE:0
TRANSP:OPAQUE
LOCATION:Rollegem
SUMMARY:Wedstrijd 548 KMVV
CLASS:PUBLIC
DESCRIPTION:Comp wedstrijd 548: fc pottelberg - Incognito
X-ALT-DESC;FMTTYPE=text/html:Comp wedstrijd 548: <b>fc pottelberg - Incogni
 to</b> te Rollegem
X-MICROSOFT-CDO-BUSYSTATUS:FREE
X-MICROSOFT-CDO-INTENDEDSTATUS:FREE
DTSTAMP:20260423T090613Z
BEGIN:VALARM
TRIGGER:-P1D
ACTION:DISPLAY
DESCRIPTION:Comp wedstrijd 548: fc pottelberg - Incognito
END:VALARM
END:VEVENT
BEGIN:VEVENT
UID:69e9e1050ebf4
DTSTART:20260423T183000Z
SEQUENCE:0
TRANSP:OPAQUE
LOCATION:Bissegem
SUMMARY:Wedstrijd 581 KMVV
CLASS:PUBLIC
DESCRIPTION:Comp wedstrijd 581: Incognito - Garfield '85
X-ALT-DESC;FMTTYPE=text/html:Comp wedstrijd 581: <b>Incognito - Garfield '8
 5</b> te Bissegem
X-MICROSOFT-CDO-BUSYSTATUS:FREE
X-MICROSOFT-CDO-INTENDEDSTATUS:FREE
DTSTAMP:20260423T090613Z
BEGIN:VALARM
TRIGGER:-P1D
ACTION:DISPLAY
DESCRIPTION:Comp wedstrijd 581: Incognito - Garfield '85
END:VALARM
END:VEVENT
BEGIN:VEVENT
UID:69e9e1050ec07
DTSTART:20260507T183000Z
SEQUENCE:0
TRANSP:OPAQUE
LOCATION:Rollegem
SUMMARY:Wedstrijd 625 KMVV
CLASS:PUBLIC
DESCRIPTION:Comp wedstrijd 625: FC Avanco - Incognito
X-ALT-DESC;FMTTYPE=text/html:Comp wedstrijd 625: <b>FC Avanco - Incognito</
 b> te Rollegem
X-MICROSOFT-CDO-BUSYSTATUS:FREE
X-MICROSOFT-CDO-INTENDEDSTATUS:FREE
DTSTAMP:20260423T090613Z
BEGIN:VALARM
TRIGGER:-P1D
ACTION:DISPLAY
DESCRIPTION:Comp wedstrijd 625: FC Avanco - Incognito
END:VALARM
END:VEVENT
BEGIN:VEVENT
UID:69e9e1050ec1a
DTSTART:20260522T160000Z
SEQUENCE:0
TRANSP:OPAQUE
LOCATION:Rollegem
SUMMARY:Wedstrijd 658 KMVV
CLASS:PUBLIC
DESCRIPTION:Comp wedstrijd 658: Incognito - MVC 't Koningshof
X-ALT-DESC;FMTTYPE=text/html:Comp wedstrijd 658: <b>Incognito - MVC 't Koni
 ngshof</b> te Rollegem
X-MICROSOFT-CDO-BUSYSTATUS:FREE
X-MICROSOFT-CDO-INTENDEDSTATUS:FREE
DTSTAMP:20260423T090613Z
BEGIN:VALARM
TRIGGER:-P1D
ACTION:DISPLAY
DESCRIPTION:Comp wedstrijd 658: Incognito - MVC 't Koningshof
END:VALARM
END:VEVENT
BEGIN:VEVENT
UID:69e9e1050ec2d
DTSTART:20260605T160000Z
SEQUENCE:0
TRANSP:OPAQUE
LOCATION:Rollegem
SUMMARY:Wedstrijd 711 KMVV
CLASS:PUBLIC
DESCRIPTION:Comp wedstrijd 711: Incognito - Coiffeurs City
X-ALT-DESC;FMTTYPE=text/html:Comp wedstrijd 711: <b>Incognito - Coiffeurs C
 ity</b> te Rollegem
X-MICROSOFT-CDO-BUSYSTATUS:FREE
X-MICROSOFT-CDO-INTENDEDSTATUS:FREE
DTSTAMP:20260423T090613Z
BEGIN:VALARM
TRIGGER:-P1D
ACTION:DISPLAY
DESCRIPTION:Comp wedstrijd 711: Incognito - Coiffeurs City
END:VALARM
END:VEVENT
BEGIN:VEVENT
UID:69e9e1050ec3f
DTSTART:20260610T170000Z
SEQUENCE:0
TRANSP:OPAQUE
LOCATION:Rollegem
SUMMARY:Wedstrijd 730 KMVV
CLASS:PUBLIC
DESCRIPTION:Comp wedstrijd 730: Incognito - Fintro Kortrijk-DMVD
X-ALT-DESC;FMTTYPE=text/html:Comp wedstrijd 730: <b>Incognito - Fintro Kort
 rijk-DMVD</b> te Rollegem
X-MICROSOFT-CDO-BUSYSTATUS:FREE
X-MICROSOFT-CDO-INTENDEDSTATUS:FREE
DTSTAMP:20260423T090613Z
BEGIN:VALARM
TRIGGER:-P1D
ACTION:DISPLAY
DESCRIPTION:Comp wedstrijd 730: Incognito - Fintro Kortrijk-DMVD
END:VALARM
END:VEVENT
BEGIN:VEVENT
UID:69e9e1050ec52
DTSTART:20260619T170000Z
SEQUENCE:0
TRANSP:OPAQUE
LOCATION:Bissegem
SUMMARY:Wedstrijd 768 KMVV
CLASS:PUBLIC
DESCRIPTION:Comp wedstrijd 768: FC Eagles - Incognito
X-ALT-DESC;FMTTYPE=text/html:Comp wedstrijd 768: <b>FC Eagles - Incognito</
 b> te Bissegem
X-MICROSOFT-CDO-BUSYSTATUS:FREE
X-MICROSOFT-CDO-INTENDEDSTATUS:FREE
DTSTAMP:20260423T090613Z
BEGIN:VALARM
TRIGGER:-P1D
ACTION:DISPLAY
DESCRIPTION:Comp wedstrijd 768: FC Eagles - Incognito
END:VALARM
END:VEVENT
BEGIN:VEVENT
UID:69e9e1050ec65
DTSTART:20260626T180000Z
SEQUENCE:0
TRANSP:OPAQUE
LOCATION:Bissegem
SUMMARY:Wedstrijd 796 KMVV
CLASS:PUBLIC
DESCRIPTION:Comp wedstrijd 796: MVC Eirekedeirie - Incognito
X-ALT-DESC;FMTTYPE=text/html:Comp wedstrijd 796: <b>MVC Eirekedeirie - Inco
 gnito</b> te Bissegem
X-MICROSOFT-CDO-BUSYSTATUS:FREE
X-MICROSOFT-CDO-INTENDEDSTATUS:FREE
DTSTAMP:20260423T090613Z
BEGIN:VALARM
TRIGGER:-P1D
ACTION:DISPLAY
DESCRIPTION:Comp wedstrijd 796: MVC Eirekedeirie - Incognito
END:VALARM
END:VEVENT
BEGIN:VEVENT
UID:69e9e1050ec78
DTSTART:20260630T170000Z
SEQUENCE:0
TRANSP:OPAQUE
LOCATION:Bissegem
SUMMARY:Wedstrijd 811 KMVV
CLASS:PUBLIC
DESCRIPTION:Comp wedstrijd 811: Edging Eagels - Incognito
X-ALT-DESC;FMTTYPE=text/html:Comp wedstrijd 811: <b>Edging Eagels - Incogni
 to</b> te Bissegem
X-MICROSOFT-CDO-BUSYSTATUS:FREE
X-MICROSOFT-CDO-INTENDEDSTATUS:FREE
DTSTAMP:20260423T090613Z
BEGIN:VALARM
TRIGGER:-P1D
ACTION:DISPLAY
DESCRIPTION:Comp wedstrijd 811: Edging Eagels - Incognito
END:VALARM
END:VEVENT
END:VCALENDAR