BEGIN:VCALENDAR
VERSION:2.0
PRODID:www.kmvv.be
BEGIN:VEVENT
UID:69e9e623767bb
DTSTART:20250908T193000Z
SEQUENCE:0
TRANSP:OPAQUE
LOCATION:Bissegem
SUMMARY:Wedstrijd 21 KMVV
CLASS:PUBLIC
DESCRIPTION:Comp wedstrijd 21: KV Cortoriacum - MVC 't Koningshof
X-ALT-DESC;FMTTYPE=text/html:Comp wedstrijd 21: <b>KV Cortoriacum - MVC 't 
 Koningshof</b> te Bissegem
X-MICROSOFT-CDO-BUSYSTATUS:FREE
X-MICROSOFT-CDO-INTENDEDSTATUS:FREE
DTSTAMP:20260423T092803Z
BEGIN:VALARM
TRIGGER:-P1D
ACTION:DISPLAY
DESCRIPTION:Comp wedstrijd 21: KV Cortoriacum - MVC 't Koningshof
END:VALARM
END:VEVENT
BEGIN:VEVENT
UID:69e9e62376b1b
DTSTART:20250922T160000Z
SEQUENCE:0
TRANSP:OPAQUE
LOCATION:Rollegem
SUMMARY:Wedstrijd 65 KMVV
CLASS:PUBLIC
DESCRIPTION:Comp wedstrijd 65: MVC Baliboys - MVC 't Koningshof
X-ALT-DESC;FMTTYPE=text/html:Comp wedstrijd 65: <b>MVC Baliboys - MVC 't Ko
 ningshof</b> te Rollegem
X-MICROSOFT-CDO-BUSYSTATUS:FREE
X-MICROSOFT-CDO-INTENDEDSTATUS:FREE
DTSTAMP:20260423T092803Z
BEGIN:VALARM
TRIGGER:-P1D
ACTION:DISPLAY
DESCRIPTION:Comp wedstrijd 65: MVC Baliboys - MVC 't Koningshof
END:VALARM
END:VEVENT
BEGIN:VEVENT
UID:69e9e62376b48
DTSTART:20250926T170000Z
SEQUENCE:0
TRANSP:OPAQUE
LOCATION:Rollegem
SUMMARY:Wedstrijd 99 KMVV
CLASS:PUBLIC
DESCRIPTION:Comp wedstrijd 99: MVC 't Koningshof - Joga Bonito FC
X-ALT-DESC;FMTTYPE=text/html:Comp wedstrijd 99: <b>MVC 't Koningshof - Joga
  Bonito FC</b> te Rollegem
X-MICROSOFT-CDO-BUSYSTATUS:FREE
X-MICROSOFT-CDO-INTENDEDSTATUS:FREE
DTSTAMP:20260423T092803Z
BEGIN:VALARM
TRIGGER:-P1D
ACTION:DISPLAY
DESCRIPTION:Comp wedstrijd 99: MVC 't Koningshof - Joga Bonito FC
END:VALARM
END:VEVENT
BEGIN:VEVENT
UID:69e9e62376b61
DTSTART:20251009T193000Z
SEQUENCE:0
TRANSP:OPAQUE
LOCATION:Rollegem
SUMMARY:Wedstrijd 118 KMVV
CLASS:PUBLIC
DESCRIPTION:Comp wedstrijd 118: FC Tamzakken - MVC 't Koningshof
X-ALT-DESC;FMTTYPE=text/html:Comp wedstrijd 118: <b>FC Tamzakken - MVC 't K
 oningshof</b> te Rollegem
X-MICROSOFT-CDO-BUSYSTATUS:FREE
X-MICROSOFT-CDO-INTENDEDSTATUS:FREE
DTSTAMP:20260423T092803Z
BEGIN:VALARM
TRIGGER:-P1D
ACTION:DISPLAY
DESCRIPTION:Comp wedstrijd 118: FC Tamzakken - MVC 't Koningshof
END:VALARM
END:VEVENT
BEGIN:VEVENT
UID:69e9e62376b82
DTSTART:20251020T170000Z
SEQUENCE:0
TRANSP:OPAQUE
LOCATION:Lagae
SUMMARY:Wedstrijd 142 KMVV
CLASS:PUBLIC
DESCRIPTION:Comp wedstrijd 142: Fintro Kortrijk-DMVD - MVC 't Koningshof
X-ALT-DESC;FMTTYPE=text/html:Comp wedstrijd 142: <b>Fintro Kortrijk-DMVD - 
 MVC 't Koningshof</b> te Lagae
X-MICROSOFT-CDO-BUSYSTATUS:FREE
X-MICROSOFT-CDO-INTENDEDSTATUS:FREE
DTSTAMP:20260423T092803Z
BEGIN:VALARM
TRIGGER:-P1D
ACTION:DISPLAY
DESCRIPTION:Comp wedstrijd 142: Fintro Kortrijk-DMVD - MVC 't Koningshof
END:VALARM
END:VEVENT
BEGIN:VEVENT
UID:69e9e62376b97
DTSTART:20251103T203000Z
SEQUENCE:0
TRANSP:OPAQUE
LOCATION:Bissegem
SUMMARY:Wedstrijd 181 KMVV
CLASS:PUBLIC
DESCRIPTION:Comp wedstrijd 181: MVC 't Koningshof - CSR
X-ALT-DESC;FMTTYPE=text/html:Comp wedstrijd 181: <b>MVC 't Koningshof - CSR
 </b> te Bissegem
X-MICROSOFT-CDO-BUSYSTATUS:FREE
X-MICROSOFT-CDO-INTENDEDSTATUS:FREE
DTSTAMP:20260423T092803Z
BEGIN:VALARM
TRIGGER:-P1D
ACTION:DISPLAY
DESCRIPTION:Comp wedstrijd 181: MVC 't Koningshof - CSR
END:VALARM
END:VEVENT
BEGIN:VEVENT
UID:69e9e62376bab
DTSTART:20251127T193000Z
SEQUENCE:0
TRANSP:OPAQUE
LOCATION:Bissegem
SUMMARY:Wedstrijd 254 KMVV
CLASS:PUBLIC
DESCRIPTION:Comp wedstrijd 254: MVC 't Koningshof - MVC Frères Des Bières
X-ALT-DESC;FMTTYPE=text/html:Comp wedstrijd 254: <b>MVC 't Koningshof - MVC
  Frères Des Bières</b> te Bissegem
X-MICROSOFT-CDO-BUSYSTATUS:FREE
X-MICROSOFT-CDO-INTENDEDSTATUS:FREE
DTSTAMP:20260423T092803Z
BEGIN:VALARM
TRIGGER:-P1D
ACTION:DISPLAY
DESCRIPTION:Comp wedstrijd 254: MVC 't Koningshof - MVC Frères Des Bières
END:VALARM
END:VEVENT
BEGIN:VEVENT
UID:69e9e62376bc0
DTSTART:20251204T193000Z
SEQUENCE:0
TRANSP:OPAQUE
LOCATION:Bissegem
SUMMARY:Wedstrijd 273 KMVV
CLASS:PUBLIC
DESCRIPTION:Comp wedstrijd 273: FC Eagles - MVC 't Koningshof
X-ALT-DESC;FMTTYPE=text/html:Comp wedstrijd 273: <b>FC Eagles - MVC 't Koni
 ngshof</b> te Bissegem
X-MICROSOFT-CDO-BUSYSTATUS:FREE
X-MICROSOFT-CDO-INTENDEDSTATUS:FREE
DTSTAMP:20260423T092803Z
BEGIN:VALARM
TRIGGER:-P1D
ACTION:DISPLAY
DESCRIPTION:Comp wedstrijd 273: FC Eagles - MVC 't Koningshof
END:VALARM
END:VEVENT
BEGIN:VEVENT
UID:69e9e62376bd3
DTSTART:20251218T180000Z
SEQUENCE:0
TRANSP:OPAQUE
LOCATION:Lagae
SUMMARY:Wedstrijd 316 KMVV
CLASS:PUBLIC
DESCRIPTION:Comp wedstrijd 316: MVC 't Koningshof - Sporting Artois
X-ALT-DESC;FMTTYPE=text/html:Comp wedstrijd 316: <b>MVC 't Koningshof - Spo
 rting Artois</b> te Lagae
X-MICROSOFT-CDO-BUSYSTATUS:FREE
X-MICROSOFT-CDO-INTENDEDSTATUS:FREE
DTSTAMP:20260423T092803Z
BEGIN:VALARM
TRIGGER:-P1D
ACTION:DISPLAY
DESCRIPTION:Comp wedstrijd 316: MVC 't Koningshof - Sporting Artois
END:VALARM
END:VEVENT
BEGIN:VEVENT
UID:69e9e62376be7
DTSTART:20260105T193000Z
SEQUENCE:0
TRANSP:OPAQUE
LOCATION:Bissegem
SUMMARY:Wedstrijd 339 KMVV
CLASS:PUBLIC
DESCRIPTION:Comp wedstrijd 339: MVC Eirekedeirie - MVC 't Koningshof
X-ALT-DESC;FMTTYPE=text/html:Comp wedstrijd 339: <b>MVC Eirekedeirie - MVC 
 't Koningshof</b> te Bissegem
X-MICROSOFT-CDO-BUSYSTATUS:FREE
X-MICROSOFT-CDO-INTENDEDSTATUS:FREE
DTSTAMP:20260423T092803Z
BEGIN:VALARM
TRIGGER:-P1D
ACTION:DISPLAY
DESCRIPTION:Comp wedstrijd 339: MVC Eirekedeirie - MVC 't Koningshof
END:VALARM
END:VEVENT
BEGIN:VEVENT
UID:69e9e62376c06
DTSTART:20260115T193000Z
SEQUENCE:0
TRANSP:OPAQUE
LOCATION:Bissegem
SUMMARY:Wedstrijd 371 KMVV
CLASS:PUBLIC
DESCRIPTION:Comp wedstrijd 371: MVC 't Koningshof - Pep.link
X-ALT-DESC;FMTTYPE=text/html:Comp wedstrijd 371: <b>MVC 't Koningshof - Pep
 .link</b> te Bissegem
X-MICROSOFT-CDO-BUSYSTATUS:FREE
X-MICROSOFT-CDO-INTENDEDSTATUS:FREE
DTSTAMP:20260423T092803Z
BEGIN:VALARM
TRIGGER:-P1D
ACTION:DISPLAY
DESCRIPTION:Comp wedstrijd 371: MVC 't Koningshof - Pep.link
END:VALARM
END:VEVENT
BEGIN:VEVENT
UID:69e9e62376c1b
DTSTART:20260126T193000Z
SEQUENCE:0
TRANSP:OPAQUE
LOCATION:Bissegem
SUMMARY:Wedstrijd 398 KMVV
CLASS:PUBLIC
DESCRIPTION:Comp wedstrijd 398: MVC 't Koningshof - Descaplant
X-ALT-DESC;FMTTYPE=text/html:Comp wedstrijd 398: <b>MVC 't Koningshof - Des
 caplant</b> te Bissegem
X-MICROSOFT-CDO-BUSYSTATUS:FREE
X-MICROSOFT-CDO-INTENDEDSTATUS:FREE
DTSTAMP:20260423T092803Z
BEGIN:VALARM
TRIGGER:-P1D
ACTION:DISPLAY
DESCRIPTION:Comp wedstrijd 398: MVC 't Koningshof - Descaplant
END:VALARM
END:VEVENT
BEGIN:VEVENT
UID:69e9e62376c39
DTSTART:20260202T200000Z
SEQUENCE:0
TRANSP:OPAQUE
LOCATION:Lagae
SUMMARY:Wedstrijd 203 KMVV
CLASS:PUBLIC
DESCRIPTION:Comp wedstrijd 203: Twentyone Kortrijk - MVC 't Koningshof
X-ALT-DESC;FMTTYPE=text/html:Comp wedstrijd 203: <b>Twentyone Kortrijk - MV
 C 't Koningshof</b> te Lagae
X-MICROSOFT-CDO-BUSYSTATUS:FREE
X-MICROSOFT-CDO-INTENDEDSTATUS:FREE
DTSTAMP:20260423T092803Z
BEGIN:VALARM
TRIGGER:-P1D
ACTION:DISPLAY
DESCRIPTION:Comp wedstrijd 203: Twentyone Kortrijk - MVC 't Koningshof
END:VALARM
END:VEVENT
BEGIN:VEVENT
UID:69e9e62376c4d
DTSTART:20260226T180000Z
SEQUENCE:0
TRANSP:OPAQUE
LOCATION:Lagae
SUMMARY:Wedstrijd 442 KMVV
CLASS:PUBLIC
DESCRIPTION:Comp wedstrijd 442: MVC 't Koningshof - KV Cortoriacum
X-ALT-DESC;FMTTYPE=text/html:Comp wedstrijd 442: <b>MVC 't Koningshof - KV 
 Cortoriacum</b> te Lagae
X-MICROSOFT-CDO-BUSYSTATUS:FREE
X-MICROSOFT-CDO-INTENDEDSTATUS:FREE
DTSTAMP:20260423T092803Z
BEGIN:VALARM
TRIGGER:-P1D
ACTION:DISPLAY
DESCRIPTION:Comp wedstrijd 442: MVC 't Koningshof - KV Cortoriacum
END:VALARM
END:VEVENT
BEGIN:VEVENT
UID:69e9e62376c68
DTSTART:20260309T193000Z
SEQUENCE:0
TRANSP:OPAQUE
LOCATION:Bissegem
SUMMARY:Wedstrijd 466 KMVV
CLASS:PUBLIC
DESCRIPTION:Comp wedstrijd 466: MVC 't Koningshof - fc pottelberg
X-ALT-DESC;FMTTYPE=text/html:Comp wedstrijd 466: <b>MVC 't Koningshof - fc 
 pottelberg</b> te Bissegem
X-MICROSOFT-CDO-BUSYSTATUS:FREE
X-MICROSOFT-CDO-INTENDEDSTATUS:FREE
DTSTAMP:20260423T092803Z
BEGIN:VALARM
TRIGGER:-P1D
ACTION:DISPLAY
DESCRIPTION:Comp wedstrijd 466: MVC 't Koningshof - fc pottelberg
END:VALARM
END:VEVENT
BEGIN:VEVENT
UID:69e9e62376c7d
DTSTART:20260323T180000Z
SEQUENCE:0
TRANSP:OPAQUE
LOCATION:Lagae
SUMMARY:Wedstrijd 508 KMVV
CLASS:PUBLIC
DESCRIPTION:Comp wedstrijd 508: Garfield '85 - MVC 't Koningshof
X-ALT-DESC;FMTTYPE=text/html:Comp wedstrijd 508: <b>Garfield '85 - MVC 't K
 oningshof</b> te Lagae
X-MICROSOFT-CDO-BUSYSTATUS:FREE
X-MICROSOFT-CDO-INTENDEDSTATUS:FREE
DTSTAMP:20260423T092803Z
BEGIN:VALARM
TRIGGER:-P1D
ACTION:DISPLAY
DESCRIPTION:Comp wedstrijd 508: Garfield '85 - MVC 't Koningshof
END:VALARM
END:VEVENT
BEGIN:VEVENT
UID:69e9e62376c9a
DTSTART:20260402T160000Z
SEQUENCE:0
TRANSP:OPAQUE
LOCATION:Lagae
SUMMARY:Wedstrijd 535 KMVV
CLASS:PUBLIC
DESCRIPTION:Comp wedstrijd 535: MVC 't Koningshof - FC Avanco
X-ALT-DESC;FMTTYPE=text/html:Comp wedstrijd 535: <b>MVC 't Koningshof - FC 
 Avanco</b> te Lagae
X-MICROSOFT-CDO-BUSYSTATUS:FREE
X-MICROSOFT-CDO-INTENDEDSTATUS:FREE
DTSTAMP:20260423T092803Z
BEGIN:VALARM
TRIGGER:-P1D
ACTION:DISPLAY
DESCRIPTION:Comp wedstrijd 535: MVC 't Koningshof - FC Avanco
END:VALARM
END:VEVENT
BEGIN:VEVENT
UID:69e9e62376cae
DTSTART:20260416T160000Z
SEQUENCE:0
TRANSP:OPAQUE
LOCATION:Lagae
SUMMARY:Wedstrijd 564 KMVV
CLASS:PUBLIC
DESCRIPTION:Comp wedstrijd 564: MVC 't Koningshof - Fintro Kortrijk-DMVD
X-ALT-DESC;FMTTYPE=text/html:Comp wedstrijd 564: <b>MVC 't Koningshof - Fin
 tro Kortrijk-DMVD</b> te Lagae
X-MICROSOFT-CDO-BUSYSTATUS:FREE
X-MICROSOFT-CDO-INTENDEDSTATUS:FREE
DTSTAMP:20260423T092803Z
BEGIN:VALARM
TRIGGER:-P1D
ACTION:DISPLAY
DESCRIPTION:Comp wedstrijd 564: MVC 't Koningshof - Fintro Kortrijk-DMVD
END:VALARM
END:VEVENT
BEGIN:VEVENT
UID:69e9e62376cc4
DTSTART:20260423T160000Z
SEQUENCE:0
TRANSP:OPAQUE
LOCATION:Lagae
SUMMARY:Wedstrijd 583 KMVV
CLASS:PUBLIC
DESCRIPTION:Comp wedstrijd 583: Edging Eagels - MVC 't Koningshof
X-ALT-DESC;FMTTYPE=text/html:Comp wedstrijd 583: <b>Edging Eagels - MVC 't 
 Koningshof</b> te Lagae
X-MICROSOFT-CDO-BUSYSTATUS:FREE
X-MICROSOFT-CDO-INTENDEDSTATUS:FREE
DTSTAMP:20260423T092803Z
BEGIN:VALARM
TRIGGER:-P1D
ACTION:DISPLAY
DESCRIPTION:Comp wedstrijd 583: Edging Eagels - MVC 't Koningshof
END:VALARM
END:VEVENT
BEGIN:VEVENT
UID:69e9e62376cdf
DTSTART:20260508T170000Z
SEQUENCE:0
TRANSP:OPAQUE
LOCATION:Rollegem
SUMMARY:Wedstrijd 628 KMVV
CLASS:PUBLIC
DESCRIPTION:Comp wedstrijd 628: MVC 't Koningshof - Coiffeurs City
X-ALT-DESC;FMTTYPE=text/html:Comp wedstrijd 628: <b>MVC 't Koningshof - Coi
 ffeurs City</b> te Rollegem
X-MICROSOFT-CDO-BUSYSTATUS:FREE
X-MICROSOFT-CDO-INTENDEDSTATUS:FREE
DTSTAMP:20260423T092803Z
BEGIN:VALARM
TRIGGER:-P1D
ACTION:DISPLAY
DESCRIPTION:Comp wedstrijd 628: MVC 't Koningshof - Coiffeurs City
END:VALARM
END:VEVENT
BEGIN:VEVENT
UID:69e9e62376cf2
DTSTART:20260522T160000Z
SEQUENCE:0
TRANSP:OPAQUE
LOCATION:Rollegem
SUMMARY:Wedstrijd 658 KMVV
CLASS:PUBLIC
DESCRIPTION:Comp wedstrijd 658: Incognito - MVC 't Koningshof
X-ALT-DESC;FMTTYPE=text/html:Comp wedstrijd 658: <b>Incognito - MVC 't Koni
 ngshof</b> te Rollegem
X-MICROSOFT-CDO-BUSYSTATUS:FREE
X-MICROSOFT-CDO-INTENDEDSTATUS:FREE
DTSTAMP:20260423T092803Z
BEGIN:VALARM
TRIGGER:-P1D
ACTION:DISPLAY
DESCRIPTION:Comp wedstrijd 658: Incognito - MVC 't Koningshof
END:VALARM
END:VEVENT
BEGIN:VEVENT
UID:69e9e62376d10
DTSTART:20260529T190000Z
SEQUENCE:0
TRANSP:OPAQUE
LOCATION:Bissegem
SUMMARY:Wedstrijd 679 KMVV
CLASS:PUBLIC
DESCRIPTION:Comp wedstrijd 679: MVC 't Koningshof - FC Eagles
X-ALT-DESC;FMTTYPE=text/html:Comp wedstrijd 679: <b>MVC 't Koningshof - FC 
 Eagles</b> te Bissegem
X-MICROSOFT-CDO-BUSYSTATUS:FREE
X-MICROSOFT-CDO-INTENDEDSTATUS:FREE
DTSTAMP:20260423T092803Z
BEGIN:VALARM
TRIGGER:-P1D
ACTION:DISPLAY
DESCRIPTION:Comp wedstrijd 679: MVC 't Koningshof - FC Eagles
END:VALARM
END:VEVENT
BEGIN:VEVENT
UID:69e9e62376d23
DTSTART:20260604T170000Z
SEQUENCE:0
TRANSP:OPAQUE
LOCATION:Lagae
SUMMARY:Wedstrijd 705 KMVV
CLASS:PUBLIC
DESCRIPTION:Comp wedstrijd 705: Sporting Artois - MVC 't Koningshof
X-ALT-DESC;FMTTYPE=text/html:Comp wedstrijd 705: <b>Sporting Artois - MVC '
 t Koningshof</b> te Lagae
X-MICROSOFT-CDO-BUSYSTATUS:FREE
X-MICROSOFT-CDO-INTENDEDSTATUS:FREE
DTSTAMP:20260423T092803Z
BEGIN:VALARM
TRIGGER:-P1D
ACTION:DISPLAY
DESCRIPTION:Comp wedstrijd 705: Sporting Artois - MVC 't Koningshof
END:VALARM
END:VEVENT
BEGIN:VEVENT
UID:69e9e62376d3f
DTSTART:20260611T170000Z
SEQUENCE:0
TRANSP:OPAQUE
LOCATION:Lagae
SUMMARY:Wedstrijd 737 KMVV
CLASS:PUBLIC
DESCRIPTION:Comp wedstrijd 737: MVC 't Koningshof - MVC Eirekedeirie
X-ALT-DESC;FMTTYPE=text/html:Comp wedstrijd 737: <b>MVC 't Koningshof - MVC
  Eirekedeirie</b> te Lagae
X-MICROSOFT-CDO-BUSYSTATUS:FREE
X-MICROSOFT-CDO-INTENDEDSTATUS:FREE
DTSTAMP:20260423T092803Z
BEGIN:VALARM
TRIGGER:-P1D
ACTION:DISPLAY
DESCRIPTION:Comp wedstrijd 737: MVC 't Koningshof - MVC Eirekedeirie
END:VALARM
END:VEVENT
BEGIN:VEVENT
UID:69e9e62376d53
DTSTART:20260618T170000Z
SEQUENCE:0
TRANSP:OPAQUE
LOCATION:Lagae
SUMMARY:Wedstrijd 765 KMVV
CLASS:PUBLIC
DESCRIPTION:Comp wedstrijd 765: Pep.link - MVC 't Koningshof
X-ALT-DESC;FMTTYPE=text/html:Comp wedstrijd 765: <b>Pep.link - MVC 't Konin
 gshof</b> te Lagae
X-MICROSOFT-CDO-BUSYSTATUS:FREE
X-MICROSOFT-CDO-INTENDEDSTATUS:FREE
DTSTAMP:20260423T092803Z
BEGIN:VALARM
TRIGGER:-P1D
ACTION:DISPLAY
DESCRIPTION:Comp wedstrijd 765: Pep.link - MVC 't Koningshof
END:VALARM
END:VEVENT
BEGIN:VEVENT
UID:69e9e62376d6d
DTSTART:20260625T183000Z
SEQUENCE:0
TRANSP:OPAQUE
LOCATION:Rollegem
SUMMARY:Wedstrijd 793 KMVV
CLASS:PUBLIC
DESCRIPTION:Comp wedstrijd 793: Descaplant - MVC 't Koningshof
X-ALT-DESC;FMTTYPE=text/html:Comp wedstrijd 793: <b>Descaplant - MVC 't Kon
 ingshof</b> te Rollegem
X-MICROSOFT-CDO-BUSYSTATUS:FREE
X-MICROSOFT-CDO-INTENDEDSTATUS:FREE
DTSTAMP:20260423T092803Z
BEGIN:VALARM
TRIGGER:-P1D
ACTION:DISPLAY
DESCRIPTION:Comp wedstrijd 793: Descaplant - MVC 't Koningshof
END:VALARM
END:VEVENT
END:VCALENDAR