BEGIN:VCALENDAR
VERSION:2.0
PRODID:www.kmvv.be
BEGIN:VEVENT
UID:69e9e3404bdf5
DTSTART:20250908T190000Z
SEQUENCE:0
TRANSP:OPAQUE
LOCATION:Lagae
SUMMARY:Wedstrijd 24 KMVV
CLASS:PUBLIC
DESCRIPTION:Comp wedstrijd 24: Pep.link - CSR
X-ALT-DESC;FMTTYPE=text/html:Comp wedstrijd 24: <b>Pep.link - CSR</b> te La
 gae
X-MICROSOFT-CDO-BUSYSTATUS:FREE
X-MICROSOFT-CDO-INTENDEDSTATUS:FREE
DTSTAMP:20260423T091544Z
BEGIN:VALARM
TRIGGER:-P1D
ACTION:DISPLAY
DESCRIPTION:Comp wedstrijd 24: Pep.link - CSR
END:VALARM
END:VEVENT
BEGIN:VEVENT
UID:69e9e3404c354
DTSTART:20250918T173000Z
SEQUENCE:0
TRANSP:OPAQUE
LOCATION:Bissegem
SUMMARY:Wedstrijd 53 KMVV
CLASS:PUBLIC
DESCRIPTION:Comp wedstrijd 53: Pep.link - MVC Frères Des Bières
X-ALT-DESC;FMTTYPE=text/html:Comp wedstrijd 53: <b>Pep.link - MVC Frères D
 es Bières</b> te Bissegem
X-MICROSOFT-CDO-BUSYSTATUS:FREE
X-MICROSOFT-CDO-INTENDEDSTATUS:FREE
DTSTAMP:20260423T091544Z
BEGIN:VALARM
TRIGGER:-P1D
ACTION:DISPLAY
DESCRIPTION:Comp wedstrijd 53: Pep.link - MVC Frères Des Bières
END:VALARM
END:VEVENT
BEGIN:VEVENT
UID:69e9e3404c387
DTSTART:20251002T183000Z
SEQUENCE:0
TRANSP:OPAQUE
LOCATION:Bissegem
SUMMARY:Wedstrijd 94 KMVV
CLASS:PUBLIC
DESCRIPTION:Comp wedstrijd 94: FC Eagles - Pep.link
X-ALT-DESC;FMTTYPE=text/html:Comp wedstrijd 94: <b>FC Eagles - Pep.link</b>
  te Bissegem
X-MICROSOFT-CDO-BUSYSTATUS:FREE
X-MICROSOFT-CDO-INTENDEDSTATUS:FREE
DTSTAMP:20260423T091544Z
BEGIN:VALARM
TRIGGER:-P1D
ACTION:DISPLAY
DESCRIPTION:Comp wedstrijd 94: FC Eagles - Pep.link
END:VALARM
END:VEVENT
BEGIN:VEVENT
UID:69e9e3404c39f
DTSTART:20251016T170000Z
SEQUENCE:0
TRANSP:OPAQUE
LOCATION:Lagae
SUMMARY:Wedstrijd 137 KMVV
CLASS:PUBLIC
DESCRIPTION:Comp wedstrijd 137: Pep.link - Sporting Artois
X-ALT-DESC;FMTTYPE=text/html:Comp wedstrijd 137: <b>Pep.link - Sporting Art
 ois</b> te Lagae
X-MICROSOFT-CDO-BUSYSTATUS:FREE
X-MICROSOFT-CDO-INTENDEDSTATUS:FREE
DTSTAMP:20260423T091544Z
BEGIN:VALARM
TRIGGER:-P1D
ACTION:DISPLAY
DESCRIPTION:Comp wedstrijd 137: Pep.link - Sporting Artois
END:VALARM
END:VEVENT
BEGIN:VEVENT
UID:69e9e3404c3b3
DTSTART:20251020T193000Z
SEQUENCE:0
TRANSP:OPAQUE
LOCATION:Bissegem
SUMMARY:Wedstrijd 141 KMVV
CLASS:PUBLIC
DESCRIPTION:Comp wedstrijd 141: MVC Eirekedeirie - Pep.link
X-ALT-DESC;FMTTYPE=text/html:Comp wedstrijd 141: <b>MVC Eirekedeirie - Pep.
 link</b> te Bissegem
X-MICROSOFT-CDO-BUSYSTATUS:FREE
X-MICROSOFT-CDO-INTENDEDSTATUS:FREE
DTSTAMP:20260423T091544Z
BEGIN:VALARM
TRIGGER:-P1D
ACTION:DISPLAY
DESCRIPTION:Comp wedstrijd 141: MVC Eirekedeirie - Pep.link
END:VALARM
END:VEVENT
BEGIN:VEVENT
UID:69e9e3404c3c6
DTSTART:20251103T170000Z
SEQUENCE:0
TRANSP:OPAQUE
LOCATION:Rollegem
SUMMARY:Wedstrijd 185 KMVV
CLASS:PUBLIC
DESCRIPTION:Comp wedstrijd 185: Pep.link - Fintro Kortrijk-DMVD
X-ALT-DESC;FMTTYPE=text/html:Comp wedstrijd 185: <b>Pep.link - Fintro Kortr
 ijk-DMVD</b> te Rollegem
X-MICROSOFT-CDO-BUSYSTATUS:FREE
X-MICROSOFT-CDO-INTENDEDSTATUS:FREE
DTSTAMP:20260423T091544Z
BEGIN:VALARM
TRIGGER:-P1D
ACTION:DISPLAY
DESCRIPTION:Comp wedstrijd 185: Pep.link - Fintro Kortrijk-DMVD
END:VALARM
END:VEVENT
BEGIN:VEVENT
UID:69e9e3404c3d8
DTSTART:20251110T200000Z
SEQUENCE:0
TRANSP:OPAQUE
LOCATION:Lagae
SUMMARY:Wedstrijd 205 KMVV
CLASS:PUBLIC
DESCRIPTION:Comp wedstrijd 205: Pep.link - KV Cortoriacum
X-ALT-DESC;FMTTYPE=text/html:Comp wedstrijd 205: <b>Pep.link - KV Cortoriac
 um</b> te Lagae
X-MICROSOFT-CDO-BUSYSTATUS:FREE
X-MICROSOFT-CDO-INTENDEDSTATUS:FREE
DTSTAMP:20260423T091544Z
BEGIN:VALARM
TRIGGER:-P1D
ACTION:DISPLAY
DESCRIPTION:Comp wedstrijd 205: Pep.link - KV Cortoriacum
END:VALARM
END:VEVENT
BEGIN:VEVENT
UID:69e9e3404c3ea
DTSTART:20251124T193000Z
SEQUENCE:0
TRANSP:OPAQUE
LOCATION:Bissegem
SUMMARY:Wedstrijd 241 KMVV
CLASS:PUBLIC
DESCRIPTION:Comp wedstrijd 241: Descaplant - Pep.link
X-ALT-DESC;FMTTYPE=text/html:Comp wedstrijd 241: <b>Descaplant - Pep.link</
 b> te Bissegem
X-MICROSOFT-CDO-BUSYSTATUS:FREE
X-MICROSOFT-CDO-INTENDEDSTATUS:FREE
DTSTAMP:20260423T091544Z
BEGIN:VALARM
TRIGGER:-P1D
ACTION:DISPLAY
DESCRIPTION:Comp wedstrijd 241: Descaplant - Pep.link
END:VALARM
END:VEVENT
BEGIN:VEVENT
UID:69e9e3404c3fb
DTSTART:20251201T190000Z
SEQUENCE:0
TRANSP:OPAQUE
LOCATION:Rollegem
SUMMARY:Wedstrijd 267 KMVV
CLASS:PUBLIC
DESCRIPTION:Comp wedstrijd 267: Pep.link - MVC Baliboys
X-ALT-DESC;FMTTYPE=text/html:Comp wedstrijd 267: <b>Pep.link - MVC Baliboys
 </b> te Rollegem
X-MICROSOFT-CDO-BUSYSTATUS:FREE
X-MICROSOFT-CDO-INTENDEDSTATUS:FREE
DTSTAMP:20260423T091544Z
BEGIN:VALARM
TRIGGER:-P1D
ACTION:DISPLAY
DESCRIPTION:Comp wedstrijd 267: Pep.link - MVC Baliboys
END:VALARM
END:VEVENT
BEGIN:VEVENT
UID:69e9e3404c40c
DTSTART:20251215T193000Z
SEQUENCE:0
TRANSP:OPAQUE
LOCATION:Bissegem
SUMMARY:Wedstrijd 300 KMVV
CLASS:PUBLIC
DESCRIPTION:Comp wedstrijd 300: Joga Bonito FC - Pep.link
X-ALT-DESC;FMTTYPE=text/html:Comp wedstrijd 300: <b>Joga Bonito FC - Pep.li
 nk</b> te Bissegem
X-MICROSOFT-CDO-BUSYSTATUS:FREE
X-MICROSOFT-CDO-INTENDEDSTATUS:FREE
DTSTAMP:20260423T091544Z
BEGIN:VALARM
TRIGGER:-P1D
ACTION:DISPLAY
DESCRIPTION:Comp wedstrijd 300: Joga Bonito FC - Pep.link
END:VALARM
END:VEVENT
BEGIN:VEVENT
UID:69e9e3404c41e
DTSTART:20251229T170000Z
SEQUENCE:0
TRANSP:OPAQUE
LOCATION:Rollegem
SUMMARY:Wedstrijd 335 KMVV
CLASS:PUBLIC
DESCRIPTION:Comp wedstrijd 335: Pep.link - FC Tamzakken
X-ALT-DESC;FMTTYPE=text/html:Comp wedstrijd 335: <b>Pep.link - FC Tamzakken
 </b> te Rollegem
X-MICROSOFT-CDO-BUSYSTATUS:FREE
X-MICROSOFT-CDO-INTENDEDSTATUS:FREE
DTSTAMP:20260423T091544Z
BEGIN:VALARM
TRIGGER:-P1D
ACTION:DISPLAY
DESCRIPTION:Comp wedstrijd 335: Pep.link - FC Tamzakken
END:VALARM
END:VEVENT
BEGIN:VEVENT
UID:69e9e3404c42f
DTSTART:20260115T193000Z
SEQUENCE:0
TRANSP:OPAQUE
LOCATION:Bissegem
SUMMARY:Wedstrijd 371 KMVV
CLASS:PUBLIC
DESCRIPTION:Comp wedstrijd 371: MVC 't Koningshof - Pep.link
X-ALT-DESC;FMTTYPE=text/html:Comp wedstrijd 371: <b>MVC 't Koningshof - Pep
 .link</b> te Bissegem
X-MICROSOFT-CDO-BUSYSTATUS:FREE
X-MICROSOFT-CDO-INTENDEDSTATUS:FREE
DTSTAMP:20260423T091544Z
BEGIN:VALARM
TRIGGER:-P1D
ACTION:DISPLAY
DESCRIPTION:Comp wedstrijd 371: MVC 't Koningshof - Pep.link
END:VALARM
END:VEVENT
BEGIN:VEVENT
UID:69e9e3404c441
DTSTART:20260126T170000Z
SEQUENCE:0
TRANSP:OPAQUE
LOCATION:Rollegem
SUMMARY:Wedstrijd 403 KMVV
CLASS:PUBLIC
DESCRIPTION:Comp wedstrijd 403: Twentyone Kortrijk - Pep.link
X-ALT-DESC;FMTTYPE=text/html:Comp wedstrijd 403: <b>Twentyone Kortrijk - Pe
 p.link</b> te Rollegem
X-MICROSOFT-CDO-BUSYSTATUS:FREE
X-MICROSOFT-CDO-INTENDEDSTATUS:FREE
DTSTAMP:20260423T091544Z
BEGIN:VALARM
TRIGGER:-P1D
ACTION:DISPLAY
DESCRIPTION:Comp wedstrijd 403: Twentyone Kortrijk - Pep.link
END:VALARM
END:VEVENT
BEGIN:VEVENT
UID:69e9e3404c452
DTSTART:20260219T180000Z
SEQUENCE:0
TRANSP:OPAQUE
LOCATION:Lagae
SUMMARY:Wedstrijd 423 KMVV
CLASS:PUBLIC
DESCRIPTION:Comp wedstrijd 423: Edging Eagels - Pep.link
X-ALT-DESC;FMTTYPE=text/html:Comp wedstrijd 423: <b>Edging Eagels - Pep.lin
 k</b> te Lagae
X-MICROSOFT-CDO-BUSYSTATUS:FREE
X-MICROSOFT-CDO-INTENDEDSTATUS:FREE
DTSTAMP:20260423T091544Z
BEGIN:VALARM
TRIGGER:-P1D
ACTION:DISPLAY
DESCRIPTION:Comp wedstrijd 423: Edging Eagels - Pep.link
END:VALARM
END:VEVENT
BEGIN:VEVENT
UID:69e9e3404c463
DTSTART:20260226T170000Z
SEQUENCE:0
TRANSP:OPAQUE
LOCATION:Lagae
SUMMARY:Wedstrijd 441 KMVV
CLASS:PUBLIC
DESCRIPTION:Comp wedstrijd 441: Incognito - Pep.link
X-ALT-DESC;FMTTYPE=text/html:Comp wedstrijd 441: <b>Incognito - Pep.link</b
 > te Lagae
X-MICROSOFT-CDO-BUSYSTATUS:FREE
X-MICROSOFT-CDO-INTENDEDSTATUS:FREE
DTSTAMP:20260423T091544Z
BEGIN:VALARM
TRIGGER:-P1D
ACTION:DISPLAY
DESCRIPTION:Comp wedstrijd 441: Incognito - Pep.link
END:VALARM
END:VEVENT
BEGIN:VEVENT
UID:69e9e3404c474
DTSTART:20260319T193000Z
SEQUENCE:0
TRANSP:OPAQUE
LOCATION:Bissegem
SUMMARY:Wedstrijd 500 KMVV
CLASS:PUBLIC
DESCRIPTION:Comp wedstrijd 500: Pep.link - FC Eagles
X-ALT-DESC;FMTTYPE=text/html:Comp wedstrijd 500: <b>Pep.link - FC Eagles</b
 > te Bissegem
X-MICROSOFT-CDO-BUSYSTATUS:FREE
X-MICROSOFT-CDO-INTENDEDSTATUS:FREE
DTSTAMP:20260423T091544Z
BEGIN:VALARM
TRIGGER:-P1D
ACTION:DISPLAY
DESCRIPTION:Comp wedstrijd 500: Pep.link - FC Eagles
END:VALARM
END:VEVENT
BEGIN:VEVENT
UID:69e9e3404c484
DTSTART:20260416T193000Z
SEQUENCE:0
TRANSP:OPAQUE
LOCATION:Bissegem
SUMMARY:Wedstrijd 563 KMVV
CLASS:PUBLIC
DESCRIPTION:Comp wedstrijd 563: Sporting Artois - Pep.link
X-ALT-DESC;FMTTYPE=text/html:Comp wedstrijd 563: <b>Sporting Artois - Pep.l
 ink</b> te Bissegem
X-MICROSOFT-CDO-BUSYSTATUS:FREE
X-MICROSOFT-CDO-INTENDEDSTATUS:FREE
DTSTAMP:20260423T091544Z
BEGIN:VALARM
TRIGGER:-P1D
ACTION:DISPLAY
DESCRIPTION:Comp wedstrijd 563: Sporting Artois - Pep.link
END:VALARM
END:VEVENT
BEGIN:VEVENT
UID:69e9e3404c496
DTSTART:20260420T170000Z
SEQUENCE:0
TRANSP:OPAQUE
LOCATION:Lagae
SUMMARY:Wedstrijd 570 KMVV
CLASS:PUBLIC
DESCRIPTION:Comp wedstrijd 570: Pep.link - MVC Eirekedeirie
X-ALT-DESC;FMTTYPE=text/html:Comp wedstrijd 570: <b>Pep.link - MVC Eirekede
 irie</b> te Lagae
X-MICROSOFT-CDO-BUSYSTATUS:FREE
X-MICROSOFT-CDO-INTENDEDSTATUS:FREE
DTSTAMP:20260423T091544Z
BEGIN:VALARM
TRIGGER:-P1D
ACTION:DISPLAY
DESCRIPTION:Comp wedstrijd 570: Pep.link - MVC Eirekedeirie
END:VALARM
END:VEVENT
BEGIN:VEVENT
UID:69e9e3404c4a6
DTSTART:20260507T193000Z
SEQUENCE:0
TRANSP:OPAQUE
LOCATION:Rollegem
SUMMARY:Wedstrijd 626 KMVV
CLASS:PUBLIC
DESCRIPTION:Comp wedstrijd 626: KV Cortoriacum - Pep.link
X-ALT-DESC;FMTTYPE=text/html:Comp wedstrijd 626: <b>KV Cortoriacum - Pep.li
 nk</b> te Rollegem
X-MICROSOFT-CDO-BUSYSTATUS:FREE
X-MICROSOFT-CDO-INTENDEDSTATUS:FREE
DTSTAMP:20260423T091544Z
BEGIN:VALARM
TRIGGER:-P1D
ACTION:DISPLAY
DESCRIPTION:Comp wedstrijd 626: KV Cortoriacum - Pep.link
END:VALARM
END:VEVENT
BEGIN:VEVENT
UID:69e9e3404c4b7
DTSTART:20260518T180000Z
SEQUENCE:0
TRANSP:OPAQUE
LOCATION:Lagae
SUMMARY:Wedstrijd 644 KMVV
CLASS:PUBLIC
DESCRIPTION:Comp wedstrijd 644: Pep.link - Descaplant
X-ALT-DESC;FMTTYPE=text/html:Comp wedstrijd 644: <b>Pep.link - Descaplant</
 b> te Lagae
X-MICROSOFT-CDO-BUSYSTATUS:FREE
X-MICROSOFT-CDO-INTENDEDSTATUS:FREE
DTSTAMP:20260423T091544Z
BEGIN:VALARM
TRIGGER:-P1D
ACTION:DISPLAY
DESCRIPTION:Comp wedstrijd 644: Pep.link - Descaplant
END:VALARM
END:VEVENT
BEGIN:VEVENT
UID:69e9e3404c4c7
DTSTART:20260528T190000Z
SEQUENCE:0
TRANSP:OPAQUE
LOCATION:Bissegem
SUMMARY:Wedstrijd 604 KMVV
CLASS:PUBLIC
DESCRIPTION:Comp wedstrijd 604: Fintro Kortrijk-DMVD - Pep.link
X-ALT-DESC;FMTTYPE=text/html:Comp wedstrijd 604: <b>Fintro Kortrijk-DMVD - 
 Pep.link</b> te Bissegem
X-MICROSOFT-CDO-BUSYSTATUS:FREE
X-MICROSOFT-CDO-INTENDEDSTATUS:FREE
DTSTAMP:20260423T091544Z
BEGIN:VALARM
TRIGGER:-P1D
ACTION:DISPLAY
DESCRIPTION:Comp wedstrijd 604: Fintro Kortrijk-DMVD - Pep.link
END:VALARM
END:VEVENT
BEGIN:VEVENT
UID:69e9e3404c4d8
DTSTART:20260604T180000Z
SEQUENCE:0
TRANSP:OPAQUE
LOCATION:Bissegem
SUMMARY:Wedstrijd 702 KMVV
CLASS:PUBLIC
DESCRIPTION:Comp wedstrijd 702: Pep.link - Garfield '85
X-ALT-DESC;FMTTYPE=text/html:Comp wedstrijd 702: <b>Pep.link - Garfield '85
 </b> te Bissegem
X-MICROSOFT-CDO-BUSYSTATUS:FREE
X-MICROSOFT-CDO-INTENDEDSTATUS:FREE
DTSTAMP:20260423T091544Z
BEGIN:VALARM
TRIGGER:-P1D
ACTION:DISPLAY
DESCRIPTION:Comp wedstrijd 702: Pep.link - Garfield '85
END:VALARM
END:VEVENT
BEGIN:VEVENT
UID:69e9e3404c4e9
DTSTART:20260608T193000Z
SEQUENCE:0
TRANSP:OPAQUE
LOCATION:Bissegem
SUMMARY:Wedstrijd 715 KMVV
CLASS:PUBLIC
DESCRIPTION:Comp wedstrijd 715: FC Avanco - Pep.link
X-ALT-DESC;FMTTYPE=text/html:Comp wedstrijd 715: <b>FC Avanco - Pep.link</b
 > te Bissegem
X-MICROSOFT-CDO-BUSYSTATUS:FREE
X-MICROSOFT-CDO-INTENDEDSTATUS:FREE
DTSTAMP:20260423T091544Z
BEGIN:VALARM
TRIGGER:-P1D
ACTION:DISPLAY
DESCRIPTION:Comp wedstrijd 715: FC Avanco - Pep.link
END:VALARM
END:VEVENT
BEGIN:VEVENT
UID:69e9e3404c4f9
DTSTART:20260618T170000Z
SEQUENCE:0
TRANSP:OPAQUE
LOCATION:Lagae
SUMMARY:Wedstrijd 765 KMVV
CLASS:PUBLIC
DESCRIPTION:Comp wedstrijd 765: Pep.link - MVC 't Koningshof
X-ALT-DESC;FMTTYPE=text/html:Comp wedstrijd 765: <b>Pep.link - MVC 't Konin
 gshof</b> te Lagae
X-MICROSOFT-CDO-BUSYSTATUS:FREE
X-MICROSOFT-CDO-INTENDEDSTATUS:FREE
DTSTAMP:20260423T091544Z
BEGIN:VALARM
TRIGGER:-P1D
ACTION:DISPLAY
DESCRIPTION:Comp wedstrijd 765: Pep.link - MVC 't Koningshof
END:VALARM
END:VEVENT
BEGIN:VEVENT
UID:69e9e3404c50a
DTSTART:20260624T180000Z
SEQUENCE:0
TRANSP:OPAQUE
LOCATION:Bissegem
SUMMARY:Wedstrijd 782 KMVV
CLASS:PUBLIC
DESCRIPTION:Comp wedstrijd 782: Pep.link - Coiffeurs City
X-ALT-DESC;FMTTYPE=text/html:Comp wedstrijd 782: <b>Pep.link - Coiffeurs Ci
 ty</b> te Bissegem
X-MICROSOFT-CDO-BUSYSTATUS:FREE
X-MICROSOFT-CDO-INTENDEDSTATUS:FREE
DTSTAMP:20260423T091544Z
BEGIN:VALARM
TRIGGER:-P1D
ACTION:DISPLAY
DESCRIPTION:Comp wedstrijd 782: Pep.link - Coiffeurs City
END:VALARM
END:VEVENT
BEGIN:VEVENT
UID:69e9e3404c51a
DTSTART:20260629T190000Z
SEQUENCE:0
TRANSP:OPAQUE
LOCATION:Lagae
SUMMARY:Wedstrijd 806 KMVV
CLASS:PUBLIC
DESCRIPTION:Comp wedstrijd 806: fc pottelberg - Pep.link
X-ALT-DESC;FMTTYPE=text/html:Comp wedstrijd 806: <b>fc pottelberg - Pep.lin
 k</b> te Lagae
X-MICROSOFT-CDO-BUSYSTATUS:FREE
X-MICROSOFT-CDO-INTENDEDSTATUS:FREE
DTSTAMP:20260423T091544Z
BEGIN:VALARM
TRIGGER:-P1D
ACTION:DISPLAY
DESCRIPTION:Comp wedstrijd 806: fc pottelberg - Pep.link
END:VALARM
END:VEVENT
END:VCALENDAR