BEGIN:VCALENDAR
VERSION:2.0
PRODID:www.kmvv.be
BEGIN:VEVENT
UID:69e9e5b0bd8ad
DTSTART:20250917T190000Z
SEQUENCE:0
TRANSP:OPAQUE
LOCATION:Rollegem
SUMMARY:Wedstrijd 52 KMVV
CLASS:PUBLIC
DESCRIPTION:Comp wedstrijd 52: Café 1917 seniors - AS Rodenburg
X-ALT-DESC;FMTTYPE=text/html:Comp wedstrijd 52: <b>Café 1917 seniors - AS 
 Rodenburg</b> te Rollegem
X-MICROSOFT-CDO-BUSYSTATUS:FREE
X-MICROSOFT-CDO-INTENDEDSTATUS:FREE
DTSTAMP:20260423T092608Z
BEGIN:VALARM
TRIGGER:-P1D
ACTION:DISPLAY
DESCRIPTION:Comp wedstrijd 52: Café 1917 seniors - AS Rodenburg
END:VALARM
END:VEVENT
BEGIN:VEVENT
UID:69e9e5b0bdba2
DTSTART:20250924T193000Z
SEQUENCE:0
TRANSP:OPAQUE
LOCATION:Bissegem
SUMMARY:Wedstrijd 69 KMVV
CLASS:PUBLIC
DESCRIPTION:Comp wedstrijd 69: Edging Eagels - Café 1917 seniors
X-ALT-DESC;FMTTYPE=text/html:Comp wedstrijd 69: <b>Edging Eagels - Café 19
 17 seniors</b> te Bissegem
X-MICROSOFT-CDO-BUSYSTATUS:FREE
X-MICROSOFT-CDO-INTENDEDSTATUS:FREE
DTSTAMP:20260423T092608Z
BEGIN:VALARM
TRIGGER:-P1D
ACTION:DISPLAY
DESCRIPTION:Comp wedstrijd 69: Edging Eagels - Café 1917 seniors
END:VALARM
END:VEVENT
BEGIN:VEVENT
UID:69e9e5b0bdbc4
DTSTART:20251001T193000Z
SEQUENCE:0
TRANSP:OPAQUE
LOCATION:Bissegem
SUMMARY:Wedstrijd 90 KMVV
CLASS:PUBLIC
DESCRIPTION:Comp wedstrijd 90: Pumas - Café 1917 seniors
X-ALT-DESC;FMTTYPE=text/html:Comp wedstrijd 90: <b>Pumas - Café 1917 senio
 rs</b> te Bissegem
X-MICROSOFT-CDO-BUSYSTATUS:FREE
X-MICROSOFT-CDO-INTENDEDSTATUS:FREE
DTSTAMP:20260423T092608Z
BEGIN:VALARM
TRIGGER:-P1D
ACTION:DISPLAY
DESCRIPTION:Comp wedstrijd 90: Pumas - Café 1917 seniors
END:VALARM
END:VEVENT
BEGIN:VEVENT
UID:69e9e5b0bdbf6
DTSTART:20251016T193000Z
SEQUENCE:0
TRANSP:OPAQUE
LOCATION:Bissegem
SUMMARY:Wedstrijd 135 KMVV
CLASS:PUBLIC
DESCRIPTION:Comp wedstrijd 135: Café 1917 seniors - Team Delirium
X-ALT-DESC;FMTTYPE=text/html:Comp wedstrijd 135: <b>Café 1917 seniors - Te
 am Delirium</b> te Bissegem
X-MICROSOFT-CDO-BUSYSTATUS:FREE
X-MICROSOFT-CDO-INTENDEDSTATUS:FREE
DTSTAMP:20260423T092608Z
BEGIN:VALARM
TRIGGER:-P1D
ACTION:DISPLAY
DESCRIPTION:Comp wedstrijd 135: Café 1917 seniors - Team Delirium
END:VALARM
END:VEVENT
BEGIN:VEVENT
UID:69e9e5b0bdc0e
DTSTART:20251020T180000Z
SEQUENCE:0
TRANSP:OPAQUE
LOCATION:Lagae
SUMMARY:Wedstrijd 143 KMVV
CLASS:PUBLIC
DESCRIPTION:Comp wedstrijd 143: fc pottelberg - Café 1917 seniors
X-ALT-DESC;FMTTYPE=text/html:Comp wedstrijd 143: <b>fc pottelberg - Café 1
 917 seniors</b> te Lagae
X-MICROSOFT-CDO-BUSYSTATUS:FREE
X-MICROSOFT-CDO-INTENDEDSTATUS:FREE
DTSTAMP:20260423T092608Z
BEGIN:VALARM
TRIGGER:-P1D
ACTION:DISPLAY
DESCRIPTION:Comp wedstrijd 143: fc pottelberg - Café 1917 seniors
END:VALARM
END:VEVENT
BEGIN:VEVENT
UID:69e9e5b0bdc22
DTSTART:20251106T193000Z
SEQUENCE:0
TRANSP:OPAQUE
LOCATION:Rollegem
SUMMARY:Wedstrijd 197 KMVV
CLASS:PUBLIC
DESCRIPTION:Comp wedstrijd 197: Café 1917 seniors - RFC Oenanthe
X-ALT-DESC;FMTTYPE=text/html:Comp wedstrijd 197: <b>Café 1917 seniors - RF
 C Oenanthe</b> te Rollegem
X-MICROSOFT-CDO-BUSYSTATUS:FREE
X-MICROSOFT-CDO-INTENDEDSTATUS:FREE
DTSTAMP:20260423T092608Z
BEGIN:VALARM
TRIGGER:-P1D
ACTION:DISPLAY
DESCRIPTION:Comp wedstrijd 197: Café 1917 seniors - RFC Oenanthe
END:VALARM
END:VEVENT
BEGIN:VEVENT
UID:69e9e5b0bdc35
DTSTART:20251120T203000Z
SEQUENCE:0
TRANSP:OPAQUE
LOCATION:Rollegem
SUMMARY:Wedstrijd 238 KMVV
CLASS:PUBLIC
DESCRIPTION:Comp wedstrijd 238: AS Rodenburg - Café 1917 seniors
X-ALT-DESC;FMTTYPE=text/html:Comp wedstrijd 238: <b>AS Rodenburg - Café 19
 17 seniors</b> te Rollegem
X-MICROSOFT-CDO-BUSYSTATUS:FREE
X-MICROSOFT-CDO-INTENDEDSTATUS:FREE
DTSTAMP:20260423T092608Z
BEGIN:VALARM
TRIGGER:-P1D
ACTION:DISPLAY
DESCRIPTION:Comp wedstrijd 238: AS Rodenburg - Café 1917 seniors
END:VALARM
END:VEVENT
BEGIN:VEVENT
UID:69e9e5b0bdc49
DTSTART:20251124T190000Z
SEQUENCE:0
TRANSP:OPAQUE
LOCATION:Lagae
SUMMARY:Wedstrijd 244 KMVV
CLASS:PUBLIC
DESCRIPTION:Comp wedstrijd 244: Café 1917 seniors - Edging Eagels
X-ALT-DESC;FMTTYPE=text/html:Comp wedstrijd 244: <b>Café 1917 seniors - Ed
 ging Eagels</b> te Lagae
X-MICROSOFT-CDO-BUSYSTATUS:FREE
X-MICROSOFT-CDO-INTENDEDSTATUS:FREE
DTSTAMP:20260423T092608Z
BEGIN:VALARM
TRIGGER:-P1D
ACTION:DISPLAY
DESCRIPTION:Comp wedstrijd 244: Café 1917 seniors - Edging Eagels
END:VALARM
END:VEVENT
BEGIN:VEVENT
UID:69e9e5b0bdc5b
DTSTART:20251208T200000Z
SEQUENCE:0
TRANSP:OPAQUE
LOCATION:Lagae
SUMMARY:Wedstrijd 285 KMVV
CLASS:PUBLIC
DESCRIPTION:Comp wedstrijd 285: Café 1917 seniors - Pumas
X-ALT-DESC;FMTTYPE=text/html:Comp wedstrijd 285: <b>Café 1917 seniors - Pu
 mas</b> te Lagae
X-MICROSOFT-CDO-BUSYSTATUS:FREE
X-MICROSOFT-CDO-INTENDEDSTATUS:FREE
DTSTAMP:20260423T092608Z
BEGIN:VALARM
TRIGGER:-P1D
ACTION:DISPLAY
DESCRIPTION:Comp wedstrijd 285: Café 1917 seniors - Pumas
END:VALARM
END:VEVENT
BEGIN:VEVENT
UID:69e9e5b0bdc6e
DTSTART:20251218T193000Z
SEQUENCE:0
TRANSP:OPAQUE
LOCATION:Bissegem
SUMMARY:Wedstrijd 313 KMVV
CLASS:PUBLIC
DESCRIPTION:Comp wedstrijd 313: Team Delirium - Café 1917 seniors
X-ALT-DESC;FMTTYPE=text/html:Comp wedstrijd 313: <b>Team Delirium - Café 1
 917 seniors</b> te Bissegem
X-MICROSOFT-CDO-BUSYSTATUS:FREE
X-MICROSOFT-CDO-INTENDEDSTATUS:FREE
DTSTAMP:20260423T092608Z
BEGIN:VALARM
TRIGGER:-P1D
ACTION:DISPLAY
DESCRIPTION:Comp wedstrijd 313: Team Delirium - Café 1917 seniors
END:VALARM
END:VEVENT
BEGIN:VEVENT
UID:69e9e5b0bdc81
DTSTART:20251229T193000Z
SEQUENCE:0
TRANSP:OPAQUE
LOCATION:Bissegem
SUMMARY:Wedstrijd 330 KMVV
CLASS:PUBLIC
DESCRIPTION:Comp wedstrijd 330: Café 1917 seniors - fc pottelberg
X-ALT-DESC;FMTTYPE=text/html:Comp wedstrijd 330: <b>Café 1917 seniors - fc
  pottelberg</b> te Bissegem
X-MICROSOFT-CDO-BUSYSTATUS:FREE
X-MICROSOFT-CDO-INTENDEDSTATUS:FREE
DTSTAMP:20260423T092608Z
BEGIN:VALARM
TRIGGER:-P1D
ACTION:DISPLAY
DESCRIPTION:Comp wedstrijd 330: Café 1917 seniors - fc pottelberg
END:VALARM
END:VEVENT
BEGIN:VEVENT
UID:69e9e5b0bdc94
DTSTART:20260115T203000Z
SEQUENCE:0
TRANSP:OPAQUE
LOCATION:Rollegem
SUMMARY:Wedstrijd 376 KMVV
CLASS:PUBLIC
DESCRIPTION:Comp wedstrijd 376: RFC Oenanthe - Café 1917 seniors
X-ALT-DESC;FMTTYPE=text/html:Comp wedstrijd 376: <b>RFC Oenanthe - Café 19
 17 seniors</b> te Rollegem
X-MICROSOFT-CDO-BUSYSTATUS:FREE
X-MICROSOFT-CDO-INTENDEDSTATUS:FREE
DTSTAMP:20260423T092608Z
BEGIN:VALARM
TRIGGER:-P1D
ACTION:DISPLAY
DESCRIPTION:Comp wedstrijd 376: RFC Oenanthe - Café 1917 seniors
END:VALARM
END:VEVENT
BEGIN:VEVENT
UID:69e9e5b0bdca6
DTSTART:20260226T193000Z
SEQUENCE:0
TRANSP:OPAQUE
LOCATION:Bissegem
SUMMARY:Wedstrijd 439 KMVV
CLASS:PUBLIC
DESCRIPTION:Comp wedstrijd 439: AS Rodenburg - Café 1917 seniors
X-ALT-DESC;FMTTYPE=text/html:Comp wedstrijd 439: <b>AS Rodenburg - Café 19
 17 seniors</b> te Bissegem
X-MICROSOFT-CDO-BUSYSTATUS:FREE
X-MICROSOFT-CDO-INTENDEDSTATUS:FREE
DTSTAMP:20260423T092608Z
BEGIN:VALARM
TRIGGER:-P1D
ACTION:DISPLAY
DESCRIPTION:Comp wedstrijd 439: AS Rodenburg - Café 1917 seniors
END:VALARM
END:VEVENT
BEGIN:VEVENT
UID:69e9e5b0bdcb9
DTSTART:20260312T203000Z
SEQUENCE:0
TRANSP:OPAQUE
LOCATION:Rollegem
SUMMARY:Wedstrijd 484 KMVV
CLASS:PUBLIC
DESCRIPTION:Comp wedstrijd 484: Café 1917 seniors - CSR
X-ALT-DESC;FMTTYPE=text/html:Comp wedstrijd 484: <b>Café 1917 seniors - CS
 R</b> te Rollegem
X-MICROSOFT-CDO-BUSYSTATUS:FREE
X-MICROSOFT-CDO-INTENDEDSTATUS:FREE
DTSTAMP:20260423T092608Z
BEGIN:VALARM
TRIGGER:-P1D
ACTION:DISPLAY
DESCRIPTION:Comp wedstrijd 484: Café 1917 seniors - CSR
END:VALARM
END:VEVENT
BEGIN:VEVENT
UID:69e9e5b0bdccb
DTSTART:20260319T203000Z
SEQUENCE:0
TRANSP:OPAQUE
LOCATION:Bissegem
SUMMARY:Wedstrijd 501 KMVV
CLASS:PUBLIC
DESCRIPTION:Comp wedstrijd 501: Café 1917 seniors - Pumas
X-ALT-DESC;FMTTYPE=text/html:Comp wedstrijd 501: <b>Café 1917 seniors - Pu
 mas</b> te Bissegem
X-MICROSOFT-CDO-BUSYSTATUS:FREE
X-MICROSOFT-CDO-INTENDEDSTATUS:FREE
DTSTAMP:20260423T092608Z
BEGIN:VALARM
TRIGGER:-P1D
ACTION:DISPLAY
DESCRIPTION:Comp wedstrijd 501: Café 1917 seniors - Pumas
END:VALARM
END:VEVENT
BEGIN:VEVENT
UID:69e9e5b0bdcdd
DTSTART:20260330T180000Z
SEQUENCE:0
TRANSP:OPAQUE
LOCATION:Rollegem
SUMMARY:Wedstrijd 528 KMVV
CLASS:PUBLIC
DESCRIPTION:Comp wedstrijd 528: Team Delirium - Café 1917 seniors
X-ALT-DESC;FMTTYPE=text/html:Comp wedstrijd 528: <b>Team Delirium - Café 1
 917 seniors</b> te Rollegem
X-MICROSOFT-CDO-BUSYSTATUS:FREE
X-MICROSOFT-CDO-INTENDEDSTATUS:FREE
DTSTAMP:20260423T092608Z
BEGIN:VALARM
TRIGGER:-P1D
ACTION:DISPLAY
DESCRIPTION:Comp wedstrijd 528: Team Delirium - Café 1917 seniors
END:VALARM
END:VEVENT
BEGIN:VEVENT
UID:69e9e5b0bdcef
DTSTART:20260415T180000Z
SEQUENCE:0
TRANSP:OPAQUE
LOCATION:Rollegem
SUMMARY:Wedstrijd 559 KMVV
CLASS:PUBLIC
DESCRIPTION:Comp wedstrijd 559: Café 1917 seniors - MVC Baliboys
X-ALT-DESC;FMTTYPE=text/html:Comp wedstrijd 559: <b>Café 1917 seniors - MV
 C Baliboys</b> te Rollegem
X-MICROSOFT-CDO-BUSYSTATUS:FREE
X-MICROSOFT-CDO-INTENDEDSTATUS:FREE
DTSTAMP:20260423T092608Z
BEGIN:VALARM
TRIGGER:-P1D
ACTION:DISPLAY
DESCRIPTION:Comp wedstrijd 559: Café 1917 seniors - MVC Baliboys
END:VALARM
END:VEVENT
BEGIN:VEVENT
UID:69e9e5b0bdd01
DTSTART:20260429T190000Z
SEQUENCE:0
TRANSP:OPAQUE
LOCATION:Rollegem
SUMMARY:Wedstrijd 600 KMVV
CLASS:PUBLIC
DESCRIPTION:Comp wedstrijd 600: RFC Oenanthe - Café 1917 seniors
X-ALT-DESC;FMTTYPE=text/html:Comp wedstrijd 600: <b>RFC Oenanthe - Café 19
 17 seniors</b> te Rollegem
X-MICROSOFT-CDO-BUSYSTATUS:FREE
X-MICROSOFT-CDO-INTENDEDSTATUS:FREE
DTSTAMP:20260423T092608Z
BEGIN:VALARM
TRIGGER:-P1D
ACTION:DISPLAY
DESCRIPTION:Comp wedstrijd 600: RFC Oenanthe - Café 1917 seniors
END:VALARM
END:VEVENT
BEGIN:VEVENT
UID:69e9e5b0bdd13
DTSTART:20260511T183000Z
SEQUENCE:0
TRANSP:OPAQUE
LOCATION:Bissegem
SUMMARY:Wedstrijd 630 KMVV
CLASS:PUBLIC
DESCRIPTION:Comp wedstrijd 630: Pumas - Café 1917 seniors
X-ALT-DESC;FMTTYPE=text/html:Comp wedstrijd 630: <b>Pumas - Café 1917 seni
 ors</b> te Bissegem
X-MICROSOFT-CDO-BUSYSTATUS:FREE
X-MICROSOFT-CDO-INTENDEDSTATUS:FREE
DTSTAMP:20260423T092608Z
BEGIN:VALARM
TRIGGER:-P1D
ACTION:DISPLAY
DESCRIPTION:Comp wedstrijd 630: Pumas - Café 1917 seniors
END:VALARM
END:VEVENT
BEGIN:VEVENT
UID:69e9e5b0bdd24
DTSTART:20260520T193000Z
SEQUENCE:0
TRANSP:OPAQUE
LOCATION:Rollegem
SUMMARY:Wedstrijd 653 KMVV
CLASS:PUBLIC
DESCRIPTION:Comp wedstrijd 653: Café 1917 seniors - AS Rodenburg
X-ALT-DESC;FMTTYPE=text/html:Comp wedstrijd 653: <b>Café 1917 seniors - AS
  Rodenburg</b> te Rollegem
X-MICROSOFT-CDO-BUSYSTATUS:FREE
X-MICROSOFT-CDO-INTENDEDSTATUS:FREE
DTSTAMP:20260423T092608Z
BEGIN:VALARM
TRIGGER:-P1D
ACTION:DISPLAY
DESCRIPTION:Comp wedstrijd 653: Café 1917 seniors - AS Rodenburg
END:VALARM
END:VEVENT
BEGIN:VEVENT
UID:69e9e5b0bdd36
DTSTART:20260526T180000Z
SEQUENCE:0
TRANSP:OPAQUE
LOCATION:Bissegem
SUMMARY:Wedstrijd 663 KMVV
CLASS:PUBLIC
DESCRIPTION:Comp wedstrijd 663: CSR - Café 1917 seniors
X-ALT-DESC;FMTTYPE=text/html:Comp wedstrijd 663: <b>CSR - Café 1917 senior
 s</b> te Bissegem
X-MICROSOFT-CDO-BUSYSTATUS:FREE
X-MICROSOFT-CDO-INTENDEDSTATUS:FREE
DTSTAMP:20260423T092608Z
BEGIN:VALARM
TRIGGER:-P1D
ACTION:DISPLAY
DESCRIPTION:Comp wedstrijd 663: CSR - Café 1917 seniors
END:VALARM
END:VEVENT
BEGIN:VEVENT
UID:69e9e5b0bdd47
DTSTART:20260603T180000Z
SEQUENCE:0
TRANSP:OPAQUE
LOCATION:Rollegem
SUMMARY:Wedstrijd 699 KMVV
CLASS:PUBLIC
DESCRIPTION:Comp wedstrijd 699: Café 1917 seniors - Team Delirium
X-ALT-DESC;FMTTYPE=text/html:Comp wedstrijd 699: <b>Café 1917 seniors - Te
 am Delirium</b> te Rollegem
X-MICROSOFT-CDO-BUSYSTATUS:FREE
X-MICROSOFT-CDO-INTENDEDSTATUS:FREE
DTSTAMP:20260423T092608Z
BEGIN:VALARM
TRIGGER:-P1D
ACTION:DISPLAY
DESCRIPTION:Comp wedstrijd 699: Café 1917 seniors - Team Delirium
END:VALARM
END:VEVENT
BEGIN:VEVENT
UID:69e9e5b0bdd59
DTSTART:20260612T180000Z
SEQUENCE:0
TRANSP:OPAQUE
LOCATION:Rollegem
SUMMARY:Wedstrijd 743 KMVV
CLASS:PUBLIC
DESCRIPTION:Comp wedstrijd 743: MVC Baliboys - Café 1917 seniors
X-ALT-DESC;FMTTYPE=text/html:Comp wedstrijd 743: <b>MVC Baliboys - Café 19
 17 seniors</b> te Rollegem
X-MICROSOFT-CDO-BUSYSTATUS:FREE
X-MICROSOFT-CDO-INTENDEDSTATUS:FREE
DTSTAMP:20260423T092608Z
BEGIN:VALARM
TRIGGER:-P1D
ACTION:DISPLAY
DESCRIPTION:Comp wedstrijd 743: MVC Baliboys - Café 1917 seniors
END:VALARM
END:VEVENT
BEGIN:VEVENT
UID:69e9e5b0bdd6a
DTSTART:20260618T193000Z
SEQUENCE:0
TRANSP:OPAQUE
LOCATION:Rollegem
SUMMARY:Wedstrijd 767 KMVV
CLASS:PUBLIC
DESCRIPTION:Comp wedstrijd 767: Café 1917 seniors - RFC Oenanthe
X-ALT-DESC;FMTTYPE=text/html:Comp wedstrijd 767: <b>Café 1917 seniors - RF
 C Oenanthe</b> te Rollegem
X-MICROSOFT-CDO-BUSYSTATUS:FREE
X-MICROSOFT-CDO-INTENDEDSTATUS:FREE
DTSTAMP:20260423T092608Z
BEGIN:VALARM
TRIGGER:-P1D
ACTION:DISPLAY
DESCRIPTION:Comp wedstrijd 767: Café 1917 seniors - RFC Oenanthe
END:VALARM
END:VEVENT
END:VCALENDAR