BEGIN:VCALENDAR
VERSION:2.0
PRODID:www.kmvv.be
BEGIN:VEVENT
UID:69e9e043d95cc
DTSTART:20250911T193000Z
SEQUENCE:0
TRANSP:OPAQUE
LOCATION:Rollegem
SUMMARY:Wedstrijd 38 KMVV
CLASS:PUBLIC
DESCRIPTION:Comp wedstrijd 38: RFC Oenanthe - Pumas
X-ALT-DESC;FMTTYPE=text/html:Comp wedstrijd 38: <b>RFC Oenanthe - Pumas</b>
  te Rollegem
X-MICROSOFT-CDO-BUSYSTATUS:FREE
X-MICROSOFT-CDO-INTENDEDSTATUS:FREE
DTSTAMP:20260423T090259Z
BEGIN:VALARM
TRIGGER:-P1D
ACTION:DISPLAY
DESCRIPTION:Comp wedstrijd 38: RFC Oenanthe - Pumas
END:VALARM
END:VEVENT
BEGIN:VEVENT
UID:69e9e043d9b8c
DTSTART:20250925T193000Z
SEQUENCE:0
TRANSP:OPAQUE
LOCATION:Rollegem
SUMMARY:Wedstrijd 78 KMVV
CLASS:PUBLIC
DESCRIPTION:Comp wedstrijd 78: Pumas - fc pottelberg
X-ALT-DESC;FMTTYPE=text/html:Comp wedstrijd 78: <b>Pumas - fc pottelberg</b
 > te Rollegem
X-MICROSOFT-CDO-BUSYSTATUS:FREE
X-MICROSOFT-CDO-INTENDEDSTATUS:FREE
DTSTAMP:20260423T090259Z
BEGIN:VALARM
TRIGGER:-P1D
ACTION:DISPLAY
DESCRIPTION:Comp wedstrijd 78: Pumas - fc pottelberg
END:VALARM
END:VEVENT
BEGIN:VEVENT
UID:69e9e043d9bbb
DTSTART:20251001T193000Z
SEQUENCE:0
TRANSP:OPAQUE
LOCATION:Bissegem
SUMMARY:Wedstrijd 90 KMVV
CLASS:PUBLIC
DESCRIPTION:Comp wedstrijd 90: Pumas - Café 1917 seniors
X-ALT-DESC;FMTTYPE=text/html:Comp wedstrijd 90: <b>Pumas - Café 1917 senio
 rs</b> te Bissegem
X-MICROSOFT-CDO-BUSYSTATUS:FREE
X-MICROSOFT-CDO-INTENDEDSTATUS:FREE
DTSTAMP:20260423T090259Z
BEGIN:VALARM
TRIGGER:-P1D
ACTION:DISPLAY
DESCRIPTION:Comp wedstrijd 90: Pumas - Café 1917 seniors
END:VALARM
END:VEVENT
BEGIN:VEVENT
UID:69e9e043d9bd5
DTSTART:20251016T183000Z
SEQUENCE:0
TRANSP:OPAQUE
LOCATION:Bissegem
SUMMARY:Wedstrijd 134 KMVV
CLASS:PUBLIC
DESCRIPTION:Comp wedstrijd 134: AS Rodenburg - Pumas
X-ALT-DESC;FMTTYPE=text/html:Comp wedstrijd 134: <b>AS Rodenburg - Pumas</b
 > te Bissegem
X-MICROSOFT-CDO-BUSYSTATUS:FREE
X-MICROSOFT-CDO-INTENDEDSTATUS:FREE
DTSTAMP:20260423T090259Z
BEGIN:VALARM
TRIGGER:-P1D
ACTION:DISPLAY
DESCRIPTION:Comp wedstrijd 134: AS Rodenburg - Pumas
END:VALARM
END:VEVENT
BEGIN:VEVENT
UID:69e9e043d9beb
DTSTART:20251023T193000Z
SEQUENCE:0
TRANSP:OPAQUE
LOCATION:Rollegem
SUMMARY:Wedstrijd 158 KMVV
CLASS:PUBLIC
DESCRIPTION:Comp wedstrijd 158: Pumas - Edging Eagels
X-ALT-DESC;FMTTYPE=text/html:Comp wedstrijd 158: <b>Pumas - Edging Eagels</
 b> te Rollegem
X-MICROSOFT-CDO-BUSYSTATUS:FREE
X-MICROSOFT-CDO-INTENDEDSTATUS:FREE
DTSTAMP:20260423T090259Z
BEGIN:VALARM
TRIGGER:-P1D
ACTION:DISPLAY
DESCRIPTION:Comp wedstrijd 158: Pumas - Edging Eagels
END:VALARM
END:VEVENT
BEGIN:VEVENT
UID:69e9e043d9c00
DTSTART:20251106T183000Z
SEQUENCE:0
TRANSP:OPAQUE
LOCATION:Bissegem
SUMMARY:Wedstrijd 192 KMVV
CLASS:PUBLIC
DESCRIPTION:Comp wedstrijd 192: Team Delirium - Pumas
X-ALT-DESC;FMTTYPE=text/html:Comp wedstrijd 192: <b>Team Delirium - Pumas</
 b> te Bissegem
X-MICROSOFT-CDO-BUSYSTATUS:FREE
X-MICROSOFT-CDO-INTENDEDSTATUS:FREE
DTSTAMP:20260423T090259Z
BEGIN:VALARM
TRIGGER:-P1D
ACTION:DISPLAY
DESCRIPTION:Comp wedstrijd 192: Team Delirium - Pumas
END:VALARM
END:VEVENT
BEGIN:VEVENT
UID:69e9e043d9c21
DTSTART:20251113T203000Z
SEQUENCE:0
TRANSP:OPAQUE
LOCATION:Bissegem
SUMMARY:Wedstrijd 215 KMVV
CLASS:PUBLIC
DESCRIPTION:Comp wedstrijd 215: Pumas - RFC Oenanthe
X-ALT-DESC;FMTTYPE=text/html:Comp wedstrijd 215: <b>Pumas - RFC Oenanthe</b
 > te Bissegem
X-MICROSOFT-CDO-BUSYSTATUS:FREE
X-MICROSOFT-CDO-INTENDEDSTATUS:FREE
DTSTAMP:20260423T090259Z
BEGIN:VALARM
TRIGGER:-P1D
ACTION:DISPLAY
DESCRIPTION:Comp wedstrijd 215: Pumas - RFC Oenanthe
END:VALARM
END:VEVENT
BEGIN:VEVENT
UID:69e9e043d9c3d
DTSTART:20251127T183000Z
SEQUENCE:0
TRANSP:OPAQUE
LOCATION:Bissegem
SUMMARY:Wedstrijd 253 KMVV
CLASS:PUBLIC
DESCRIPTION:Comp wedstrijd 253: fc pottelberg - Pumas
X-ALT-DESC;FMTTYPE=text/html:Comp wedstrijd 253: <b>fc pottelberg - Pumas</
 b> te Bissegem
X-MICROSOFT-CDO-BUSYSTATUS:FREE
X-MICROSOFT-CDO-INTENDEDSTATUS:FREE
DTSTAMP:20260423T090259Z
BEGIN:VALARM
TRIGGER:-P1D
ACTION:DISPLAY
DESCRIPTION:Comp wedstrijd 253: fc pottelberg - Pumas
END:VALARM
END:VEVENT
BEGIN:VEVENT
UID:69e9e043d9c58
DTSTART:20251208T200000Z
SEQUENCE:0
TRANSP:OPAQUE
LOCATION:Lagae
SUMMARY:Wedstrijd 285 KMVV
CLASS:PUBLIC
DESCRIPTION:Comp wedstrijd 285: Café 1917 seniors - Pumas
X-ALT-DESC;FMTTYPE=text/html:Comp wedstrijd 285: <b>Café 1917 seniors - Pu
 mas</b> te Lagae
X-MICROSOFT-CDO-BUSYSTATUS:FREE
X-MICROSOFT-CDO-INTENDEDSTATUS:FREE
DTSTAMP:20260423T090259Z
BEGIN:VALARM
TRIGGER:-P1D
ACTION:DISPLAY
DESCRIPTION:Comp wedstrijd 285: Café 1917 seniors - Pumas
END:VALARM
END:VEVENT
BEGIN:VEVENT
UID:69e9e043d9c73
DTSTART:20251218T183000Z
SEQUENCE:0
TRANSP:OPAQUE
LOCATION:Bissegem
SUMMARY:Wedstrijd 312 KMVV
CLASS:PUBLIC
DESCRIPTION:Comp wedstrijd 312: Pumas - AS Rodenburg
X-ALT-DESC;FMTTYPE=text/html:Comp wedstrijd 312: <b>Pumas - AS Rodenburg</b
 > te Bissegem
X-MICROSOFT-CDO-BUSYSTATUS:FREE
X-MICROSOFT-CDO-INTENDEDSTATUS:FREE
DTSTAMP:20260423T090259Z
BEGIN:VALARM
TRIGGER:-P1D
ACTION:DISPLAY
DESCRIPTION:Comp wedstrijd 312: Pumas - AS Rodenburg
END:VALARM
END:VEVENT
BEGIN:VEVENT
UID:69e9e043d9c8f
DTSTART:20251229T203000Z
SEQUENCE:0
TRANSP:OPAQUE
LOCATION:Bissegem
SUMMARY:Wedstrijd 331 KMVV
CLASS:PUBLIC
DESCRIPTION:Comp wedstrijd 331: Edging Eagels - Pumas
X-ALT-DESC;FMTTYPE=text/html:Comp wedstrijd 331: <b>Edging Eagels - Pumas</
 b> te Bissegem
X-MICROSOFT-CDO-BUSYSTATUS:FREE
X-MICROSOFT-CDO-INTENDEDSTATUS:FREE
DTSTAMP:20260423T090259Z
BEGIN:VALARM
TRIGGER:-P1D
ACTION:DISPLAY
DESCRIPTION:Comp wedstrijd 331: Edging Eagels - Pumas
END:VALARM
END:VEVENT
BEGIN:VEVENT
UID:69e9e043d9cb6
DTSTART:20260202T203000Z
SEQUENCE:0
TRANSP:OPAQUE
LOCATION:Bissegem
SUMMARY:Wedstrijd 362 KMVV
CLASS:PUBLIC
DESCRIPTION:Comp wedstrijd 362: Pumas - Team Delirium
X-ALT-DESC;FMTTYPE=text/html:Comp wedstrijd 362: <b>Pumas - Team Delirium</
 b> te Bissegem
X-MICROSOFT-CDO-BUSYSTATUS:FREE
X-MICROSOFT-CDO-INTENDEDSTATUS:FREE
DTSTAMP:20260423T090259Z
BEGIN:VALARM
TRIGGER:-P1D
ACTION:DISPLAY
DESCRIPTION:Comp wedstrijd 362: Pumas - Team Delirium
END:VALARM
END:VEVENT
BEGIN:VEVENT
UID:69e9e043d9cd5
DTSTART:20260219T203000Z
SEQUENCE:0
TRANSP:OPAQUE
LOCATION:Bissegem
SUMMARY:Wedstrijd 421 KMVV
CLASS:PUBLIC
DESCRIPTION:Comp wedstrijd 421: Pumas - RFC Oenanthe
X-ALT-DESC;FMTTYPE=text/html:Comp wedstrijd 421: <b>Pumas - RFC Oenanthe</b
 > te Bissegem
X-MICROSOFT-CDO-BUSYSTATUS:FREE
X-MICROSOFT-CDO-INTENDEDSTATUS:FREE
DTSTAMP:20260423T090259Z
BEGIN:VALARM
TRIGGER:-P1D
ACTION:DISPLAY
DESCRIPTION:Comp wedstrijd 421: Pumas - RFC Oenanthe
END:VALARM
END:VEVENT
BEGIN:VEVENT
UID:69e9e043d9cf1
DTSTART:20260223T193000Z
SEQUENCE:0
TRANSP:OPAQUE
LOCATION:Bissegem
SUMMARY:Wedstrijd 426 KMVV
CLASS:PUBLIC
DESCRIPTION:Comp wedstrijd 426: MVC Baliboys - Pumas
X-ALT-DESC;FMTTYPE=text/html:Comp wedstrijd 426: <b>MVC Baliboys - Pumas</b
 > te Bissegem
X-MICROSOFT-CDO-BUSYSTATUS:FREE
X-MICROSOFT-CDO-INTENDEDSTATUS:FREE
DTSTAMP:20260423T090259Z
BEGIN:VALARM
TRIGGER:-P1D
ACTION:DISPLAY
DESCRIPTION:Comp wedstrijd 426: MVC Baliboys - Pumas
END:VALARM
END:VEVENT
BEGIN:VEVENT
UID:69e9e043d9d14
DTSTART:20260319T203000Z
SEQUENCE:0
TRANSP:OPAQUE
LOCATION:Bissegem
SUMMARY:Wedstrijd 501 KMVV
CLASS:PUBLIC
DESCRIPTION:Comp wedstrijd 501: Café 1917 seniors - Pumas
X-ALT-DESC;FMTTYPE=text/html:Comp wedstrijd 501: <b>Café 1917 seniors - Pu
 mas</b> te Bissegem
X-MICROSOFT-CDO-BUSYSTATUS:FREE
X-MICROSOFT-CDO-INTENDEDSTATUS:FREE
DTSTAMP:20260423T090259Z
BEGIN:VALARM
TRIGGER:-P1D
ACTION:DISPLAY
DESCRIPTION:Comp wedstrijd 501: Café 1917 seniors - Pumas
END:VALARM
END:VEVENT
BEGIN:VEVENT
UID:69e9e043d9d2f
DTSTART:20260330T190000Z
SEQUENCE:0
TRANSP:OPAQUE
LOCATION:Lagae
SUMMARY:Wedstrijd 524 KMVV
CLASS:PUBLIC
DESCRIPTION:Comp wedstrijd 524: Pumas - AS Rodenburg
X-ALT-DESC;FMTTYPE=text/html:Comp wedstrijd 524: <b>Pumas - AS Rodenburg</b
 > te Lagae
X-MICROSOFT-CDO-BUSYSTATUS:FREE
X-MICROSOFT-CDO-INTENDEDSTATUS:FREE
DTSTAMP:20260423T090259Z
BEGIN:VALARM
TRIGGER:-P1D
ACTION:DISPLAY
DESCRIPTION:Comp wedstrijd 524: Pumas - AS Rodenburg
END:VALARM
END:VEVENT
BEGIN:VEVENT
UID:69e9e043d9d4d
DTSTART:20260413T183000Z
SEQUENCE:0
TRANSP:OPAQUE
LOCATION:Bissegem
SUMMARY:Wedstrijd 549 KMVV
CLASS:PUBLIC
DESCRIPTION:Comp wedstrijd 549: CSR - Pumas
X-ALT-DESC;FMTTYPE=text/html:Comp wedstrijd 549: <b>CSR - Pumas</b> te Biss
 egem
X-MICROSOFT-CDO-BUSYSTATUS:FREE
X-MICROSOFT-CDO-INTENDEDSTATUS:FREE
DTSTAMP:20260423T090259Z
BEGIN:VALARM
TRIGGER:-P1D
ACTION:DISPLAY
DESCRIPTION:Comp wedstrijd 549: CSR - Pumas
END:VALARM
END:VEVENT
BEGIN:VEVENT
UID:69e9e043d9d6f
DTSTART:20260420T193000Z
SEQUENCE:0
TRANSP:OPAQUE
LOCATION:Bissegem
SUMMARY:Wedstrijd 569 KMVV
CLASS:PUBLIC
DESCRIPTION:Comp wedstrijd 569: Pumas - Team Delirium
X-ALT-DESC;FMTTYPE=text/html:Comp wedstrijd 569: <b>Pumas - Team Delirium</
 b> te Bissegem
X-MICROSOFT-CDO-BUSYSTATUS:FREE
X-MICROSOFT-CDO-INTENDEDSTATUS:FREE
DTSTAMP:20260423T090259Z
BEGIN:VALARM
TRIGGER:-P1D
ACTION:DISPLAY
DESCRIPTION:Comp wedstrijd 569: Pumas - Team Delirium
END:VALARM
END:VEVENT
BEGIN:VEVENT
UID:69e9e043d9d8b
DTSTART:20260504T183000Z
SEQUENCE:0
TRANSP:OPAQUE
LOCATION:Bissegem
SUMMARY:Wedstrijd 606 KMVV
CLASS:PUBLIC
DESCRIPTION:Comp wedstrijd 606: RFC Oenanthe - Pumas
X-ALT-DESC;FMTTYPE=text/html:Comp wedstrijd 606: <b>RFC Oenanthe - Pumas</b
 > te Bissegem
X-MICROSOFT-CDO-BUSYSTATUS:FREE
X-MICROSOFT-CDO-INTENDEDSTATUS:FREE
DTSTAMP:20260423T090259Z
BEGIN:VALARM
TRIGGER:-P1D
ACTION:DISPLAY
DESCRIPTION:Comp wedstrijd 606: RFC Oenanthe - Pumas
END:VALARM
END:VEVENT
BEGIN:VEVENT
UID:69e9e043d9da6
DTSTART:20260511T183000Z
SEQUENCE:0
TRANSP:OPAQUE
LOCATION:Bissegem
SUMMARY:Wedstrijd 630 KMVV
CLASS:PUBLIC
DESCRIPTION:Comp wedstrijd 630: Pumas - Café 1917 seniors
X-ALT-DESC;FMTTYPE=text/html:Comp wedstrijd 630: <b>Pumas - Café 1917 seni
 ors</b> te Bissegem
X-MICROSOFT-CDO-BUSYSTATUS:FREE
X-MICROSOFT-CDO-INTENDEDSTATUS:FREE
DTSTAMP:20260423T090259Z
BEGIN:VALARM
TRIGGER:-P1D
ACTION:DISPLAY
DESCRIPTION:Comp wedstrijd 630: Pumas - Café 1917 seniors
END:VALARM
END:VEVENT
BEGIN:VEVENT
UID:69e9e043d9dc1
DTSTART:20260521T193000Z
SEQUENCE:0
TRANSP:OPAQUE
LOCATION:Rollegem
SUMMARY:Wedstrijd 657 KMVV
CLASS:PUBLIC
DESCRIPTION:Comp wedstrijd 657: Pumas - MVC Baliboys
X-ALT-DESC;FMTTYPE=text/html:Comp wedstrijd 657: <b>Pumas - MVC Baliboys</b
 > te Rollegem
X-MICROSOFT-CDO-BUSYSTATUS:FREE
X-MICROSOFT-CDO-INTENDEDSTATUS:FREE
DTSTAMP:20260423T090259Z
BEGIN:VALARM
TRIGGER:-P1D
ACTION:DISPLAY
DESCRIPTION:Comp wedstrijd 657: Pumas - MVC Baliboys
END:VALARM
END:VEVENT
BEGIN:VEVENT
UID:69e9e043d9ddc
DTSTART:20260605T180000Z
SEQUENCE:0
TRANSP:OPAQUE
LOCATION:Rollegem
SUMMARY:Wedstrijd 713 KMVV
CLASS:PUBLIC
DESCRIPTION:Comp wedstrijd 713: AS Rodenburg - Pumas
X-ALT-DESC;FMTTYPE=text/html:Comp wedstrijd 713: <b>AS Rodenburg - Pumas</b
 > te Rollegem
X-MICROSOFT-CDO-BUSYSTATUS:FREE
X-MICROSOFT-CDO-INTENDEDSTATUS:FREE
DTSTAMP:20260423T090259Z
BEGIN:VALARM
TRIGGER:-P1D
ACTION:DISPLAY
DESCRIPTION:Comp wedstrijd 713: AS Rodenburg - Pumas
END:VALARM
END:VEVENT
BEGIN:VEVENT
UID:69e9e043d9df8
DTSTART:20260610T190000Z
SEQUENCE:0
TRANSP:OPAQUE
LOCATION:Rollegem
SUMMARY:Wedstrijd 732 KMVV
CLASS:PUBLIC
DESCRIPTION:Comp wedstrijd 732: Pumas - CSR
X-ALT-DESC;FMTTYPE=text/html:Comp wedstrijd 732: <b>Pumas - CSR</b> te Roll
 egem
X-MICROSOFT-CDO-BUSYSTATUS:FREE
X-MICROSOFT-CDO-INTENDEDSTATUS:FREE
DTSTAMP:20260423T090259Z
BEGIN:VALARM
TRIGGER:-P1D
ACTION:DISPLAY
DESCRIPTION:Comp wedstrijd 732: Pumas - CSR
END:VALARM
END:VEVENT
BEGIN:VEVENT
UID:69e9e043d9e14
DTSTART:20260626T170000Z
SEQUENCE:0
TRANSP:OPAQUE
LOCATION:Rollegem
SUMMARY:Wedstrijd 799 KMVV
CLASS:PUBLIC
DESCRIPTION:Comp wedstrijd 799: Team Delirium - Pumas
X-ALT-DESC;FMTTYPE=text/html:Comp wedstrijd 799: <b>Team Delirium - Pumas</
 b> te Rollegem
X-MICROSOFT-CDO-BUSYSTATUS:FREE
X-MICROSOFT-CDO-INTENDEDSTATUS:FREE
DTSTAMP:20260423T090259Z
BEGIN:VALARM
TRIGGER:-P1D
ACTION:DISPLAY
DESCRIPTION:Comp wedstrijd 799: Team Delirium - Pumas
END:VALARM
END:VEVENT
END:VCALENDAR