BEGIN:VCALENDAR
VERSION:2.0
PRODID:www.kmvv.be
BEGIN:VEVENT
UID:69e9e09d3db8e
DTSTART:20250911T173000Z
SEQUENCE:0
TRANSP:OPAQUE
LOCATION:Bissegem
SUMMARY:Wedstrijd 32 KMVV
CLASS:PUBLIC
DESCRIPTION:Comp wedstrijd 32: fc pottelberg - Team Delirium
X-ALT-DESC;FMTTYPE=text/html:Comp wedstrijd 32: <b>fc pottelberg - Team Del
 irium</b> te Bissegem
X-MICROSOFT-CDO-BUSYSTATUS:FREE
X-MICROSOFT-CDO-INTENDEDSTATUS:FREE
DTSTAMP:20260423T090429Z
BEGIN:VALARM
TRIGGER:-P1D
ACTION:DISPLAY
DESCRIPTION:Comp wedstrijd 32: fc pottelberg - Team Delirium
END:VALARM
END:VEVENT
BEGIN:VEVENT
UID:69e9e09d3de8a
DTSTART:20250918T170000Z
SEQUENCE:0
TRANSP:OPAQUE
LOCATION:Lagae
SUMMARY:Wedstrijd 57 KMVV
CLASS:PUBLIC
DESCRIPTION:Comp wedstrijd 57: Team Delirium - RFC Oenanthe
X-ALT-DESC;FMTTYPE=text/html:Comp wedstrijd 57: <b>Team Delirium - RFC Oena
 nthe</b> te Lagae
X-MICROSOFT-CDO-BUSYSTATUS:FREE
X-MICROSOFT-CDO-INTENDEDSTATUS:FREE
DTSTAMP:20260423T090429Z
BEGIN:VALARM
TRIGGER:-P1D
ACTION:DISPLAY
DESCRIPTION:Comp wedstrijd 57: Team Delirium - RFC Oenanthe
END:VALARM
END:VEVENT
BEGIN:VEVENT
UID:69e9e09d3deaa
DTSTART:20251003T160000Z
SEQUENCE:0
TRANSP:OPAQUE
LOCATION:Rollegem
SUMMARY:Wedstrijd 98 KMVV
CLASS:PUBLIC
DESCRIPTION:Comp wedstrijd 98: Team Delirium - AS Rodenburg
X-ALT-DESC;FMTTYPE=text/html:Comp wedstrijd 98: <b>Team Delirium - AS Roden
 burg</b> te Rollegem
X-MICROSOFT-CDO-BUSYSTATUS:FREE
X-MICROSOFT-CDO-INTENDEDSTATUS:FREE
DTSTAMP:20260423T090429Z
BEGIN:VALARM
TRIGGER:-P1D
ACTION:DISPLAY
DESCRIPTION:Comp wedstrijd 98: Team Delirium - AS Rodenburg
END:VALARM
END:VEVENT
BEGIN:VEVENT
UID:69e9e09d3dec0
DTSTART:20251016T193000Z
SEQUENCE:0
TRANSP:OPAQUE
LOCATION:Bissegem
SUMMARY:Wedstrijd 135 KMVV
CLASS:PUBLIC
DESCRIPTION:Comp wedstrijd 135: Café 1917 seniors - Team Delirium
X-ALT-DESC;FMTTYPE=text/html:Comp wedstrijd 135: <b>Café 1917 seniors - Te
 am Delirium</b> te Bissegem
X-MICROSOFT-CDO-BUSYSTATUS:FREE
X-MICROSOFT-CDO-INTENDEDSTATUS:FREE
DTSTAMP:20260423T090429Z
BEGIN:VALARM
TRIGGER:-P1D
ACTION:DISPLAY
DESCRIPTION:Comp wedstrijd 135: Café 1917 seniors - Team Delirium
END:VALARM
END:VEVENT
BEGIN:VEVENT
UID:69e9e09d3ded5
DTSTART:20251030T180000Z
SEQUENCE:0
TRANSP:OPAQUE
LOCATION:Lagae
SUMMARY:Wedstrijd 177 KMVV
CLASS:PUBLIC
DESCRIPTION:Comp wedstrijd 177: Edging Eagels - Team Delirium
X-ALT-DESC;FMTTYPE=text/html:Comp wedstrijd 177: <b>Edging Eagels - Team De
 lirium</b> te Lagae
X-MICROSOFT-CDO-BUSYSTATUS:FREE
X-MICROSOFT-CDO-INTENDEDSTATUS:FREE
DTSTAMP:20260423T090429Z
BEGIN:VALARM
TRIGGER:-P1D
ACTION:DISPLAY
DESCRIPTION:Comp wedstrijd 177: Edging Eagels - Team Delirium
END:VALARM
END:VEVENT
BEGIN:VEVENT
UID:69e9e09d3dee7
DTSTART:20251106T183000Z
SEQUENCE:0
TRANSP:OPAQUE
LOCATION:Bissegem
SUMMARY:Wedstrijd 192 KMVV
CLASS:PUBLIC
DESCRIPTION:Comp wedstrijd 192: Team Delirium - Pumas
X-ALT-DESC;FMTTYPE=text/html:Comp wedstrijd 192: <b>Team Delirium - Pumas</
 b> te Bissegem
X-MICROSOFT-CDO-BUSYSTATUS:FREE
X-MICROSOFT-CDO-INTENDEDSTATUS:FREE
DTSTAMP:20260423T090429Z
BEGIN:VALARM
TRIGGER:-P1D
ACTION:DISPLAY
DESCRIPTION:Comp wedstrijd 192: Team Delirium - Pumas
END:VALARM
END:VEVENT
BEGIN:VEVENT
UID:69e9e09d3def9
DTSTART:20251113T193000Z
SEQUENCE:0
TRANSP:OPAQUE
LOCATION:Bissegem
SUMMARY:Wedstrijd 214 KMVV
CLASS:PUBLIC
DESCRIPTION:Comp wedstrijd 214: Team Delirium - fc pottelberg
X-ALT-DESC;FMTTYPE=text/html:Comp wedstrijd 214: <b>Team Delirium - fc pott
 elberg</b> te Bissegem
X-MICROSOFT-CDO-BUSYSTATUS:FREE
X-MICROSOFT-CDO-INTENDEDSTATUS:FREE
DTSTAMP:20260423T090429Z
BEGIN:VALARM
TRIGGER:-P1D
ACTION:DISPLAY
DESCRIPTION:Comp wedstrijd 214: Team Delirium - fc pottelberg
END:VALARM
END:VEVENT
BEGIN:VEVENT
UID:69e9e09d3df0b
DTSTART:20251126T200000Z
SEQUENCE:0
TRANSP:OPAQUE
LOCATION:Rollegem
SUMMARY:Wedstrijd 252 KMVV
CLASS:PUBLIC
DESCRIPTION:Comp wedstrijd 252: RFC Oenanthe - Team Delirium
X-ALT-DESC;FMTTYPE=text/html:Comp wedstrijd 252: <b>RFC Oenanthe - Team Del
 irium</b> te Rollegem
X-MICROSOFT-CDO-BUSYSTATUS:FREE
X-MICROSOFT-CDO-INTENDEDSTATUS:FREE
DTSTAMP:20260423T090429Z
BEGIN:VALARM
TRIGGER:-P1D
ACTION:DISPLAY
DESCRIPTION:Comp wedstrijd 252: RFC Oenanthe - Team Delirium
END:VALARM
END:VEVENT
BEGIN:VEVENT
UID:69e9e09d3df1b
DTSTART:20251211T170000Z
SEQUENCE:0
TRANSP:OPAQUE
LOCATION:Lagae
SUMMARY:Wedstrijd 296 KMVV
CLASS:PUBLIC
DESCRIPTION:Comp wedstrijd 296: AS Rodenburg - Team Delirium
X-ALT-DESC;FMTTYPE=text/html:Comp wedstrijd 296: <b>AS Rodenburg - Team Del
 irium</b> te Lagae
X-MICROSOFT-CDO-BUSYSTATUS:FREE
X-MICROSOFT-CDO-INTENDEDSTATUS:FREE
DTSTAMP:20260423T090429Z
BEGIN:VALARM
TRIGGER:-P1D
ACTION:DISPLAY
DESCRIPTION:Comp wedstrijd 296: AS Rodenburg - Team Delirium
END:VALARM
END:VEVENT
BEGIN:VEVENT
UID:69e9e09d3df2d
DTSTART:20251218T193000Z
SEQUENCE:0
TRANSP:OPAQUE
LOCATION:Bissegem
SUMMARY:Wedstrijd 313 KMVV
CLASS:PUBLIC
DESCRIPTION:Comp wedstrijd 313: Team Delirium - Café 1917 seniors
X-ALT-DESC;FMTTYPE=text/html:Comp wedstrijd 313: <b>Team Delirium - Café 1
 917 seniors</b> te Bissegem
X-MICROSOFT-CDO-BUSYSTATUS:FREE
X-MICROSOFT-CDO-INTENDEDSTATUS:FREE
DTSTAMP:20260423T090429Z
BEGIN:VALARM
TRIGGER:-P1D
ACTION:DISPLAY
DESCRIPTION:Comp wedstrijd 313: Team Delirium - Café 1917 seniors
END:VALARM
END:VEVENT
BEGIN:VEVENT
UID:69e9e09d3df49
DTSTART:20260119T200000Z
SEQUENCE:0
TRANSP:OPAQUE
LOCATION:Rollegem
SUMMARY:Wedstrijd 387 KMVV
CLASS:PUBLIC
DESCRIPTION:Comp wedstrijd 387: Team Delirium - Edging Eagels
X-ALT-DESC;FMTTYPE=text/html:Comp wedstrijd 387: <b>Team Delirium - Edging 
 Eagels</b> te Rollegem
X-MICROSOFT-CDO-BUSYSTATUS:FREE
X-MICROSOFT-CDO-INTENDEDSTATUS:FREE
DTSTAMP:20260423T090429Z
BEGIN:VALARM
TRIGGER:-P1D
ACTION:DISPLAY
DESCRIPTION:Comp wedstrijd 387: Team Delirium - Edging Eagels
END:VALARM
END:VEVENT
BEGIN:VEVENT
UID:69e9e09d3df5b
DTSTART:20260202T203000Z
SEQUENCE:0
TRANSP:OPAQUE
LOCATION:Bissegem
SUMMARY:Wedstrijd 362 KMVV
CLASS:PUBLIC
DESCRIPTION:Comp wedstrijd 362: Pumas - Team Delirium
X-ALT-DESC;FMTTYPE=text/html:Comp wedstrijd 362: <b>Pumas - Team Delirium</
 b> te Bissegem
X-MICROSOFT-CDO-BUSYSTATUS:FREE
X-MICROSOFT-CDO-INTENDEDSTATUS:FREE
DTSTAMP:20260423T090429Z
BEGIN:VALARM
TRIGGER:-P1D
ACTION:DISPLAY
DESCRIPTION:Comp wedstrijd 362: Pumas - Team Delirium
END:VALARM
END:VEVENT
BEGIN:VEVENT
UID:69e9e09d3df6d
DTSTART:20260220T170000Z
SEQUENCE:0
TRANSP:OPAQUE
LOCATION:Rollegem
SUMMARY:Wedstrijd 424 KMVV
CLASS:PUBLIC
DESCRIPTION:Comp wedstrijd 424: Team Delirium - MVC Baliboys
X-ALT-DESC;FMTTYPE=text/html:Comp wedstrijd 424: <b>Team Delirium - MVC Bal
 iboys</b> te Rollegem
X-MICROSOFT-CDO-BUSYSTATUS:FREE
X-MICROSOFT-CDO-INTENDEDSTATUS:FREE
DTSTAMP:20260423T090429Z
BEGIN:VALARM
TRIGGER:-P1D
ACTION:DISPLAY
DESCRIPTION:Comp wedstrijd 424: Team Delirium - MVC Baliboys
END:VALARM
END:VEVENT
BEGIN:VEVENT
UID:69e9e09d3df7e
DTSTART:20260226T193000Z
SEQUENCE:0
TRANSP:OPAQUE
LOCATION:Rollegem
SUMMARY:Wedstrijd 443 KMVV
CLASS:PUBLIC
DESCRIPTION:Comp wedstrijd 443: RFC Oenanthe - Team Delirium
X-ALT-DESC;FMTTYPE=text/html:Comp wedstrijd 443: <b>RFC Oenanthe - Team Del
 irium</b> te Rollegem
X-MICROSOFT-CDO-BUSYSTATUS:FREE
X-MICROSOFT-CDO-INTENDEDSTATUS:FREE
DTSTAMP:20260423T090429Z
BEGIN:VALARM
TRIGGER:-P1D
ACTION:DISPLAY
DESCRIPTION:Comp wedstrijd 443: RFC Oenanthe - Team Delirium
END:VALARM
END:VEVENT
BEGIN:VEVENT
UID:69e9e09d3df90
DTSTART:20260316T200000Z
SEQUENCE:0
TRANSP:OPAQUE
LOCATION:Rollegem
SUMMARY:Wedstrijd 495 KMVV
CLASS:PUBLIC
DESCRIPTION:Comp wedstrijd 495: AS Rodenburg - Team Delirium
X-ALT-DESC;FMTTYPE=text/html:Comp wedstrijd 495: <b>AS Rodenburg - Team Del
 irium</b> te Rollegem
X-MICROSOFT-CDO-BUSYSTATUS:FREE
X-MICROSOFT-CDO-INTENDEDSTATUS:FREE
DTSTAMP:20260423T090429Z
BEGIN:VALARM
TRIGGER:-P1D
ACTION:DISPLAY
DESCRIPTION:Comp wedstrijd 495: AS Rodenburg - Team Delirium
END:VALARM
END:VEVENT
BEGIN:VEVENT
UID:69e9e09d3dfa2
DTSTART:20260330T180000Z
SEQUENCE:0
TRANSP:OPAQUE
LOCATION:Rollegem
SUMMARY:Wedstrijd 528 KMVV
CLASS:PUBLIC
DESCRIPTION:Comp wedstrijd 528: Team Delirium - Café 1917 seniors
X-ALT-DESC;FMTTYPE=text/html:Comp wedstrijd 528: <b>Team Delirium - Café 1
 917 seniors</b> te Rollegem
X-MICROSOFT-CDO-BUSYSTATUS:FREE
X-MICROSOFT-CDO-INTENDEDSTATUS:FREE
DTSTAMP:20260423T090429Z
BEGIN:VALARM
TRIGGER:-P1D
ACTION:DISPLAY
DESCRIPTION:Comp wedstrijd 528: Team Delirium - Café 1917 seniors
END:VALARM
END:VEVENT
BEGIN:VEVENT
UID:69e9e09d3dfb7
DTSTART:20260420T193000Z
SEQUENCE:0
TRANSP:OPAQUE
LOCATION:Bissegem
SUMMARY:Wedstrijd 569 KMVV
CLASS:PUBLIC
DESCRIPTION:Comp wedstrijd 569: Pumas - Team Delirium
X-ALT-DESC;FMTTYPE=text/html:Comp wedstrijd 569: <b>Pumas - Team Delirium</
 b> te Bissegem
X-MICROSOFT-CDO-BUSYSTATUS:FREE
X-MICROSOFT-CDO-INTENDEDSTATUS:FREE
DTSTAMP:20260423T090429Z
BEGIN:VALARM
TRIGGER:-P1D
ACTION:DISPLAY
DESCRIPTION:Comp wedstrijd 569: Pumas - Team Delirium
END:VALARM
END:VEVENT
BEGIN:VEVENT
UID:69e9e09d3dfc8
DTSTART:20260430T183000Z
SEQUENCE:0
TRANSP:OPAQUE
LOCATION:Bissegem
SUMMARY:Wedstrijd 602 KMVV
CLASS:PUBLIC
DESCRIPTION:Comp wedstrijd 602: Team Delirium - CSR
X-ALT-DESC;FMTTYPE=text/html:Comp wedstrijd 602: <b>Team Delirium - CSR</b>
  te Bissegem
X-MICROSOFT-CDO-BUSYSTATUS:FREE
X-MICROSOFT-CDO-INTENDEDSTATUS:FREE
DTSTAMP:20260423T090429Z
BEGIN:VALARM
TRIGGER:-P1D
ACTION:DISPLAY
DESCRIPTION:Comp wedstrijd 602: Team Delirium - CSR
END:VALARM
END:VEVENT
BEGIN:VEVENT
UID:69e9e09d3dfd9
DTSTART:20260504T190000Z
SEQUENCE:0
TRANSP:OPAQUE
LOCATION:Rollegem
SUMMARY:Wedstrijd 614 KMVV
CLASS:PUBLIC
DESCRIPTION:Comp wedstrijd 614: MVC Baliboys - Team Delirium
X-ALT-DESC;FMTTYPE=text/html:Comp wedstrijd 614: <b>MVC Baliboys - Team Del
 irium</b> te Rollegem
X-MICROSOFT-CDO-BUSYSTATUS:FREE
X-MICROSOFT-CDO-INTENDEDSTATUS:FREE
DTSTAMP:20260423T090429Z
BEGIN:VALARM
TRIGGER:-P1D
ACTION:DISPLAY
DESCRIPTION:Comp wedstrijd 614: MVC Baliboys - Team Delirium
END:VALARM
END:VEVENT
BEGIN:VEVENT
UID:69e9e09d3dfe9
DTSTART:20260518T180000Z
SEQUENCE:0
TRANSP:OPAQUE
LOCATION:Rollegem
SUMMARY:Wedstrijd 648 KMVV
CLASS:PUBLIC
DESCRIPTION:Comp wedstrijd 648: Team Delirium - RFC Oenanthe
X-ALT-DESC;FMTTYPE=text/html:Comp wedstrijd 648: <b>Team Delirium - RFC Oen
 anthe</b> te Rollegem
X-MICROSOFT-CDO-BUSYSTATUS:FREE
X-MICROSOFT-CDO-INTENDEDSTATUS:FREE
DTSTAMP:20260423T090429Z
BEGIN:VALARM
TRIGGER:-P1D
ACTION:DISPLAY
DESCRIPTION:Comp wedstrijd 648: Team Delirium - RFC Oenanthe
END:VALARM
END:VEVENT
BEGIN:VEVENT
UID:69e9e09d3dffa
DTSTART:20260603T180000Z
SEQUENCE:0
TRANSP:OPAQUE
LOCATION:Rollegem
SUMMARY:Wedstrijd 699 KMVV
CLASS:PUBLIC
DESCRIPTION:Comp wedstrijd 699: Café 1917 seniors - Team Delirium
X-ALT-DESC;FMTTYPE=text/html:Comp wedstrijd 699: <b>Café 1917 seniors - Te
 am Delirium</b> te Rollegem
X-MICROSOFT-CDO-BUSYSTATUS:FREE
X-MICROSOFT-CDO-INTENDEDSTATUS:FREE
DTSTAMP:20260423T090429Z
BEGIN:VALARM
TRIGGER:-P1D
ACTION:DISPLAY
DESCRIPTION:Comp wedstrijd 699: Café 1917 seniors - Team Delirium
END:VALARM
END:VEVENT
BEGIN:VEVENT
UID:69e9e09d3e00a
DTSTART:20260618T183000Z
SEQUENCE:0
TRANSP:OPAQUE
LOCATION:Rollegem
SUMMARY:Wedstrijd 766 KMVV
CLASS:PUBLIC
DESCRIPTION:Comp wedstrijd 766: CSR - Team Delirium
X-ALT-DESC;FMTTYPE=text/html:Comp wedstrijd 766: <b>CSR - Team Delirium</b>
  te Rollegem
X-MICROSOFT-CDO-BUSYSTATUS:FREE
X-MICROSOFT-CDO-INTENDEDSTATUS:FREE
DTSTAMP:20260423T090429Z
BEGIN:VALARM
TRIGGER:-P1D
ACTION:DISPLAY
DESCRIPTION:Comp wedstrijd 766: CSR - Team Delirium
END:VALARM
END:VEVENT
BEGIN:VEVENT
UID:69e9e09d3e01b
DTSTART:20260626T170000Z
SEQUENCE:0
TRANSP:OPAQUE
LOCATION:Rollegem
SUMMARY:Wedstrijd 799 KMVV
CLASS:PUBLIC
DESCRIPTION:Comp wedstrijd 799: Team Delirium - Pumas
X-ALT-DESC;FMTTYPE=text/html:Comp wedstrijd 799: <b>Team Delirium - Pumas</
 b> te Rollegem
X-MICROSOFT-CDO-BUSYSTATUS:FREE
X-MICROSOFT-CDO-INTENDEDSTATUS:FREE
DTSTAMP:20260423T090429Z
BEGIN:VALARM
TRIGGER:-P1D
ACTION:DISPLAY
DESCRIPTION:Comp wedstrijd 799: Team Delirium - Pumas
END:VALARM
END:VEVENT
BEGIN:VEVENT
UID:69e9e09d3e02b
DTSTART:20260629T160000Z
SEQUENCE:0
TRANSP:OPAQUE
LOCATION:Rollegem
SUMMARY:Wedstrijd 807 KMVV
CLASS:PUBLIC
DESCRIPTION:Comp wedstrijd 807: Team Delirium - AS Rodenburg
X-ALT-DESC;FMTTYPE=text/html:Comp wedstrijd 807: <b>Team Delirium - AS Rode
 nburg</b> te Rollegem
X-MICROSOFT-CDO-BUSYSTATUS:FREE
X-MICROSOFT-CDO-INTENDEDSTATUS:FREE
DTSTAMP:20260423T090429Z
BEGIN:VALARM
TRIGGER:-P1D
ACTION:DISPLAY
DESCRIPTION:Comp wedstrijd 807: Team Delirium - AS Rodenburg
END:VALARM
END:VEVENT
END:VCALENDAR